BEGIN:VCALENDAR
VERSION:2.0
PRODID:-//茶宝 Qbubble - ECPv6.15.20//NONSGML v1.0//EN
CALSCALE:GREGORIAN
METHOD:PUBLISH
X-ORIGINAL-URL:https://qbubble.com
X-WR-CALDESC:Events for 茶宝 Qbubble
REFRESH-INTERVAL;VALUE=DURATION:PT1H
X-Robots-Tag:noindex
X-PUBLISHED-TTL:PT1H
BEGIN:VTIMEZONE
TZID:America/New_York
BEGIN:DAYLIGHT
TZOFFSETFROM:-0500
TZOFFSETTO:-0400
TZNAME:EDT
DTSTART:20240310T070000
END:DAYLIGHT
BEGIN:STANDARD
TZOFFSETFROM:-0400
TZOFFSETTO:-0500
TZNAME:EST
DTSTART:20241103T060000
END:STANDARD
BEGIN:DAYLIGHT
TZOFFSETFROM:-0500
TZOFFSETTO:-0400
TZNAME:EDT
DTSTART:20250309T070000
END:DAYLIGHT
BEGIN:STANDARD
TZOFFSETFROM:-0400
TZOFFSETTO:-0500
TZNAME:EST
DTSTART:20251102T060000
END:STANDARD
BEGIN:DAYLIGHT
TZOFFSETFROM:-0500
TZOFFSETTO:-0400
TZNAME:EDT
DTSTART:20260308T070000
END:DAYLIGHT
BEGIN:STANDARD
TZOFFSETFROM:-0400
TZOFFSETTO:-0500
TZNAME:EST
DTSTART:20261101T060000
END:STANDARD
BEGIN:DAYLIGHT
TZOFFSETFROM:-0500
TZOFFSETTO:-0400
TZNAME:EDT
DTSTART:20270314T070000
END:DAYLIGHT
BEGIN:STANDARD
TZOFFSETFROM:-0400
TZOFFSETTO:-0500
TZNAME:EST
DTSTART:20271107T060000
END:STANDARD
END:VTIMEZONE
BEGIN:VEVENT
DTSTART;TZID=America/New_York:20251202T140000
DTEND;TZID=America/New_York:20251202T160000
DTSTAMP:20260423T065822
CREATED:20251125T153526Z
LAST-MODIFIED:20251125T153650Z
UID:8519-1764684000-1764691200@qbubble.com
SUMMARY:In-Person Specialty Bubble Tea Class
DESCRIPTION:Thinking of upgrading your menu to go with the trend? Perfect in-person class for you! This week’s in-person class will be demonstrating some of the trendy bubble tea drinks using Qbubble’s products such as Brown Sugar Boba Milk Tea\, Crème Brulee Milk Tea\, Jasmin Thai Milk Tea and Sparkling drinks -Passion Fruit Sparking Tea & Grapefruit Sparkling and many more!
URL:https://qbubble.com/event/in-person-specialty-bubble-tea-class-12/
ORGANIZER;CN="QBubble":MAILTO:info@qbubble.com
END:VEVENT
BEGIN:VEVENT
DTSTART;TZID=America/New_York:20251204T140000
DTEND;TZID=America/New_York:20251204T160000
DTSTAMP:20260423T065822
CREATED:20251125T153757Z
LAST-MODIFIED:20251125T153954Z
UID:8522-1764856800-1764864000@qbubble.com
SUMMARY:Online Bubble Tea Zoom Class
DESCRIPTION:Looking to find a break through point for your business? This class is for you. \nOur Zoom online bubble tea class will demo some classic and delicious bubble tea drinks this week! Classic Boba Milk Tea\, Assam Milk Tea\, Passionfruit Green Tea\, Cappuccino Slush\, Strawberry Smoothie and many more! \nThe class will also teach how to (properly) brew black and green tea\, cook the tender tapioca\, create drinks for your store and how to blend delicious smoothies. \nYes! We are a wholesale company that specializes bubble tea varieties\, so you will find milk foam bubble tea\, color changing beet powder\, blue syrup and more stuff than you could think of. \nCustomers will also have a chance to see the varieties and latest products in Qbubble!
URL:https://qbubble.com/event/online-bubble-tea-zoom-class-91/
ORGANIZER;CN="QBubble":MAILTO:info@qbubble.com
END:VEVENT
BEGIN:VEVENT
DTSTART;TZID=America/New_York:20251211T140000
DTEND;TZID=America/New_York:20251211T160000
DTSTAMP:20260423T065822
CREATED:20251125T153918Z
LAST-MODIFIED:20251125T153918Z
UID:8524-1765461600-1765468800@qbubble.com
SUMMARY:In-Person Bubble Tea Class
DESCRIPTION:Looking to find a break through point for your business? This class is for you! \nOur in-person bubble tea class will demo some classic and delicious bubble tea drinks this week! Classic Boba Milk Tea\, Assam Milk Tea\, Passionfruit Green Tea\, Cappuccino Slush\, Strawberry Smoothie and many more! \nThe class will also teach how to (properly) brew black and green tea\, to cook the tender tapioca\, to create drinks for your store and how to blend delicious smoothies. \nYes! We are a wholesale company that specializes bubble tea varieties\, so you will find milk foam bubble tea\, color changing beet powder\, blue syrup and more stuff than you could think of. \nCustomers will also have a chance to see and taste the varieties and latest products in Qbubble!
URL:https://qbubble.com/event/in-person-bubble-tea-class-53/
ORGANIZER;CN="QBubble":MAILTO:info@qbubble.com
END:VEVENT
BEGIN:VEVENT
DTSTART;TZID=America/New_York:20251216T140000
DTEND;TZID=America/New_York:20251216T160000
DTSTAMP:20260423T065822
CREATED:20251215T183330Z
LAST-MODIFIED:20251215T183330Z
UID:8550-1765893600-1765900800@qbubble.com
SUMMARY:Specialty Online Bubble Tea Class
DESCRIPTION:Thinking of upgrading your menu to go with the trend? Perfect online class for you! \nThis week’s online class will be demonstrating some of the all time trendy bubble tea drinks such as Brown Sugar Boba Milk Tea\, Crème Brulee Milk Tea\, Matcha Thai Milk Tea\, easily made Sparkling drink series such as Passionfruit Sparkling\, Grapefruit Sparkling Tea. In addition – two Holiday & Winter special – Jasmine Green Milk Tea with Strawberry Cold Foam & Blue Candy Frost and new item – Golden Oolong Tea! \nYes! We are a wholesale company that specialize bubble tea varieties\, so you will find milk foam bubble tea\, color changing beet powder\, blue syrup and more stuff than you could think of. You will get to see our newest products and recipes at the class!
URL:https://qbubble.com/event/specialty-online-bubble-tea-class-14/
ORGANIZER;CN="QBubble":MAILTO:info@qbubble.com
END:VEVENT
BEGIN:VEVENT
DTSTART;TZID=America/New_York:20251218T140000
DTEND;TZID=America/New_York:20251218T160000
DTSTAMP:20260423T065822
CREATED:20251215T183438Z
LAST-MODIFIED:20251215T183438Z
UID:8552-1766066400-1766073600@qbubble.com
SUMMARY:Online Bubble Tea Zoom Class
DESCRIPTION:Looking to find a break through point for your business? This class is for you. \nOur Zoom online bubble tea class will demo some classic and delicious bubble tea drinks this week! Classic Boba Milk Tea\, Assam Milk Tea\, Passionfruit Green Tea\, Cappuccino Slush\, Strawberry Smoothie and many more! \nThe class will also teach how to (properly) brew black and green tea\, cook the tender tapioca\, create drinks for your store and how to blend delicious smoothies. \nYes! We are a wholesale company that specializes bubble tea varieties\, so you will find milk foam bubble tea\, color changing beet powder\, blue syrup and more stuff than you could think of. \nCustomers will also have a chance to see the varieties and latest products in Qbubble!
URL:https://qbubble.com/event/online-bubble-tea-zoom-class-92/
ORGANIZER;CN="QBubble":MAILTO:info@qbubble.com
END:VEVENT
BEGIN:VEVENT
DTSTART;TZID=America/New_York:20251224T160000
DTEND;TZID=America/New_York:20251225T180000
DTSTAMP:20260423T065822
CREATED:20251215T184214Z
LAST-MODIFIED:20251215T184214Z
UID:8554-1766592000-1766685600@qbubble.com
SUMMARY:Christmas Delivery Change
DESCRIPTION:We will close early on Christmas Eve (12/24) at 4pm and close on Christmas (12/25). \n12/23 (Tues) will be NJ and Upstate Delivery. \nPlease place your order early to avoid any inventory shortage!
URL:https://qbubble.com/event/christmas-delivery-change-4/
ORGANIZER;CN="QBubble":MAILTO:info@qbubble.com
END:VEVENT
BEGIN:VEVENT
DTSTART;TZID=America/New_York:20251231T160000
DTEND;TZID=America/New_York:20260101T180000
DTSTAMP:20260423T065822
CREATED:20251215T185726Z
LAST-MODIFIED:20251215T185726Z
UID:8556-1767196800-1767290400@qbubble.com
SUMMARY:New Year Delivery Change
DESCRIPTION:We will close early at 4pm on New Years Eve (01/31) and close for New Years (1/1). \n12/29 (Mon) will be NYC & NJ Delivery and 12/30 (Tues) will be CT/MA delivery.
URL:https://qbubble.com/event/new-year-delivery-change/
ORGANIZER;CN="QBubble":MAILTO:info@qbubble.com
END:VEVENT
END:VCALENDAR