BEGIN:VCALENDAR
VERSION:2.0
PRODID:-//茶宝 Qbubble - ECPv6.15.20//NONSGML v1.0//EN
CALSCALE:GREGORIAN
METHOD:PUBLISH
X-WR-CALNAME:茶宝 Qbubble
X-ORIGINAL-URL:https://qbubble.com
X-WR-CALDESC:Events for 茶宝 Qbubble
REFRESH-INTERVAL;VALUE=DURATION:PT1H
X-Robots-Tag:noindex
X-PUBLISHED-TTL:PT1H
BEGIN:VTIMEZONE
TZID:America/New_York
BEGIN:DAYLIGHT
TZOFFSETFROM:-0500
TZOFFSETTO:-0400
TZNAME:EDT
DTSTART:20240310T070000
END:DAYLIGHT
BEGIN:STANDARD
TZOFFSETFROM:-0400
TZOFFSETTO:-0500
TZNAME:EST
DTSTART:20241103T060000
END:STANDARD
BEGIN:DAYLIGHT
TZOFFSETFROM:-0500
TZOFFSETTO:-0400
TZNAME:EDT
DTSTART:20250309T070000
END:DAYLIGHT
BEGIN:STANDARD
TZOFFSETFROM:-0400
TZOFFSETTO:-0500
TZNAME:EST
DTSTART:20251102T060000
END:STANDARD
BEGIN:DAYLIGHT
TZOFFSETFROM:-0500
TZOFFSETTO:-0400
TZNAME:EDT
DTSTART:20260308T070000
END:DAYLIGHT
BEGIN:STANDARD
TZOFFSETFROM:-0400
TZOFFSETTO:-0500
TZNAME:EST
DTSTART:20261101T060000
END:STANDARD
END:VTIMEZONE
BEGIN:VEVENT
DTSTART;TZID=America/New_York:20250702T140000
DTEND;TZID=America/New_York:20250702T160000
DTSTAMP:20260423T224557
CREATED:20250625T182506Z
LAST-MODIFIED:20250625T182506Z
UID:8413-1751464800-1751472000@qbubble.com
SUMMARY:Online Bubble Tea Zoom Class
DESCRIPTION:Looking to find a break through point for your business? This class is for you. \nOur Zoom online bubble tea class will demo some classic and delicious bubble tea drinks this week! Classic Boba Milk Tea\, Assam Milk Tea\, Passionfruit Green Tea\, Cappuccino Slush\, Strawberry Smoothie and many more! \nThe class will also teach how to (properly) brew black and green tea\, cook the tender tapioca\, create drinks for your store and how to blend delicious smoothies. \nYes! We are a wholesale company that specializes bubble tea varieties\, so you will find milk foam bubble tea\, color changing beet powder\, blue syrup and more stuff than you could think of. \nCustomers will also have a chance to see the varieties and latest products in Qbubble!
URL:https://qbubble.com/event/online-bubble-tea-zoom-class-86/
ORGANIZER;CN="QBubble":MAILTO:info@qbubble.com
END:VEVENT
BEGIN:VEVENT
DTSTART;VALUE=DATE:20250704
DTEND;VALUE=DATE:20250705
DTSTAMP:20260423T224557
CREATED:20250625T183028Z
LAST-MODIFIED:20250625T183028Z
UID:8419-1751587200-1751673599@qbubble.com
SUMMARY:July 4th Delivery Change
DESCRIPTION:We will be closed on 07/04/2025 (Friday) in celebration of Independence Day. NYC delivery schedule will be on 7/2 (Wed)\, 7/5 (Sat) with limited space and 7/7 (Mon). Orders placed by email\, text and Wechat after business hours will be arranged for the NEXT delivery date!
URL:https://qbubble.com/event/july-4th-delivery-change-3/
ORGANIZER;CN="QBubble":MAILTO:info@qbubble.com
END:VEVENT
BEGIN:VEVENT
DTSTART;TZID=America/New_York:20250708T140000
DTEND;TZID=America/New_York:20250708T160000
DTSTAMP:20260423T224557
CREATED:20250625T182731Z
LAST-MODIFIED:20250625T182731Z
UID:8415-1751983200-1751990400@qbubble.com
SUMMARY:Specialty Online Bubble Tea Class
DESCRIPTION:Thinking of upgrading your menu to go with the trend? Perfect online class for you! \nThis week’s online class will be demonstrating some of the trendy bubble tea drinks such as Brown Sugar Boba Milk Tea\, Crème Brulee Milk Tea\, Jasmine Thai Milk Tea\, easily made Sparkling drink series such as Passionfruit Sparkling\, Grapefruit Sparkling Tea\, and many more! \nYes! We are a wholesale company that specialize bubble tea varieties\, so you will find milk foam bubble tea\, color changing beet powder\, blue syrup and more stuff than you could think of. You will get to see our newest products and recipes at the class!
URL:https://qbubble.com/event/specialty-online-bubble-tea-class-11/
ORGANIZER;CN="QBubble":MAILTO:info@qbubble.com
END:VEVENT
BEGIN:VEVENT
DTSTART;TZID=America/New_York:20250710T140000
DTEND;TZID=America/New_York:20250710T160000
DTSTAMP:20260423T224557
CREATED:20250625T182827Z
LAST-MODIFIED:20250625T182827Z
UID:8417-1752156000-1752163200@qbubble.com
SUMMARY:In-Person Bubble Tea Class
DESCRIPTION:Looking to find a break through point for your business? This class is for you! \nOur in-person bubble tea class will demo some classic and delicious bubble tea drinks this week! Classic Boba Milk Tea\, Assam Milk Tea\, Passionfruit Green Tea\, Cappuccino Slush\, Strawberry Smoothie and many more! \nThe class will also teach how to (properly) brew black and green tea\, to cook the tender tapioca\, to create drinks for your store and how to blend delicious smoothies. \nYes! We are a wholesale company that specializes bubble tea varieties\, so you will find milk foam bubble tea\, color changing beet powder\, blue syrup and more stuff than you could think of. \nCustomers will also have a chance to see and taste the varieties and latest products in Qbubble!
URL:https://qbubble.com/event/in-person-bubble-tea-class-48/
ORGANIZER;CN="QBubble":MAILTO:info@qbubble.com
END:VEVENT
BEGIN:VEVENT
DTSTART;TZID=America/New_York:20250717T140000
DTEND;TZID=America/New_York:20250717T160000
DTSTAMP:20260423T224558
CREATED:20250709T190324Z
LAST-MODIFIED:20250709T190324Z
UID:8433-1752760800-1752768000@qbubble.com
SUMMARY:Online Bubble Tea Zoom Class
DESCRIPTION:Looking to find a break through point for your business? This class is for you. \nOur Zoom online bubble tea class will demo some classic and delicious bubble tea drinks this week! Classic Boba Milk Tea\, Assam Milk Tea\, Passionfruit Green Tea\, Cappuccino Slush\, Strawberry Smoothie and many more! \nThe class will also teach how to (properly) brew black and green tea\, cook the tender tapioca\, create drinks for your store and how to blend delicious smoothies. \nYes! We are a wholesale company that specializes bubble tea varieties\, so you will find milk foam bubble tea\, color changing beet powder\, blue syrup and more stuff than you could think of. \nCustomers will also have a chance to see the varieties and latest products in Qbubble!
URL:https://qbubble.com/event/online-bubble-tea-zoom-class-87/
ORGANIZER;CN="QBubble":MAILTO:info@qbubble.com
END:VEVENT
BEGIN:VEVENT
DTSTART;TZID=America/New_York:20250724T140000
DTEND;TZID=America/New_York:20250724T160000
DTSTAMP:20260423T224558
CREATED:20250709T190425Z
LAST-MODIFIED:20250709T190425Z
UID:8435-1753365600-1753372800@qbubble.com
SUMMARY:In-Person Bubble Tea Class
DESCRIPTION:Looking to find a break through point for your business? This class is for you! \nOur in-person bubble tea class will demo some classic and delicious bubble tea drinks this week! Classic Boba Milk Tea\, Assam Milk Tea\, Passionfruit Green Tea\, Cappuccino Slush\, Strawberry Smoothie and many more! \nThe class will also teach how to (properly) brew black and green tea\, to cook the tender tapioca\, to create drinks for your store and how to blend delicious smoothies. \nYes! We are a wholesale company that specializes bubble tea varieties\, so you will find milk foam bubble tea\, color changing beet powder\, blue syrup and more stuff than you could think of. \nCustomers will also have a chance to see and taste the varieties and latest products in Qbubble!
URL:https://qbubble.com/event/in-person-bubble-tea-class-49/
ORGANIZER;CN="QBubble":MAILTO:info@qbubble.com
END:VEVENT
BEGIN:VEVENT
DTSTART;TZID=America/New_York:20250731T140000
DTEND;TZID=America/New_York:20250731T160000
DTSTAMP:20260423T224558
CREATED:20250709T190547Z
LAST-MODIFIED:20250709T190547Z
UID:8437-1753970400-1753977600@qbubble.com
SUMMARY:Online Bubble Tea Zoom Class
DESCRIPTION:Looking to find a break through point for your business? This class is for you. \nOur Zoom online bubble tea class will demo some classic and delicious bubble tea drinks this week! Classic Boba Milk Tea\, Assam Milk Tea\, Passionfruit Green Tea\, Cappuccino Slush\, Strawberry Smoothie and many more! \nThe class will also teach how to (properly) brew black and green tea\, cook the tender tapioca\, create drinks for your store and how to blend delicious smoothies. \nYes! We are a wholesale company that specializes bubble tea varieties\, so you will find milk foam bubble tea\, color changing beet powder\, blue syrup and more stuff than you could think of. \nCustomers will also have a chance to see the varieties and latest products in Qbubble!
URL:https://qbubble.com/event/online-bubble-tea-zoom-class-88/
ORGANIZER;CN="QBubble":MAILTO:info@qbubble.com
END:VEVENT
END:VCALENDAR