BEGIN:VCALENDAR
VERSION:2.0
PRODID:-//茶宝 Qbubble - ECPv6.15.20//NONSGML v1.0//EN
CALSCALE:GREGORIAN
METHOD:PUBLISH
X-ORIGINAL-URL:https://qbubble.com
X-WR-CALDESC:Events for 茶宝 Qbubble
REFRESH-INTERVAL;VALUE=DURATION:PT1H
X-Robots-Tag:noindex
X-PUBLISHED-TTL:PT1H
BEGIN:VTIMEZONE
TZID:America/New_York
BEGIN:DAYLIGHT
TZOFFSETFROM:-0500
TZOFFSETTO:-0400
TZNAME:EDT
DTSTART:20240310T070000
END:DAYLIGHT
BEGIN:STANDARD
TZOFFSETFROM:-0400
TZOFFSETTO:-0500
TZNAME:EST
DTSTART:20241103T060000
END:STANDARD
BEGIN:DAYLIGHT
TZOFFSETFROM:-0500
TZOFFSETTO:-0400
TZNAME:EDT
DTSTART:20250309T070000
END:DAYLIGHT
BEGIN:STANDARD
TZOFFSETFROM:-0400
TZOFFSETTO:-0500
TZNAME:EST
DTSTART:20251102T060000
END:STANDARD
BEGIN:DAYLIGHT
TZOFFSETFROM:-0500
TZOFFSETTO:-0400
TZNAME:EDT
DTSTART:20260308T070000
END:DAYLIGHT
BEGIN:STANDARD
TZOFFSETFROM:-0400
TZOFFSETTO:-0500
TZNAME:EST
DTSTART:20261101T060000
END:STANDARD
END:VTIMEZONE
BEGIN:VEVENT
DTSTART;TZID=America/New_York:20250514T140000
DTEND;TZID=America/New_York:20250514T160000
DTSTAMP:20260424T022815
CREATED:20250418T171408Z
LAST-MODIFIED:20250418T171658Z
UID:8344-1747231200-1747238400@qbubble.com
SUMMARY:In-Person Specialty Bubble Tea Class
DESCRIPTION:Thinking of upgrading your menu to go with the trend? Perfect in-person class for you! \nThis week’s in-person class will be demonstrating some of the trendy bubble tea drinks using Qbubble’s products such as Brown Sugar Boba Milk Tea\, Crème Brulee Milk Tea\, Jasmin Thai Milk Tea and Sparkling drinks -Passion Fruit Sparking Tea & Grapefruit Sparkling and many more! \nYes! We are a wholesale company that specialize bubble tea varieties\, so you will find milk foam bubble tea\, color changing beet powder\, blue syrup and more stuff than you could think of. You will get to see our newest products and recipes at the class!
URL:https://qbubble.com/event/8344/
ORGANIZER;CN="QBubble":MAILTO:info@qbubble.com
END:VEVENT
BEGIN:VEVENT
DTSTART;TZID=America/New_York:20250515T140000
DTEND;TZID=America/New_York:20250515T160000
DTSTAMP:20260424T022815
CREATED:20250418T171456Z
LAST-MODIFIED:20250509T145705Z
UID:8346-1747317600-1747324800@qbubble.com
SUMMARY:In-Person Bubble Tea Class
DESCRIPTION:Looking to find a break through point for your business? This class is for you! \nOur in-person bubble tea class will demo some classic and delicious bubble tea drinks this week! Classic Boba Milk Tea\, Assam Milk Tea\, Passionfruit Green Tea\, Cappuccino Slush\, Strawberry Smoothie and many more! \nThe class will also teach how to (properly) brew black and green tea\, to cook the tender tapioca\, to create drinks for your store and how to blend delicious smoothies. \nYes! We are a wholesale company that specializes bubble tea varieties\, so you will find milk foam bubble tea\, color changing beet powder\, blue syrup and more stuff than you could think of. \nCustomers will also have a chance to see and taste the varieties and latest products in Qbubble! \nCall us at 718-358-5868 to inquire registration details!
URL:https://qbubble.com/event/in-person-bubble-tea-class-45/
ORGANIZER;CN="QBubble":MAILTO:info@qbubble.com
END:VEVENT
BEGIN:VEVENT
DTSTART;TZID=America/New_York:20250520T140000
DTEND;TZID=America/New_York:20250520T160000
DTSTAMP:20260424T022815
CREATED:20250509T145515Z
LAST-MODIFIED:20250509T150217Z
UID:8358-1747749600-1747756800@qbubble.com
SUMMARY:In-Person Specialty Bubble Tea Class
DESCRIPTION:Thinking of upgrading your menu to go with the trend? Perfect in-person class for you! This week’s in-person class will be demonstrating some of the trendy bubble tea drinks using Qbubble’s products such as Brown Sugar Boba Milk Tea\, Crème Brulee Milk Tea\, Jasmin Thai Milk Tea and Sparkling drinks -Passion Fruit Sparking Tea & Grapefruit Sparkling and many more!
URL:https://qbubble.com/event/in-person-specialty-bubble-tea-class-9/
ORGANIZER;CN="QBubble":MAILTO:info@qbubble.com
END:VEVENT
BEGIN:VEVENT
DTSTART;TZID=America/New_York:20250522T140000
DTEND;TZID=America/New_York:20250522T160000
DTSTAMP:20260424T022815
CREATED:20250509T145619Z
LAST-MODIFIED:20250509T150249Z
UID:8360-1747922400-1747929600@qbubble.com
SUMMARY:Online Bubble Tea Zoom Class
DESCRIPTION:Looking to find a break through point for your business? This class is for you. \nOur Zoom online bubble tea class will demo some classic and delicious bubble tea drinks this week! Classic Boba Milk Tea\, Assam Milk Tea\, Passionfruit Green Tea\, Cappuccino Slush\, Strawberry Smoothie and many more! \nThe class will also teach how to (properly) brew black and green tea\, cook the tender tapioca\, create drinks for your store and how to blend delicious smoothies. \nYes! We are a wholesale company that specializes bubble tea varieties\, so you will find milk foam bubble tea\, color changing beet powder\, blue syrup and more stuff than you could think of. \nCustomers will also have a chance to see the varieties and latest products in Qbubble!
URL:https://qbubble.com/event/online-bubble-tea-zoom-class-83/
ORGANIZER;CN="QBubble":MAILTO:info@qbubble.com
END:VEVENT
BEGIN:VEVENT
DTSTART;VALUE=DATE:20250526
DTEND;VALUE=DATE:20250527
DTSTAMP:20260424T022815
CREATED:20250523T141519Z
LAST-MODIFIED:20250523T141519Z
UID:8372-1748217600-1748303999@qbubble.com
SUMMARY:Memorial Day Delivery Change
DESCRIPTION:We will be closed on Memorial Day 5/26/25 (Mon). NYC Delivery will be changed to 5/27 (Tuesday).  \nPlease place your order by 5/23 Friday before 4pm to guarantee delivery arrangements! Sorry for any inconvenience.
URL:https://qbubble.com/event/memorial-day-delivery-change-4/
ORGANIZER;CN="QBubble":MAILTO:info@qbubble.com
END:VEVENT
BEGIN:VEVENT
DTSTART;TZID=America/New_York:20250529T140000
DTEND;TZID=America/New_York:20250529T160000
DTSTAMP:20260424T022815
CREATED:20250523T142240Z
LAST-MODIFIED:20250523T142240Z
UID:8383-1748527200-1748534400@qbubble.com
SUMMARY:In-Person Bubble Tea Class
DESCRIPTION:Looking to find a break through point for your business? This class is for you! \nOur in-person bubble tea class will demo some classic and delicious bubble tea drinks this week! Classic Boba Milk Tea\, Assam Milk Tea\, Passionfruit Green Tea\, Cappuccino Slush\, Strawberry Smoothie and many more! \nThe class will also teach how to (properly) brew black and green tea\, to cook the tender tapioca\, to create drinks for your store and how to blend delicious smoothies. \nYes! We are a wholesale company that specializes bubble tea varieties\, so you will find milk foam bubble tea\, color changing beet powder\, blue syrup and more stuff than you could think of. \nCustomers will also have a chance to see and taste the varieties and latest products in Qbubble! \nCall us at 718-358-5868 to inquire registration details!
URL:https://qbubble.com/event/in-person-bubble-tea-class-46/
ORGANIZER;CN="QBubble":MAILTO:info@qbubble.com
END:VEVENT
END:VCALENDAR