BEGIN:VCALENDAR
VERSION:2.0
PRODID:-//茶宝 QBubble Troika J C Inc. - ECPv6.15.20//NONSGML v1.0//EN
CALSCALE:GREGORIAN
METHOD:PUBLISH
X-WR-CALNAME:茶宝 QBubble Troika J C Inc.
X-ORIGINAL-URL:https://qbubble.com/?lang=zh-hant
X-WR-CALDESC:Events for 茶宝 QBubble Troika J C Inc.
REFRESH-INTERVAL;VALUE=DURATION:PT1H
X-Robots-Tag:noindex
X-PUBLISHED-TTL:PT1H
BEGIN:VTIMEZONE
TZID:America/New_York
BEGIN:DAYLIGHT
TZOFFSETFROM:-0500
TZOFFSETTO:-0400
TZNAME:EDT
DTSTART:20230312T070000
END:DAYLIGHT
BEGIN:STANDARD
TZOFFSETFROM:-0400
TZOFFSETTO:-0500
TZNAME:EST
DTSTART:20231105T060000
END:STANDARD
BEGIN:DAYLIGHT
TZOFFSETFROM:-0500
TZOFFSETTO:-0400
TZNAME:EDT
DTSTART:20240310T070000
END:DAYLIGHT
BEGIN:STANDARD
TZOFFSETFROM:-0400
TZOFFSETTO:-0500
TZNAME:EST
DTSTART:20241103T060000
END:STANDARD
BEGIN:DAYLIGHT
TZOFFSETFROM:-0500
TZOFFSETTO:-0400
TZNAME:EDT
DTSTART:20250309T070000
END:DAYLIGHT
BEGIN:STANDARD
TZOFFSETFROM:-0400
TZOFFSETTO:-0500
TZNAME:EST
DTSTART:20251102T060000
END:STANDARD
BEGIN:DAYLIGHT
TZOFFSETFROM:-0500
TZOFFSETTO:-0400
TZNAME:EDT
DTSTART:20260308T070000
END:DAYLIGHT
BEGIN:STANDARD
TZOFFSETFROM:-0400
TZOFFSETTO:-0500
TZNAME:EST
DTSTART:20261101T060000
END:STANDARD
END:VTIMEZONE
BEGIN:VEVENT
DTSTART;TZID=America/New_York:20241203T140000
DTEND;TZID=America/New_York:20241203T160000
DTSTAMP:20260424T090249
CREATED:20241119T172605Z
LAST-MODIFIED:20241119T172605Z
UID:8216-1733234400-1733241600@qbubble.com
SUMMARY:線上珍珠奶茶培訓班
DESCRIPTION:想計劃發展您的珍奶事業嗎？此課程非常適合您。 \n本週課程將傳授一些經典好喝的各種珍奶飲料:  經典珍珠奶茶\, 阿薩姆奶茶\, 百香果綠茶\, 草莓冰沙\, 卡布奇諾咖啡冰沙、等等。 \n該課還將傳授您如何（正確地）釀製綠茶、煮出Q彈有嚼勁的珍珠粉圓，為您的商店創造混和飲料以及融合美味的冰沙。 \n沒錯！我們是一家專門提供各式各樣珍珠奶茶的批發公司，所以您會發現奶蓋珍珠奶茶、漸層變色甜菜粉、藍色糖漿以及更多您能想像的任何品項：) \n客戶還將有機會看到Qbubble的更多獨家品項與最新產品！
URL:https://qbubble.com/event/%e7%b7%9a%e4%b8%8a%e7%8f%8d%e7%8f%a0%e5%a5%b6%e8%8c%b6%e5%9f%b9%e8%a8%93%e7%8f%ad-79/?lang=zh-hant
ORGANIZER;CN="QBubble":MAILTO:info@qbubble.com
END:VEVENT
BEGIN:VEVENT
DTSTART;TZID=America/New_York:20241211T140000
DTEND;TZID=America/New_York:20241211T160000
DTSTAMP:20260424T090249
CREATED:20241210T145558Z
LAST-MODIFIED:20241210T145558Z
UID:8232-1733925600-1733932800@qbubble.com
SUMMARY:現場珍珠奶茶班
DESCRIPTION:想計劃發展您的珍奶事業嗎？此課程非常適合您。 \n本週現場珍珠奶茶班將傳授一些經典好喝的各種珍奶飲料:  經典珍珠奶茶\, 阿薩姆奶茶\, 百香果綠茶\, 草莓冰沙\, 卡布奇諾咖啡冰沙、等等。 \n該課還將傳授您如何（正確地）釀製綠茶、煮出Q彈有嚼勁的珍珠粉圓，為您的商店創造混和飲料以及融合美味的冰沙。 \n沒錯！我們是一家專門提供各式各樣珍珠奶茶的批發公司，所以您會發現奶蓋珍珠奶茶、漸層變色甜菜粉、藍色糖漿以及更多您能想像的任何品項：)
URL:https://qbubble.com/event/%e7%8f%be%e5%a0%b4%e7%8f%8d%e7%8f%a0%e5%a5%b6%e8%8c%b6%e7%8f%ad-46/?lang=zh-hant
ORGANIZER;CN="QBubble":MAILTO:info@qbubble.com
END:VEVENT
BEGIN:VEVENT
DTSTART;TZID=America/New_York:20241218T140000
DTEND;TZID=America/New_York:20241218T160000
DTSTAMP:20260424T090249
CREATED:20241210T145705Z
LAST-MODIFIED:20241210T145705Z
UID:8234-1734530400-1734537600@qbubble.com
SUMMARY:線上珍珠奶茶培訓班
DESCRIPTION:嘗試為您的珍珠奶茶事業找到突破點嗎？此課程非常適合您。 \n本週課程將傳授一些經典好喝的各種珍奶飲料:  經典珍珠奶茶\, 阿薩姆奶茶\, 百香果綠茶\, 草莓冰沙\, 卡布奇諾咖啡冰沙、等等。 \n該課還將傳授您如何（正確地）釀製綠茶、煮出Q彈有嚼勁的珍珠粉圓，為您的商店創造混和飲料以及融合美味的冰沙。 \n沒錯！我們是一家專門提供各式各樣珍珠奶茶的批發公司，所以您會發現奶蓋珍珠奶茶、漸層變色甜菜粉、藍色糖漿以及更多您能想像的任何品項：) \n客戶還將有機會看到Qbubble的更多獨家品項與最新產品！
URL:https://qbubble.com/event/%e7%b7%9a%e4%b8%8a%e7%8f%8d%e7%8f%a0%e5%a5%b6%e8%8c%b6%e5%9f%b9%e8%a8%93%e7%8f%ad-80/?lang=zh-hant
ORGANIZER;CN="QBubble":MAILTO:info@qbubble.com
END:VEVENT
BEGIN:VEVENT
DTSTART;TZID=America/New_York:20241224T160000
DTEND;TZID=America/New_York:20241225T180000
DTSTAMP:20260424T090249
CREATED:20241210T145953Z
LAST-MODIFIED:20241210T145953Z
UID:8236-1735056000-1735149600@qbubble.com
SUMMARY:聖誕節送貨更改
DESCRIPTION:我們平安夜（12/24）將下午4點下班，聖誕節（12/25）休息一天。\n紐約市送貨會改爲12/26星期二。
URL:https://qbubble.com/event/%e8%81%96%e8%aa%95%e7%af%80%e9%80%81%e8%b2%a8%e6%9b%b4%e6%94%b9-3/?lang=zh-hant
ORGANIZER;CN="QBubble":MAILTO:info@qbubble.com
END:VEVENT
BEGIN:VEVENT
DTSTART;TZID=America/New_York:20241231T160000
DTEND;TZID=America/New_York:20250101T180000
DTSTAMP:20260424T090249
CREATED:20241219T154813Z
LAST-MODIFIED:20241219T154850Z
UID:8241-1735660800-1735754400@qbubble.com
SUMMARY:元旦送貨更改
DESCRIPTION:我們除夕夜（12/31）將下午4點下班，元旦（01/01/25）休息一天。紐約市送貨會改爲12/31星期二。
URL:https://qbubble.com/event/8241/?lang=zh-hant
ORGANIZER;CN="QBubble":MAILTO:info@qbubble.com
END:VEVENT
END:VCALENDAR