BEGIN:VCALENDAR
VERSION:2.0
PRODID:-//茶宝 Qbubble - ECPv6.15.20//NONSGML v1.0//EN
CALSCALE:GREGORIAN
METHOD:PUBLISH
X-WR-CALNAME:茶宝 Qbubble
X-ORIGINAL-URL:https://qbubble.com
X-WR-CALDESC:Events for 茶宝 Qbubble
REFRESH-INTERVAL;VALUE=DURATION:PT1H
X-Robots-Tag:noindex
X-PUBLISHED-TTL:PT1H
BEGIN:VTIMEZONE
TZID:America/New_York
BEGIN:DAYLIGHT
TZOFFSETFROM:-0500
TZOFFSETTO:-0400
TZNAME:EDT
DTSTART:20230312T070000
END:DAYLIGHT
BEGIN:STANDARD
TZOFFSETFROM:-0400
TZOFFSETTO:-0500
TZNAME:EST
DTSTART:20231105T060000
END:STANDARD
BEGIN:DAYLIGHT
TZOFFSETFROM:-0500
TZOFFSETTO:-0400
TZNAME:EDT
DTSTART:20240310T070000
END:DAYLIGHT
BEGIN:STANDARD
TZOFFSETFROM:-0400
TZOFFSETTO:-0500
TZNAME:EST
DTSTART:20241103T060000
END:STANDARD
BEGIN:DAYLIGHT
TZOFFSETFROM:-0500
TZOFFSETTO:-0400
TZNAME:EDT
DTSTART:20250309T070000
END:DAYLIGHT
BEGIN:STANDARD
TZOFFSETFROM:-0400
TZOFFSETTO:-0500
TZNAME:EST
DTSTART:20251102T060000
END:STANDARD
END:VTIMEZONE
BEGIN:VEVENT
DTSTART;TZID=America/New_York:20240507T140000
DTEND;TZID=America/New_York:20240507T160000
DTSTAMP:20260425T160007
CREATED:20240417T144539Z
LAST-MODIFIED:20240417T144554Z
UID:7949-1715090400-1715097600@qbubble.com
SUMMARY:Specialty Online Bubble Tea Class
DESCRIPTION:Thinking of upgrading your menu to go with the trend? Perfect online class for you! \nThis week’s online class will be demonstrating some of the 2024 trendy bubble tea drinks such as Brown Sugar Boba Milk Tea\, Ube Swirl Milk Tea\, Fresh Taro Latte\, Crème Brulee Milk Tea\, Peach Strawberry Float and many more! \nYes! We are a wholesale company that specialize bubble tea varieties\, so you will find milk foam bubble tea\, color changing beet powder\, blue syrup and more stuff than you could think of. You will get to see our newest products and recipes at the class!
URL:https://qbubble.com/event/specialty-online-bubble-tea-class-7/
ORGANIZER;CN="QBubble":MAILTO:info@qbubble.com
END:VEVENT
BEGIN:VEVENT
DTSTART;TZID=America/New_York:20240522T140000
DTEND;TZID=America/New_York:20240522T160000
DTSTAMP:20260425T160007
CREATED:20240508T144745Z
LAST-MODIFIED:20240508T144745Z
UID:7970-1716386400-1716393600@qbubble.com
SUMMARY:Online Bubble Tea Zoom Class
DESCRIPTION:Looking to find a break through point for your business? This class is for you. \nOur Zoom online bubble tea class will demo some classic and delicious bubble tea drinks this week! Classic Boba Milk Tea\, Assam Milk Tea\, Passionfruit Green Tea\, Cappuccino Slush\, Strawberry Smoothie and many more! \nThe class will also teach how to (properly) brew black and green tea\, cook the tender tapioca\, create drinks for your store and how to blend delicious smoothies. \nYes! We are a wholesale company that specializes bubble tea varieties\, so you will find milk foam bubble tea\, color changing beet powder\, blue syrup and more stuff than you could think of. \nCustomers will also have a chance to see the varieties and latest products in Qbubble!
URL:https://qbubble.com/event/online-bubble-tea-zoom-class-67/
ORGANIZER;CN="QBubble":MAILTO:info@qbubble.com
END:VEVENT
BEGIN:VEVENT
DTSTART;VALUE=DATE:20240527
DTEND;VALUE=DATE:20240528
DTSTAMP:20260425T160007
CREATED:20240521T150046Z
LAST-MODIFIED:20240521T150240Z
UID:8013-1716768000-1716854399@qbubble.com
SUMMARY:Memorial Day Delivery Change
DESCRIPTION:We will be closed on 5/27/24 (Mon) in observance of Memorial Day.  NYC Delivery will be changed to 5/28 (Tuesday)\nPlease place your order ahead to avoid inventory shortage! Sorry for any inconvenience.
URL:https://qbubble.com/event/memorial-day-delivery-change-3/
ORGANIZER;CN="QBubble":MAILTO:info@qbubble.com
END:VEVENT
END:VCALENDAR