BEGIN:VCALENDAR
VERSION:2.0
PRODID:-//茶宝 QBubble Troika J C Inc. - ECPv6.15.20//NONSGML v1.0//EN
CALSCALE:GREGORIAN
METHOD:PUBLISH
X-WR-CALNAME:茶宝 QBubble Troika J C Inc.
X-ORIGINAL-URL:https://qbubble.com/?lang=zh-hant
X-WR-CALDESC:Events for 茶宝 QBubble Troika J C Inc.
REFRESH-INTERVAL;VALUE=DURATION:PT1H
X-Robots-Tag:noindex
X-PUBLISHED-TTL:PT1H
BEGIN:VTIMEZONE
TZID:America/New_York
BEGIN:DAYLIGHT
TZOFFSETFROM:-0500
TZOFFSETTO:-0400
TZNAME:EDT
DTSTART:20230312T070000
END:DAYLIGHT
BEGIN:STANDARD
TZOFFSETFROM:-0400
TZOFFSETTO:-0500
TZNAME:EST
DTSTART:20231105T060000
END:STANDARD
BEGIN:DAYLIGHT
TZOFFSETFROM:-0500
TZOFFSETTO:-0400
TZNAME:EDT
DTSTART:20240310T070000
END:DAYLIGHT
BEGIN:STANDARD
TZOFFSETFROM:-0400
TZOFFSETTO:-0500
TZNAME:EST
DTSTART:20241103T060000
END:STANDARD
BEGIN:DAYLIGHT
TZOFFSETFROM:-0500
TZOFFSETTO:-0400
TZNAME:EDT
DTSTART:20250309T070000
END:DAYLIGHT
BEGIN:STANDARD
TZOFFSETFROM:-0400
TZOFFSETTO:-0500
TZNAME:EST
DTSTART:20251102T060000
END:STANDARD
END:VTIMEZONE
BEGIN:VEVENT
DTSTART;TZID=America/New_York:20241105T140000
DTEND;TZID=America/New_York:20241105T160000
DTSTAMP:20260423T162930
CREATED:20241030T151345Z
LAST-MODIFIED:20241030T151345Z
UID:8195-1730815200-1730822400@qbubble.com
SUMMARY:線上珍珠奶茶培訓班
DESCRIPTION:想計劃發展您的珍奶事業嗎？此課程非常適合您。 \n本週課程將傳授一些經典好喝的各種珍奶飲料:  經典珍珠奶茶\, 阿薩姆奶茶\, 百香果綠茶\, 草莓冰沙\, 卡布奇諾咖啡冰沙、等等。 \n該課還將傳授您如何（正確地）釀製綠茶、煮出Q彈有嚼勁的珍珠粉圓，為您的商店創造混和飲料以及融合美味的冰沙。 \n沒錯！我們是一家專門提供各式各樣珍珠奶茶的批發公司，所以您會發現奶蓋珍珠奶茶、漸層變色甜菜粉、藍色糖漿以及更多您能想像的任何品項：) \n客戶還將有機會看到Qbubble的更多獨家品項與最新產品！
URL:https://qbubble.com/event/%e7%b7%9a%e4%b8%8a%e7%8f%8d%e7%8f%a0%e5%a5%b6%e8%8c%b6%e5%9f%b9%e8%a8%93%e7%8f%ad-78/?lang=zh-hant
ORGANIZER;CN="QBubble":MAILTO:info@qbubble.com
END:VEVENT
BEGIN:VEVENT
DTSTART;TZID=America/New_York:20241024T140000
DTEND;TZID=America/New_York:20241024T160000
DTSTAMP:20260423T162930
CREATED:20241009T144327Z
LAST-MODIFIED:20241009T144327Z
UID:8172-1729778400-1729785600@qbubble.com
SUMMARY:現場珍珠奶茶班
DESCRIPTION:想計劃發展您的珍奶事業嗎？此課程非常適合您。 \n本週現場珍珠奶茶班將傳授一些經典好喝的各種珍奶飲料:  經典珍珠奶茶\, 阿薩姆奶茶\, 百香果綠茶\, 草莓冰沙\, 卡布奇諾咖啡冰沙、等等。 \n該課還將傳授您如何（正確地）釀製綠茶、煮出Q彈有嚼勁的珍珠粉圓，為您的商店創造混和飲料以及融合美味的冰沙。 \n沒錯！我們是一家專門提供各式各樣珍珠奶茶的批發公司，所以您會發現奶蓋珍珠奶茶、漸層變色甜菜粉、藍色糖漿以及更多您能想像的任何品項：) \n客戶還將有機會當場看到和品嚐Qbubble的更多獨家品項與最新產品！
URL:https://qbubble.com/event/%e7%8f%be%e5%a0%b4%e7%8f%8d%e7%8f%a0%e5%a5%b6%e8%8c%b6%e7%8f%ad-43/?lang=zh-hant
ORGANIZER;CN="QBubble":MAILTO:info@qbubble.com
END:VEVENT
BEGIN:VEVENT
DTSTART;TZID=America/New_York:20241023T140000
DTEND;TZID=America/New_York:20241023T160000
DTSTAMP:20260423T162930
CREATED:20241009T144431Z
LAST-MODIFIED:20241009T144431Z
UID:8175-1729692000-1729699200@qbubble.com
SUMMARY:線上珍珠奶茶培訓班
DESCRIPTION:嘗試為您的珍珠奶茶事業找到突破點嗎？此課程非常適合您。 \n本週課程將傳授一些經典好喝的各種珍奶飲料:  經典珍珠奶茶\, 阿薩姆奶茶\, 百香果綠茶\, 草莓冰沙\, 卡布奇諾咖啡冰沙、等等。 \n該課還將傳授您如何（正確地）釀製綠茶、煮出Q彈有嚼勁的珍珠粉圓，為您的商店創造混和飲料以及融合美味的冰沙。 \n沒錯！我們是一家專門提供各式各樣珍珠奶茶的批發公司，所以您會發現奶蓋珍珠奶茶、漸層變色甜菜粉、藍色糖漿以及更多您能想像的任何品項：) \n客戶還將有機會看到Qbubble的更多獨家品項與最新產品！
URL:https://qbubble.com/event/%e7%b7%9a%e4%b8%8a%e7%8f%8d%e7%8f%a0%e5%a5%b6%e8%8c%b6%e5%9f%b9%e8%a8%93%e7%8f%ad-77/?lang=zh-hant
ORGANIZER;CN="QBubble":MAILTO:info@qbubble.com
END:VEVENT
BEGIN:VEVENT
DTSTART;TZID=America/New_York:20241008T140000
DTEND;TZID=America/New_York:20241008T160000
DTSTAMP:20260423T162930
CREATED:20240930T144213Z
LAST-MODIFIED:20240930T144213Z
UID:8156-1728396000-1728403200@qbubble.com
SUMMARY:線上珍珠奶茶培訓班
DESCRIPTION:想計劃發展您的珍奶事業嗎？此課程非常適合您。 \n本週課程將傳授一些經典好喝的各種珍奶飲料:  經典珍珠奶茶\, 阿薩姆奶茶\, 百香果綠茶\, 草莓冰沙\, 卡布奇諾咖啡冰沙、等等。 \n該課還將傳授您如何（正確地）釀製綠茶、煮出Q彈有嚼勁的珍珠粉圓，為您的商店創造混和飲料以及融合美味的冰沙。 \n沒錯！我們是一家專門提供各式各樣珍珠奶茶的批發公司，所以您會發現奶蓋珍珠奶茶、漸層變色甜菜粉、藍色糖漿以及更多您能想像的任何品項：) \n客戶還將有機會看到Qbubble的更多獨家品項與最新產品！
URL:https://qbubble.com/event/%e7%b7%9a%e4%b8%8a%e7%8f%8d%e7%8f%a0%e5%a5%b6%e8%8c%b6%e5%9f%b9%e8%a8%93%e7%8f%ad-76/?lang=zh-hant
ORGANIZER;CN="QBubble":MAILTO:info@qbubble.com
END:VEVENT
BEGIN:VEVENT
DTSTART;TZID=America/New_York:20241002T140000
DTEND;TZID=America/New_York:20241002T160000
DTSTAMP:20260423T162930
CREATED:20240930T144107Z
LAST-MODIFIED:20240930T144107Z
UID:8154-1727877600-1727884800@qbubble.com
SUMMARY:現場珍珠奶茶班
DESCRIPTION:嘗試為您的珍珠奶茶事業找到突破點嗎？此課程非常適合您。 \n本週現場珍珠奶茶班將傳授一些經典好喝的各種珍奶飲料:  經典珍珠奶茶\, 阿薩姆奶茶\, 百香果綠茶\, 草莓冰沙\, 卡布奇諾咖啡冰沙、等等。 \n該課還將傳授您如何（正確地）釀製綠茶、煮出Q彈有嚼勁的珍珠粉圓，為您的商店創造混和飲料以及融合美味的冰沙。 \n沒錯！我們是一家專門提供各式各樣珍珠奶茶的批發公司，所以您會發現奶蓋珍珠奶茶、漸層變色甜菜粉、藍色糖漿以及更多您能想像的任何品項：) \n客戶還將有機會當場看到和品嚐Qbubble的更多獨家品項與最新產品！
URL:https://qbubble.com/event/%e7%8f%be%e5%a0%b4%e7%8f%8d%e7%8f%a0%e5%a5%b6%e8%8c%b6%e7%8f%ad-42/?lang=zh-hant
ORGANIZER;CN="QBubble":MAILTO:info@qbubble.com
END:VEVENT
BEGIN:VEVENT
DTSTART;TZID=America/New_York:20240926T140000
DTEND;TZID=America/New_York:20240926T160000
DTSTAMP:20260423T162931
CREATED:20240912T204145Z
LAST-MODIFIED:20240912T204145Z
UID:8144-1727359200-1727366400@qbubble.com
SUMMARY:現場珍珠奶茶班
DESCRIPTION:想計劃發展您的珍奶事業嗎？此課程非常適合您。 \n本週現場珍珠奶茶班將傳授一些經典好喝的各種珍奶飲料:  經典珍珠奶茶\, 阿薩姆奶茶\, 百香果綠茶\, 草莓冰沙\, 卡布奇諾咖啡冰沙、等等。 \n該課還將傳授您如何（正確地）釀製綠茶、煮出Q彈有嚼勁的珍珠粉圓，為您的商店創造混和飲料以及融合美味的冰沙。 \n沒錯！我們是一家專門提供各式各樣珍珠奶茶的批發公司，所以您會發現奶蓋珍珠奶茶、漸層變色甜菜粉、藍色糖漿以及更多您能想像的任何品項：) \n客戶還將有機會當場看到和品嚐Qbubble的更多獨家品項與最新產品！
URL:https://qbubble.com/event/%e7%8f%be%e5%a0%b4%e7%8f%8d%e7%8f%a0%e5%a5%b6%e8%8c%b6%e7%8f%ad-41/?lang=zh-hant
ORGANIZER;CN="QBubble":MAILTO:info@qbubble.com
END:VEVENT
BEGIN:VEVENT
DTSTART;TZID=America/New_York:20240925T140000
DTEND;TZID=America/New_York:20240925T160000
DTSTAMP:20260423T162931
CREATED:20240912T204231Z
LAST-MODIFIED:20240912T204231Z
UID:8146-1727272800-1727280000@qbubble.com
SUMMARY:線上珍珠奶茶培訓班
DESCRIPTION:嘗試為您的珍珠奶茶事業找到突破點嗎？此課程非常適合您。 \n本週課程將傳授一些經典好喝的各種珍奶飲料:  經典珍珠奶茶\, 阿薩姆奶茶\, 百香果綠茶\, 草莓冰沙\, 卡布奇諾咖啡冰沙、等等。 \n該課還將傳授您如何（正確地）釀製綠茶、煮出Q彈有嚼勁的珍珠粉圓，為您的商店創造混和飲料以及融合美味的冰沙。 \n沒錯！我們是一家專門提供各式各樣珍珠奶茶的批發公司，所以您會發現奶蓋珍珠奶茶、漸層變色甜菜粉、藍色糖漿以及更多您能想像的任何品項：) \n客戶還將有機會看到Qbubble的更多獨家品項與最新產品！
URL:https://qbubble.com/event/%e7%b7%9a%e4%b8%8a%e7%8f%8d%e7%8f%a0%e5%a5%b6%e8%8c%b6%e5%9f%b9%e8%a8%93%e7%8f%ad-75/?lang=zh-hant
ORGANIZER;CN="QBubble":MAILTO:info@qbubble.com
END:VEVENT
BEGIN:VEVENT
DTSTART;TZID=America/New_York:20240911T140000
DTEND;TZID=America/New_York:20240911T160000
DTSTAMP:20260423T162931
CREATED:20240829T145513Z
LAST-MODIFIED:20240829T145513Z
UID:8137-1726063200-1726070400@qbubble.com
SUMMARY:線上珍珠奶茶培訓班
DESCRIPTION:想計劃發展您的珍奶事業嗎？此課程非常適合您。 \n本週課程將傳授一些經典好喝的各種珍奶飲料:  經典珍珠奶茶\, 阿薩姆奶茶\, 百香果綠茶\, 草莓冰沙\, 卡布奇諾咖啡冰沙、等等。 \n該課還將傳授您如何（正確地）釀製綠茶、煮出Q彈有嚼勁的珍珠粉圓，為您的商店創造混和飲料以及融合美味的冰沙。 \n沒錯！我們是一家專門提供各式各樣珍珠奶茶的批發公司，所以您會發現奶蓋珍珠奶茶、漸層變色甜菜粉、藍色糖漿以及更多您能想像的任何品項：) \n客戶還將有機會看到Qbubble的更多獨家品項與最新產品！
URL:https://qbubble.com/event/%e7%b7%9a%e4%b8%8a%e7%8f%8d%e7%8f%a0%e5%a5%b6%e8%8c%b6%e5%9f%b9%e8%a8%93%e7%8f%ad-74/?lang=zh-hant
ORGANIZER;CN="QBubble":MAILTO:info@qbubble.com
END:VEVENT
BEGIN:VEVENT
DTSTART;TZID=America/New_York:20240904T140000
DTEND;TZID=America/New_York:20240904T160000
DTSTAMP:20260423T162931
CREATED:20240829T142831Z
LAST-MODIFIED:20240829T142831Z
UID:8133-1725458400-1725465600@qbubble.com
SUMMARY:現場珍珠奶茶班
DESCRIPTION:嘗試為您的珍珠奶茶事業找到突破點嗎？此課程非常適合您。 \n本週現場珍珠奶茶班將傳授一些經典好喝的各種珍奶飲料:  經典珍珠奶茶\, 阿薩姆奶茶\, 百香果綠茶\, 草莓冰沙\, 卡布奇諾咖啡冰沙、等等。 \n該課還將傳授您如何（正確地）釀製綠茶、煮出Q彈有嚼勁的珍珠粉圓，為您的商店創造混和飲料以及融合美味的冰沙。 \n沒錯！我們是一家專門提供各式各樣珍珠奶茶的批發公司，所以您會發現奶蓋珍珠奶茶、漸層變色甜菜粉、藍色糖漿以及更多您能想像的任何品項：) \n客戶還將有機會當場看到和品嚐Qbubble的更多獨家品項與最新產品！
URL:https://qbubble.com/event/%e7%8f%be%e5%a0%b4%e7%8f%8d%e7%8f%a0%e5%a5%b6%e8%8c%b6%e7%8f%ad-40/?lang=zh-hant
ORGANIZER;CN="QBubble":MAILTO:info@qbubble.com
END:VEVENT
BEGIN:VEVENT
DTSTART;VALUE=DATE:20240902
DTEND;VALUE=DATE:20240903
DTSTAMP:20260423T162931
CREATED:20240829T143026Z
LAST-MODIFIED:20240829T143026Z
UID:8135-1725235200-1725321599@qbubble.com
SUMMARY:勞動節送貨更改
DESCRIPTION:我們將於 9/2/2024 勞動節休息一天! \n新澤西州/賓州費城送貨將改為 8/29 星期四. 紐約市送貨將改為 9/3 星期二.  \n請儘早下單，以備因行程擁堵而無法安排送貨！如有不便，敬請見諒。
URL:https://qbubble.com/event/%e5%8b%9e%e5%8b%95%e7%af%80%e9%80%81%e8%b2%a8%e6%9b%b4%e6%94%b9-2/?lang=zh-hant
ORGANIZER;CN="QBubble":MAILTO:info@qbubble.com
END:VEVENT
BEGIN:VEVENT
DTSTART;TZID=America/New_York:20240814T140000
DTEND;TZID=America/New_York:20240814T160000
DTSTAMP:20260423T162931
CREATED:20240802T144004Z
LAST-MODIFIED:20240802T144004Z
UID:8122-1723644000-1723651200@qbubble.com
SUMMARY:線上珍珠奶茶培訓班
DESCRIPTION:想計劃發展您的珍奶事業嗎？此課程非常適合您。 \n本週課程將傳授一些經典好喝的各種珍奶飲料:  經典珍珠奶茶\, 阿薩姆奶茶\, 百香果綠茶\, 草莓冰沙\, 卡布奇諾咖啡冰沙、等等。 \n該課還將傳授您如何（正確地）釀製綠茶、煮出Q彈有嚼勁的珍珠粉圓，為您的商店創造混和飲料以及融合美味的冰沙。 \n沒錯！我們是一家專門提供各式各樣珍珠奶茶的批發公司，所以您會發現奶蓋珍珠奶茶、漸層變色甜菜粉、藍色糖漿以及更多您能想像的任何品項：) \n客戶還將有機會看到Qbubble的更多獨家品項與最新產品！
URL:https://qbubble.com/event/%e7%b7%9a%e4%b8%8a%e7%8f%8d%e7%8f%a0%e5%a5%b6%e8%8c%b6%e5%9f%b9%e8%a8%93%e7%8f%ad-73/?lang=zh-hant
ORGANIZER;CN="QBubble":MAILTO:info@qbubble.com
END:VEVENT
BEGIN:VEVENT
DTSTART;TZID=America/New_York:20240806T140000
DTEND;TZID=America/New_York:20240806T160000
DTSTAMP:20260423T162931
CREATED:20240802T143857Z
LAST-MODIFIED:20240802T143857Z
UID:8120-1722952800-1722960000@qbubble.com
SUMMARY:現場珍珠奶茶班
DESCRIPTION:嘗試為您的珍珠奶茶事業找到突破點嗎？此課程非常適合您。 \n本週現場珍珠奶茶班將傳授一些經典好喝的各種珍奶飲料:  經典珍珠奶茶\, 阿薩姆奶茶\, 百香果綠茶\, 草莓冰沙\, 卡布奇諾咖啡冰沙、等等。 \n該課還將傳授您如何（正確地）釀製綠茶、煮出Q彈有嚼勁的珍珠粉圓，為您的商店創造混和飲料以及融合美味的冰沙。 \n沒錯！我們是一家專門提供各式各樣珍珠奶茶的批發公司，所以您會發現奶蓋珍珠奶茶、漸層變色甜菜粉、藍色糖漿以及更多您能想像的任何品項：) \n客戶還將有機會當場看到和品嚐Qbubble的更多獨家品項與最新產品！
URL:https://qbubble.com/event/%e7%8f%be%e5%a0%b4%e7%8f%8d%e7%8f%a0%e5%a5%b6%e8%8c%b6%e7%8f%ad-39/?lang=zh-hant
ORGANIZER;CN="QBubble":MAILTO:info@qbubble.com
END:VEVENT
BEGIN:VEVENT
DTSTART;TZID=America/New_York:20240801T140000
DTEND;TZID=America/New_York:20240801T160000
DTSTAMP:20260423T162931
CREATED:20240722T161441Z
LAST-MODIFIED:20240722T161541Z
UID:8108-1722520800-1722528000@qbubble.com
SUMMARY:網紅珍奶線上培訓班
DESCRIPTION:想升級您的菜單追上流行飲料趨勢嗎？此線上課程就對了! \n本週網紅珍奶課程將傳授茶寶2024新品網紅珍奶飲料:黑糖珍珠髒髒茶\, 蛋糕布蕾奶茶\, 紫薯髒髒茶\, 芋泥波霸鮮奶\, 蜜桃草莓冰沙\, 等等。 \n沒錯！我們是一家專門提供各式各樣珍珠奶茶的批發公司，所以您會發現奶蓋珍珠奶茶、漸層變色甜菜粉、藍色糖漿以及更多您能想像的任何品項：)
URL:https://qbubble.com/event/%e7%b6%b2%e7%b4%85%e7%8f%8d%e5%a5%b6%e7%b7%9a%e4%b8%8a%e5%9f%b9%e8%a8%93%e7%8f%ad-25/?lang=zh-hant
ORGANIZER;CN="QBubble":MAILTO:info@qbubble.com
END:VEVENT
BEGIN:VEVENT
DTSTART;TZID=America/New_York:20240730T140000
DTEND;TZID=America/New_York:20240730T160000
DTSTAMP:20260423T162931
CREATED:20240722T161350Z
LAST-MODIFIED:20240722T161350Z
UID:8106-1722348000-1722355200@qbubble.com
SUMMARY:線上珍珠奶茶培訓班
DESCRIPTION:想計劃發展您的珍奶事業嗎？此課程非常適合您。 \n本週課程將傳授一些經典好喝的各種珍奶飲料:  經典珍珠奶茶\, 阿薩姆奶茶\, 百香果綠茶\, 草莓冰沙\, 卡布奇諾咖啡冰沙、等等。 \n該課還將傳授您如何（正確地）釀製綠茶、煮出Q彈有嚼勁的珍珠粉圓，為您的商店創造混和飲料以及融合美味的冰沙。 \n沒錯！我們是一家專門提供各式各樣珍珠奶茶的批發公司，所以您會發現奶蓋珍珠奶茶、漸層變色甜菜粉、藍色糖漿以及更多您能想像的任何品項：) \n客戶還將有機會看到Qbubble的更多獨家品項與最新產品！
URL:https://qbubble.com/event/%e7%b7%9a%e4%b8%8a%e7%8f%8d%e7%8f%a0%e5%a5%b6%e8%8c%b6%e5%9f%b9%e8%a8%93%e7%8f%ad-72/?lang=zh-hant
ORGANIZER;CN="QBubble":MAILTO:info@qbubble.com
END:VEVENT
BEGIN:VEVENT
DTSTART;TZID=America/New_York:20240723T140000
DTEND;TZID=America/New_York:20240723T160000
DTSTAMP:20260423T162931
CREATED:20240711T143228Z
LAST-MODIFIED:20240711T143228Z
UID:8092-1721743200-1721750400@qbubble.com
SUMMARY:現場網紅珍奶班
DESCRIPTION:想升級您的菜單追上流行飲料趨勢嗎？此現場課程就對了! \n本週現場網紅珍奶課程將傳授茶寶2024新品網紅珍奶飲料:黑糖珍珠髒髒茶\, 蛋糕布蕾奶茶\, 紫薯髒髒茶\, 芋泥波霸鮮奶\, 蜜桃草莓冰沙\, 等等。 \n沒錯！我們是一家專門提供各式各樣珍珠奶茶的批發公司，所以您會發現奶蓋珍珠奶茶、漸層變色甜菜粉、藍色糖漿以及更多您能想像的任何品項：)
URL:https://qbubble.com/event/%e7%8f%be%e5%a0%b4%e7%b6%b2%e7%b4%85%e7%8f%8d%e5%a5%b6%e7%8f%ad-5/?lang=zh-hant
ORGANIZER;CN="QBubble":MAILTO:info@qbubble.com
END:VEVENT
BEGIN:VEVENT
DTSTART;TZID=America/New_York:20240716T140000
DTEND;TZID=America/New_York:20240716T160000
DTSTAMP:20260423T162931
CREATED:20240711T143019Z
LAST-MODIFIED:20240711T143019Z
UID:8090-1721138400-1721145600@qbubble.com
SUMMARY:線上珍珠奶茶培訓班
DESCRIPTION:嘗試為您的珍珠奶茶事業找到突破點嗎？此課程非常適合您。 \n本週課程將傳授一些經典好喝的各種珍奶飲料:  經典珍珠奶茶\, 阿薩姆奶茶\, 百香果綠茶\, 草莓冰沙\, 卡布奇諾咖啡冰沙、等等。 \n該課還將傳授您如何（正確地）釀製綠茶、煮出Q彈有嚼勁的珍珠粉圓，為您的商店創造混和飲料以及融合美味的冰沙。 \n沒錯！我們是一家專門提供各式各樣珍珠奶茶的批發公司，所以您會發現奶蓋珍珠奶茶、漸層變色甜菜粉、藍色糖漿以及更多您能想像的任何品項：) \n客戶還將有機會看到Qbubble的更多獨家品項與最新產品！
URL:https://qbubble.com/event/%e7%b7%9a%e4%b8%8a%e7%8f%8d%e7%8f%a0%e5%a5%b6%e8%8c%b6%e5%9f%b9%e8%a8%93%e7%8f%ad-71/?lang=zh-hant
ORGANIZER;CN="QBubble":MAILTO:info@qbubble.com
END:VEVENT
BEGIN:VEVENT
DTSTART;TZID=America/New_York:20240710T140000
DTEND;TZID=America/New_York:20240710T160000
DTSTAMP:20260423T162931
CREATED:20240625T144217Z
LAST-MODIFIED:20240625T144217Z
UID:8072-1720620000-1720627200@qbubble.com
SUMMARY:現場珍珠奶茶班
DESCRIPTION:想計劃發展您的珍奶事業嗎？此課程非常適合您。 \n本週現場珍珠奶茶班將傳授一些經典好喝的各種珍奶飲料:  經典珍珠奶茶\, 阿薩姆奶茶\, 百香果綠茶\, 草莓冰沙\, 卡布奇諾咖啡冰沙、等等。 \n該課還將傳授您如何（正確地）釀製綠茶、煮出Q彈有嚼勁的珍珠粉圓，為您的商店創造混和飲料以及融合美味的冰沙。 \n沒錯！我們是一家專門提供各式各樣珍珠奶茶的批發公司，所以您會發現奶蓋珍珠奶茶、漸層變色甜菜粉、藍色糖漿以及更多您能想像的任何品項：)
URL:https://qbubble.com/event/%e7%8f%be%e5%a0%b4%e7%8f%8d%e7%8f%a0%e5%a5%b6%e8%8c%b6%e7%8f%ad-38/?lang=zh-hant
ORGANIZER;CN="QBubble":MAILTO:info@qbubble.com
END:VEVENT
BEGIN:VEVENT
DTSTART;TZID=America/New_York:20240702T140000
DTEND;TZID=America/New_York:20240702T160000
DTSTAMP:20260423T162931
CREATED:20240625T144049Z
LAST-MODIFIED:20240625T144049Z
UID:8070-1719928800-1719936000@qbubble.com
SUMMARY:線上珍珠奶茶培訓班
DESCRIPTION:嘗試為您的珍珠奶茶事業找到突破點嗎？此課程非常適合您。 \n本週課程將傳授一些經典好喝的各種珍奶飲料:  經典珍珠奶茶\, 阿薩姆奶茶\, 百香果綠茶\, 草莓冰沙\, 卡布奇諾咖啡冰沙、等等。 \n該課還將傳授您如何（正確地）釀製綠茶、煮出Q彈有嚼勁的珍珠粉圓，為您的商店創造混和飲料以及融合美味的冰沙。 \n沒錯！我們是一家專門提供各式各樣珍珠奶茶的批發公司，所以您會發現奶蓋珍珠奶茶、漸層變色甜菜粉、藍色糖漿以及更多您能想像的任何品項：) \n客戶還將有機會看到Qbubble的更多獨家品項與最新產品！
URL:https://qbubble.com/event/%e7%b7%9a%e4%b8%8a%e7%8f%8d%e7%8f%a0%e5%a5%b6%e8%8c%b6%e5%9f%b9%e8%a8%93%e7%8f%ad-70/?lang=zh-hant
ORGANIZER;CN="QBubble":MAILTO:info@qbubble.com
END:VEVENT
BEGIN:VEVENT
DTSTART;VALUE=DATE:20240702
DTEND;VALUE=DATE:20240703
DTSTAMP:20260423T162931
CREATED:20240625T144333Z
LAST-MODIFIED:20240625T144333Z
UID:8074-1719878400-1719964799@qbubble.com
SUMMARY:國慶日送貨更改
DESCRIPTION:我們將於 7/4/24 休息一天， 以慶祝國慶日! \n麻省/康州送貨將改為 6/27 星期四。請儘早下單，以備因行程擁堵而無法安排送貨！ \n如有不便，敬請見諒
URL:https://qbubble.com/event/%e5%9c%8b%e6%85%b6%e6%97%a5%e9%80%81%e8%b2%a8%e6%9b%b4%e6%94%b9-2/?lang=zh-hant
ORGANIZER;CN="QBubble":MAILTO:info@qbubble.com
END:VEVENT
BEGIN:VEVENT
DTSTART;TZID=America/New_York:20240619T140000
DTEND;TZID=America/New_York:20240619T160000
DTSTAMP:20260423T162931
CREATED:20240605T144145Z
LAST-MODIFIED:20240605T144145Z
UID:8049-1718805600-1718812800@qbubble.com
SUMMARY:現場珍珠奶茶班
DESCRIPTION:想計劃發展您的珍奶事業嗎？此課程非常適合您。 \n本週現場珍珠奶茶班將傳授一些經典好喝的各種珍奶飲料:  經典珍珠奶茶\, 阿薩姆奶茶\, 百香果綠茶\, 草莓冰沙\, 卡布奇諾咖啡冰沙、等等。 \n該課還將傳授您如何（正確地）釀製綠茶、煮出Q彈有嚼勁的珍珠粉圓，為您的商店創造混和飲料以及融合美味的冰沙。 \n沒錯！我們是一家專門提供各式各樣珍珠奶茶的批發公司，所以您會發現奶蓋珍珠奶茶、漸層變色甜菜粉、藍色糖漿以及更多您能想像的任何品項：) \n客戶還將有機會當場看到和品嚐Qbubble的更多獨家品項與最新產品！
URL:https://qbubble.com/event/%e7%8f%be%e5%a0%b4%e7%8f%8d%e7%8f%a0%e5%a5%b6%e8%8c%b6%e7%8f%ad-37/?lang=zh-hant
ORGANIZER;CN="QBubble":MAILTO:info@qbubble.com
END:VEVENT
BEGIN:VEVENT
DTSTART;TZID=America/New_York:20240618T140000
DTEND;TZID=America/New_York:20240618T160000
DTSTAMP:20260423T162931
CREATED:20240605T144246Z
LAST-MODIFIED:20240605T144246Z
UID:8051-1718719200-1718726400@qbubble.com
SUMMARY:線上珍珠奶茶培訓班
DESCRIPTION:嘗試為您的珍珠奶茶事業找到突破點嗎？此課程非常適合您。 \n本週課程將傳授一些經典好喝的各種珍奶飲料:  經典珍珠奶茶\, 阿薩姆奶茶\, 百香果綠茶\, 草莓冰沙\, 卡布奇諾咖啡冰沙、等等。 \n該課還將傳授您如何（正確地）釀製綠茶、煮出Q彈有嚼勁的珍珠粉圓，為您的商店創造混和飲料以及融合美味的冰沙。 \n沒錯！我們是一家專門提供各式各樣珍珠奶茶的批發公司，所以您會發現奶蓋珍珠奶茶、漸層變色甜菜粉、藍色糖漿以及更多您能想像的任何品項：) \n客戶還將有機會看到Qbubble的更多獨家品項與最新產品！
URL:https://qbubble.com/event/%e7%b7%9a%e4%b8%8a%e7%8f%8d%e7%8f%a0%e5%a5%b6%e8%8c%b6%e5%9f%b9%e8%a8%93%e7%8f%ad-69/?lang=zh-hant
ORGANIZER;CN="QBubble":MAILTO:info@qbubble.com
END:VEVENT
BEGIN:VEVENT
DTSTART;VALUE=DATE:20240527
DTEND;VALUE=DATE:20240528
DTSTAMP:20260423T162931
CREATED:20240521T150212Z
LAST-MODIFIED:20240521T150212Z
UID:8015-1716768000-1716854399@qbubble.com
SUMMARY:Memorial Day 送貨通知
DESCRIPTION:我們將於國殤日5/27/2024 休息一天. 紐約市送貨將改為 5/28 (星期二) \n請儘早下單，以備因行程擁堵而無法安排送貨！如有不便，敬請見諒。
URL:https://qbubble.com/event/memorial-day-%e9%80%81%e8%b2%a8%e9%80%9a%e7%9f%a5/?lang=zh-hant
ORGANIZER;CN="QBubble":MAILTO:info@qbubble.com
END:VEVENT
BEGIN:VEVENT
DTSTART;TZID=America/New_York:20240521T140000
DTEND;TZID=America/New_York:20240521T160000
DTSTAMP:20260423T162931
CREATED:20240508T144608Z
LAST-MODIFIED:20240508T144608Z
UID:7968-1716300000-1716307200@qbubble.com
SUMMARY:線上珍珠奶茶培訓班
DESCRIPTION:想計劃發展您的珍奶事業嗎？此課程非常適合您。 \n本週課程將傳授一些經典好喝的各種珍奶飲料:  經典珍珠奶茶\, 阿薩姆奶茶\, 百香果綠茶\, 草莓冰沙\, 卡布奇諾咖啡冰沙、等等。 \n該課還將傳授您如何（正確地）釀製綠茶、煮出Q彈有嚼勁的珍珠粉圓，為您的商店創造混和飲料以及融合美味的冰沙。 \n沒錯！我們是一家專門提供各式各樣珍珠奶茶的批發公司，所以您會發現奶蓋珍珠奶茶、漸層變色甜菜粉、藍色糖漿以及更多您能想像的任何品項：) \n客戶還將有機會看到Qbubble的更多獨家品項與最新產品！
URL:https://qbubble.com/event/%e7%b7%9a%e4%b8%8a%e7%8f%8d%e7%8f%a0%e5%a5%b6%e8%8c%b6%e5%9f%b9%e8%a8%93%e7%8f%ad-68/?lang=zh-hant
ORGANIZER;CN="QBubble":MAILTO:info@qbubble.com
END:VEVENT
BEGIN:VEVENT
DTSTART;TZID=America/New_York:20240516T140000
DTEND;TZID=America/New_York:20240516T160000
DTSTAMP:20260423T162931
CREATED:20240508T144448Z
LAST-MODIFIED:20240508T144448Z
UID:7966-1715868000-1715875200@qbubble.com
SUMMARY:現場珍珠奶茶班
DESCRIPTION:嘗試為您的珍珠奶茶事業找到突破點嗎？此課程非常適合您。 \n本週現場珍珠奶茶班將傳授一些經典好喝的各種珍奶飲料:  經典珍珠奶茶\, 阿薩姆奶茶\, 百香果綠茶\, 草莓冰沙\, 卡布奇諾咖啡冰沙、等等。 \n該課還將傳授您如何（正確地）釀製綠茶、煮出Q彈有嚼勁的珍珠粉圓，為您的商店創造混和飲料以及融合美味的冰沙。 \n沒錯！我們是一家專門提供各式各樣珍珠奶茶的批發公司，所以您會發現奶蓋珍珠奶茶、漸層變色甜菜粉、藍色糖漿以及更多您能想像的任何品項：) \n客戶還將有機會當場看到和品嚐Qbubble的更多獨家品項與最新產品！
URL:https://qbubble.com/event/%e7%8f%be%e5%a0%b4%e7%8f%8d%e7%8f%a0%e5%a5%b6%e8%8c%b6%e7%8f%ad-36/?lang=zh-hant
ORGANIZER;CN="QBubble":MAILTO:info@qbubble.com
END:VEVENT
BEGIN:VEVENT
DTSTART;TZID=America/New_York:20240507T140000
DTEND;TZID=America/New_York:20240507T160000
DTSTAMP:20260423T162931
CREATED:20240417T144651Z
LAST-MODIFIED:20240417T144651Z
UID:7952-1715090400-1715097600@qbubble.com
SUMMARY:線上珍珠奶茶培訓班
DESCRIPTION:想計劃發展您的珍奶事業嗎？此課程非常適合您。 \n本週課程將傳授一些經典好喝的各種珍奶飲料:  經典珍珠奶茶\, 阿薩姆奶茶\, 百香果綠茶\, 草莓冰沙\, 卡布奇諾咖啡冰沙、等等。 \n該課還將傳授您如何（正確地）釀製綠茶、煮出Q彈有嚼勁的珍珠粉圓，為您的商店創造混和飲料以及融合美味的冰沙。 \n沒錯！我們是一家專門提供各式各樣珍珠奶茶的批發公司，所以您會發現奶蓋珍珠奶茶、漸層變色甜菜粉、藍色糖漿以及更多您能想像的任何品項：) \n客戶還將有機會看到Qbubble的更多獨家品項與最新產品！
URL:https://qbubble.com/event/%e7%b7%9a%e4%b8%8a%e7%8f%8d%e7%8f%a0%e5%a5%b6%e8%8c%b6%e5%9f%b9%e8%a8%93%e7%8f%ad-67/?lang=zh-hant
ORGANIZER;CN="QBubble":MAILTO:info@qbubble.com
END:VEVENT
BEGIN:VEVENT
DTSTART;TZID=America/New_York:20240502T140000
DTEND;TZID=America/New_York:20240502T160000
DTSTAMP:20260423T162931
CREATED:20240417T144829Z
LAST-MODIFIED:20240417T144829Z
UID:7954-1714658400-1714665600@qbubble.com
SUMMARY:現場珍珠奶茶班
DESCRIPTION:嘗試為您的珍珠奶茶事業找到突破點嗎？此課程非常適合您。 \n本週現場珍珠奶茶班將傳授一些經典好喝的各種珍奶飲料:  經典珍珠奶茶\, 阿薩姆奶茶\, 百香果綠茶\, 草莓冰沙\, 卡布奇諾咖啡冰沙、等等。 \n該課還將傳授您如何（正確地）釀製綠茶、煮出Q彈有嚼勁的珍珠粉圓，為您的商店創造混和飲料以及融合美味的冰沙。 \n沒錯！我們是一家專門提供各式各樣珍珠奶茶的批發公司，所以您會發現奶蓋珍珠奶茶、漸層變色甜菜粉、藍色糖漿以及更多您能想像的任何品項：) \n客戶還將有機會當場看到和品嚐Qbubble的更多獨家品項與最新產品！
URL:https://qbubble.com/event/%e7%8f%be%e5%a0%b4%e7%8f%8d%e7%8f%a0%e5%a5%b6%e8%8c%b6%e7%8f%ad-35/?lang=zh-hant
ORGANIZER;CN="QBubble":MAILTO:info@qbubble.com
END:VEVENT
BEGIN:VEVENT
DTSTART;TZID=America/New_York:20240409T140000
DTEND;TZID=America/New_York:20240409T160000
DTSTAMP:20260423T162931
CREATED:20240328T183507Z
LAST-MODIFIED:20240328T183507Z
UID:7944-1712671200-1712678400@qbubble.com
SUMMARY:線上珍珠奶茶培訓班
DESCRIPTION:想計劃發展您的珍奶事業嗎？此課程非常適合您。 \n本週課程將傳授一些經典好喝的各種珍奶飲料:  經典珍珠奶茶\, 阿薩姆奶茶\, 百香果綠茶\, 草莓冰沙\, 卡布奇諾咖啡冰沙、等等。 \n該課還將傳授您如何（正確地）釀製綠茶、煮出Q彈有嚼勁的珍珠粉圓，為您的商店創造混和飲料以及融合美味的冰沙。 \n沒錯！我們是一家專門提供各式各樣珍珠奶茶的批發公司，所以您會發現奶蓋珍珠奶茶、漸層變色甜菜粉、藍色糖漿以及更多您能想像的任何品項：) \n客戶還將有機會看到Qbubble的更多獨家品項與最新產品！
URL:https://qbubble.com/event/%e7%b7%9a%e4%b8%8a%e7%8f%8d%e7%8f%a0%e5%a5%b6%e8%8c%b6%e5%9f%b9%e8%a8%93%e7%8f%ad-66/?lang=zh-hant
ORGANIZER;CN="QBubble":MAILTO:info@qbubble.com
END:VEVENT
BEGIN:VEVENT
DTSTART;TZID=America/New_York:20240402T140000
DTEND;TZID=America/New_York:20240402T160000
DTSTAMP:20260423T162931
CREATED:20240328T183403Z
LAST-MODIFIED:20240328T183403Z
UID:7942-1712066400-1712073600@qbubble.com
SUMMARY:現場珍珠奶茶班
DESCRIPTION:嘗試為您的珍珠奶茶事業找到突破點嗎？此課程非常適合您。 \n本週現場珍珠奶茶班將傳授一些經典好喝的各種珍奶飲料:  經典珍珠奶茶\, 阿薩姆奶茶\, 百香果綠茶\, 草莓冰沙\, 卡布奇諾咖啡冰沙、等等。 \n該課還將傳授您如何（正確地）釀製綠茶、煮出Q彈有嚼勁的珍珠粉圓，為您的商店創造混和飲料以及融合美味的冰沙。 \n沒錯！我們是一家專門提供各式各樣珍珠奶茶的批發公司，所以您會發現奶蓋珍珠奶茶、漸層變色甜菜粉、藍色糖漿以及更多您能想像的任何品項：) \n客戶還將有機會當場看到和品嚐Qbubble的更多獨家品項與最新產品！
URL:https://qbubble.com/event/%e7%8f%be%e5%a0%b4%e7%8f%8d%e7%8f%a0%e5%a5%b6%e8%8c%b6%e7%8f%ad-34/?lang=zh-hant
ORGANIZER;CN="QBubble":MAILTO:info@qbubble.com
END:VEVENT
BEGIN:VEVENT
DTSTART;TZID=America/New_York:20240327T140000
DTEND;TZID=America/New_York:20240327T160000
DTSTAMP:20260423T162931
CREATED:20240313T151218Z
LAST-MODIFIED:20240313T151218Z
UID:7930-1711548000-1711555200@qbubble.com
SUMMARY:線上珍珠奶茶培訓班
DESCRIPTION:想計劃發展您的珍奶事業嗎？此課程非常適合您。 \n本週課程將傳授一些經典好喝的各種珍奶飲料:  經典珍珠奶茶\, 阿薩姆奶茶\, 百香果綠茶\, 草莓冰沙\, 卡布奇諾咖啡冰沙、等等。 \n該課還將傳授您如何（正確地）釀製綠茶、煮出Q彈有嚼勁的珍珠粉圓，為您的商店創造混和飲料以及融合美味的冰沙。 \n沒錯！我們是一家專門提供各式各樣珍珠奶茶的批發公司，所以您會發現奶蓋珍珠奶茶、漸層變色甜菜粉、藍色糖漿以及更多您能想像的任何品項：) \n客戶還將有機會看到Qbubble的更多獨家品項與最新產品！
URL:https://qbubble.com/event/%e7%b7%9a%e4%b8%8a%e7%8f%8d%e7%8f%a0%e5%a5%b6%e8%8c%b6%e5%9f%b9%e8%a8%93%e7%8f%ad-65/?lang=zh-hant
ORGANIZER;CN="QBubble":MAILTO:info@qbubble.com
END:VEVENT
BEGIN:VEVENT
DTSTART;TZID=America/New_York:20240326T140000
DTEND;TZID=America/New_York:20240326T160000
DTSTAMP:20260423T162931
CREATED:20240313T151123Z
LAST-MODIFIED:20240313T151123Z
UID:7928-1711461600-1711468800@qbubble.com
SUMMARY:現場網紅珍奶班
DESCRIPTION:想升級您的菜單追上流行飲料趨勢嗎？此現場課程就對了! \n本週現場網紅珍奶課程將傳授茶寶2024新品網紅珍奶飲料:黑糖珍珠髒髒茶\, 蛋糕布蕾奶茶\, 紫薯髒髒茶\, 芋泥波霸鮮奶\, 蜜桃草莓冰沙\, 等等。 \n沒錯！我們是一家專門提供各式各樣珍珠奶茶的批發公司，所以您會發現奶蓋珍珠奶茶、漸層變色甜菜粉、藍色糖漿以及更多您能想像的任何品項：)
URL:https://qbubble.com/event/%e7%8f%be%e5%a0%b4%e7%b6%b2%e7%b4%85%e7%8f%8d%e5%a5%b6%e7%8f%ad-4/?lang=zh-hant
ORGANIZER;CN="QBubble":MAILTO:info@qbubble.com
END:VEVENT
END:VCALENDAR