BEGIN:VCALENDAR
VERSION:2.0
PRODID:-//茶宝 Qbubble - ECPv6.15.20//NONSGML v1.0//EN
CALSCALE:GREGORIAN
METHOD:PUBLISH
X-WR-CALNAME:茶宝 Qbubble
X-ORIGINAL-URL:https://qbubble.com
X-WR-CALDESC:Events for 茶宝 Qbubble
REFRESH-INTERVAL;VALUE=DURATION:PT1H
X-Robots-Tag:noindex
X-PUBLISHED-TTL:PT1H
BEGIN:VTIMEZONE
TZID:America/New_York
BEGIN:DAYLIGHT
TZOFFSETFROM:-0500
TZOFFSETTO:-0400
TZNAME:EDT
DTSTART:20200308T070000
END:DAYLIGHT
BEGIN:STANDARD
TZOFFSETFROM:-0400
TZOFFSETTO:-0500
TZNAME:EST
DTSTART:20201101T060000
END:STANDARD
BEGIN:DAYLIGHT
TZOFFSETFROM:-0500
TZOFFSETTO:-0400
TZNAME:EDT
DTSTART:20210314T070000
END:DAYLIGHT
BEGIN:STANDARD
TZOFFSETFROM:-0400
TZOFFSETTO:-0500
TZNAME:EST
DTSTART:20211107T060000
END:STANDARD
BEGIN:DAYLIGHT
TZOFFSETFROM:-0500
TZOFFSETTO:-0400
TZNAME:EDT
DTSTART:20220313T070000
END:DAYLIGHT
BEGIN:STANDARD
TZOFFSETFROM:-0400
TZOFFSETTO:-0500
TZNAME:EST
DTSTART:20221106T060000
END:STANDARD
END:VTIMEZONE
BEGIN:VEVENT
DTSTART;TZID=America/New_York:20210204T140000
DTEND;TZID=America/New_York:20210204T160000
DTSTAMP:20260425T230946
CREATED:20210323T133820Z
LAST-MODIFIED:20210323T133820Z
UID:6253-1612447200-1612454400@qbubble.com
SUMMARY:2/4 Online Bubble Tea Class
DESCRIPTION:Online Bubble Tea Classes now available. Please call us at 718-358-5868 to register for classes.You must be registered in order to receive an invitation. We will be online using ZOOM.\nWe will be introducing our products as well as show you how to cook tapioca\, brew tea leaves\, make bubble milk teas\, flavored iced teas\, slushy drinks\, smoothies\, and milkshakes. Add some new drinks to the menu!
URL:https://qbubble.com/event/2-4-online-bubble-tea-class/
ORGANIZER;CN="QBubble":MAILTO:info@qbubble.com
END:VEVENT
END:VCALENDAR