BEGIN:VCALENDAR
VERSION:2.0
PRODID:-//茶宝 QBubble Troika J C Inc. - ECPv6.15.20//NONSGML v1.0//EN
CALSCALE:GREGORIAN
METHOD:PUBLISH
X-WR-CALNAME:茶宝 QBubble Troika J C Inc.
X-ORIGINAL-URL:https://qbubble.com/?lang=zh-hant
X-WR-CALDESC:Events for 茶宝 QBubble Troika J C Inc.
REFRESH-INTERVAL;VALUE=DURATION:PT1H
X-Robots-Tag:noindex
X-PUBLISHED-TTL:PT1H
BEGIN:VTIMEZONE
TZID:America/New_York
BEGIN:DAYLIGHT
TZOFFSETFROM:-0500
TZOFFSETTO:-0400
TZNAME:EDT
DTSTART:20240310T070000
END:DAYLIGHT
BEGIN:STANDARD
TZOFFSETFROM:-0400
TZOFFSETTO:-0500
TZNAME:EST
DTSTART:20241103T060000
END:STANDARD
BEGIN:DAYLIGHT
TZOFFSETFROM:-0500
TZOFFSETTO:-0400
TZNAME:EDT
DTSTART:20250309T070000
END:DAYLIGHT
BEGIN:STANDARD
TZOFFSETFROM:-0400
TZOFFSETTO:-0500
TZNAME:EST
DTSTART:20251102T060000
END:STANDARD
BEGIN:DAYLIGHT
TZOFFSETFROM:-0500
TZOFFSETTO:-0400
TZNAME:EDT
DTSTART:20260308T070000
END:DAYLIGHT
BEGIN:STANDARD
TZOFFSETFROM:-0400
TZOFFSETTO:-0500
TZNAME:EST
DTSTART:20261101T060000
END:STANDARD
END:VTIMEZONE
BEGIN:VEVENT
DTSTART;TZID=America/New_York:20251209T140000
DTEND;TZID=America/New_York:20251209T160000
DTSTAMP:20260423T065944
CREATED:20251125T154723Z
LAST-MODIFIED:20251125T154723Z
UID:8533-1765288800-1765296000@qbubble.com
SUMMARY:線上珍珠奶茶培訓班
DESCRIPTION:想計劃發展您的珍奶事業嗎？此課程非常適合您。 \n本週課程將傳授一些經典好喝的各種珍奶飲料:  經典珍珠奶茶\, 阿薩姆奶茶\, 百香果綠茶\, 草莓冰沙\, 卡布奇諾咖啡冰沙、等等。 \n該課還將傳授您如何（正確地）釀製綠茶、煮出Q彈有嚼勁的珍珠粉圓，為您的商店創造混和飲料以及融合美味的冰沙。 \n沒錯！我們是一家專門提供各式各樣珍珠奶茶的批發公司，所以您會發現奶蓋珍珠奶茶、漸層變色甜菜粉、藍色糖漿以及更多您能想像的任何品項：) \n客戶還將有機會看到Qbubble的更多獨家品項與最新產品！
URL:https://qbubble.com/event/%e7%b7%9a%e4%b8%8a%e7%8f%8d%e7%8f%a0%e5%a5%b6%e8%8c%b6%e5%9f%b9%e8%a8%93%e7%8f%ad-92/?lang=zh-hant
ORGANIZER;CN="QBubble":MAILTO:info@qbubble.com
END:VEVENT
BEGIN:VEVENT
DTSTART;TZID=America/New_York:20251203T140000
DTEND;TZID=America/New_York:20251203T160000
DTSTAMP:20260423T065944
CREATED:20251125T154444Z
LAST-MODIFIED:20251125T154444Z
UID:8531-1764770400-1764777600@qbubble.com
SUMMARY:現場珍珠奶茶班
DESCRIPTION:嘗試為您的珍珠奶茶事業找到突破點嗎？此課程非常適合您。 \n本週現場珍珠奶茶班將傳授一些經典好喝的各種珍奶飲料:  經典珍珠奶茶\, 阿薩姆奶茶\, 百香果綠茶\, 草莓冰沙\, 卡布奇諾咖啡冰沙、等等。 \n該課還將傳授您如何（正確地）釀製綠茶、煮出Q彈有嚼勁的珍珠粉圓，為您的商店創造混和飲料以及融合美味的冰沙。 \n沒錯！我們是一家專門提供各式各樣珍珠奶茶的批發公司，所以您會發現奶蓋珍珠奶茶、漸層變色甜菜粉、藍色糖漿以及更多您能想像的任何品項：)
URL:https://qbubble.com/event/%e7%8f%be%e5%a0%b4%e7%8f%8d%e7%8f%a0%e5%a5%b6%e8%8c%b6%e7%8f%ad-55/?lang=zh-hant
ORGANIZER;CN="QBubble":MAILTO:info@qbubble.com
END:VEVENT
BEGIN:VEVENT
DTSTART;TZID=America/New_York:20251202T140000
DTEND;TZID=America/New_York:20251202T160000
DTSTAMP:20260423T065944
CREATED:20251125T154326Z
LAST-MODIFIED:20251125T154326Z
UID:8529-1764684000-1764691200@qbubble.com
SUMMARY:現場網紅珍奶班
DESCRIPTION:想升級您的菜單追上流行飲料趨勢嗎？此現場課程就對了! \n本週現場網紅珍奶課程將傳授利用茶寶產品製作新品網紅珍奶飲料， 如黑糖珍珠髒髒茶\, 蛋糕布蕾奶茶\, 茉香泰奶綠\, 輕鬆製作氣泡水，如百香果氣泡茶，西柚氣泡水等等。 \n我們是一家專門提供各式各樣珍珠奶茶的批發公司，所以您會發現奶蓋珍珠奶茶、漸層變色甜菜粉、藍色糖漿以及更多您能想像的任何品項：)
URL:https://qbubble.com/event/%e7%8f%be%e5%a0%b4%e7%b6%b2%e7%b4%85%e7%8f%8d%e5%a5%b6%e7%8f%ad-12/?lang=zh-hant
ORGANIZER;CN="QBubble":MAILTO:info@qbubble.com
END:VEVENT
BEGIN:VEVENT
DTSTART;TZID=America/New_York:20251126T160000
DTEND;TZID=America/New_York:20251127T180000
DTSTAMP:20260423T065944
CREATED:20251125T154222Z
LAST-MODIFIED:20251125T154222Z
UID:8527-1764172800-1764266400@qbubble.com
SUMMARY:感恩節送貨更改
DESCRIPTION:我們將於11/26 4點提早下班，11/27感恩節休息一天。紐約市送貨是周五11/28， 請與11/26 4點前完成訂單以確保送貨安排!
URL:https://qbubble.com/event/%e6%84%9f%e6%81%a9%e7%af%80%e9%80%81%e8%b2%a8%e6%9b%b4%e6%94%b9-4/?lang=zh-hant
ORGANIZER;CN="QBubble":MAILTO:info@qbubble.com
END:VEVENT
BEGIN:VEVENT
DTSTART;TZID=America/New_York:20251022T140000
DTEND;TZID=America/New_York:20251022T160000
DTSTAMP:20260423T065944
CREATED:20251007T143512Z
LAST-MODIFIED:20251007T143512Z
UID:8497-1761141600-1761148800@qbubble.com
SUMMARY:現場珍珠奶茶班
DESCRIPTION:想計劃發展您的珍奶事業嗎？此課程非常適合您。 \n本週現場珍珠奶茶班將傳授一些經典好喝的各種珍奶飲料:  經典珍珠奶茶\, 阿薩姆奶茶\, 百香果綠茶\, 草莓冰沙\, 卡布奇諾咖啡冰沙、等等。 \n該課還將傳授您如何（正確地）釀製綠茶、煮出Q彈有嚼勁的珍珠粉圓，為您的商店創造混和飲料以及融合美味的冰沙。 \n沒錯！我們是一家專門提供各式各樣珍珠奶茶的批發公司，所以您會發現奶蓋珍珠奶茶、漸層變色甜菜粉、藍色糖漿以及更多您能想像的任何品項：) \n客戶還將有機會當場看到和品嚐Qbubble的更多獨家品項與最新產品！
URL:https://qbubble.com/event/%e7%8f%be%e5%a0%b4%e7%8f%8d%e7%8f%a0%e5%a5%b6%e8%8c%b6%e7%8f%ad-54/?lang=zh-hant
ORGANIZER;CN="QBubble":MAILTO:info@qbubble.com
END:VEVENT
BEGIN:VEVENT
DTSTART;TZID=America/New_York:20251015T140000
DTEND;TZID=America/New_York:20251015T160000
DTSTAMP:20260423T065944
CREATED:20251007T143413Z
LAST-MODIFIED:20251007T143413Z
UID:8495-1760536800-1760544000@qbubble.com
SUMMARY:線上珍珠奶茶培訓班
DESCRIPTION:嘗試為您的珍珠奶茶事業找到突破點嗎？此課程非常適合您。 \n本週課程將傳授一些經典好喝的各種珍奶飲料:  經典珍珠奶茶\, 阿薩姆奶茶\, 百香果綠茶\, 草莓冰沙\, 卡布奇諾咖啡冰沙、等等。 \n該課還將傳授您如何（正確地）釀製綠茶、煮出Q彈有嚼勁的珍珠粉圓，為您的商店創造混和飲料以及融合美味的冰沙。 \n沒錯！我們是一家專門提供各式各樣珍珠奶茶的批發公司，所以您會發現奶蓋珍珠奶茶、漸層變色甜菜粉、藍色糖漿以及更多您能想像的任何品項：) \n客戶還將有機會看到Qbubble的更多獨家品項與最新產品！
URL:https://qbubble.com/event/%e7%b7%9a%e4%b8%8a%e7%8f%8d%e7%8f%a0%e5%a5%b6%e8%8c%b6%e5%9f%b9%e8%a8%93%e7%8f%ad-91/?lang=zh-hant
ORGANIZER;CN="QBubble":MAILTO:info@qbubble.com
END:VEVENT
BEGIN:VEVENT
DTSTART;TZID=America/New_York:20251014T140000
DTEND;TZID=America/New_York:20251014T160000
DTSTAMP:20260423T065944
CREATED:20251007T143315Z
LAST-MODIFIED:20251007T143315Z
UID:8493-1760450400-1760457600@qbubble.com
SUMMARY:線上網紅珍奶班
DESCRIPTION:想升級您的菜單追上流行飲料趨勢嗎？此線上課程就對了! \n本週網紅珍奶課程將傳授茶寶新品網紅珍奶飲料:黑糖珍珠髒髒茶\, 蛋糕布蕾奶茶\, 茉香泰奶綠\, 輕鬆製作氣泡水，如百香果氣泡茶，西柚氣泡水等等。 \n沒錯！我們是一家專門提供各式各樣珍珠奶茶的批發公司，所以您會發現奶蓋珍珠奶茶、漸層變色甜菜粉、藍色糖漿以及更多您能想像的任何品項：)
URL:https://qbubble.com/event/%e7%b7%9a%e4%b8%8a%e7%b6%b2%e7%b4%85%e7%8f%8d%e5%a5%b6%e7%8f%ad-10/?lang=zh-hant
ORGANIZER;CN="QBubble":MAILTO:info@qbubble.com
END:VEVENT
BEGIN:VEVENT
DTSTART;TZID=America/New_York:20250923T140000
DTEND;TZID=America/New_York:20250923T160000
DTSTAMP:20260423T065944
CREATED:20250911T191914Z
LAST-MODIFIED:20250911T191914Z
UID:8478-1758636000-1758643200@qbubble.com
SUMMARY:現場網紅珍奶班
DESCRIPTION:想升級您的菜單追上流行飲料趨勢嗎？此現場課程就對了! \n本週現場網紅珍奶課程將傳授利用茶寶產品製作新品網紅珍奶飲料， 如黑糖珍珠髒髒茶\, 蛋糕布蕾奶茶\, 茉香泰奶綠\, 輕鬆製作氣泡水，如百香果氣泡茶，西柚氣泡水等等。 \n我們是一家專門提供各式各樣珍珠奶茶的批發公司，所以您會發現奶蓋珍珠奶茶、漸層變色甜菜粉、藍色糖漿以及更多您能想像的任何品項：)
URL:https://qbubble.com/event/%e7%8f%be%e5%a0%b4%e7%b6%b2%e7%b4%85%e7%8f%8d%e5%a5%b6%e7%8f%ad-11/?lang=zh-hant
ORGANIZER;CN="QBubble":MAILTO:info@qbubble.com
END:VEVENT
BEGIN:VEVENT
DTSTART;TZID=America/New_York:20250923T140000
DTEND;TZID=America/New_York:20250923T160000
DTSTAMP:20260423T065944
CREATED:20250911T191820Z
LAST-MODIFIED:20250911T191820Z
UID:8476-1758636000-1758643200@qbubble.com
SUMMARY:線上珍珠奶茶培訓班
DESCRIPTION:想計劃發展您的珍奶事業嗎？此課程非常適合您。 \n本週課程將傳授一些經典好喝的各種珍奶飲料:  經典珍珠奶茶\, 阿薩姆奶茶\, 百香果綠茶\, 草莓冰沙\, 卡布奇諾咖啡冰沙、等等。 \n該課還將傳授您如何（正確地）釀製綠茶、煮出Q彈有嚼勁的珍珠粉圓，為您的商店創造混和飲料以及融合美味的冰沙。 \n沒錯！我們是一家專門提供各式各樣珍珠奶茶的批發公司，所以您會發現奶蓋珍珠奶茶、漸層變色甜菜粉、藍色糖漿以及更多您能想像的任何品項：) \n客戶還將有機會看到Qbubble的更多獨家品項與最新產品！
URL:https://qbubble.com/event/%e7%b7%9a%e4%b8%8a%e7%8f%8d%e7%8f%a0%e5%a5%b6%e8%8c%b6%e5%9f%b9%e8%a8%93%e7%8f%ad-90/?lang=zh-hant
ORGANIZER;CN="QBubble":MAILTO:info@qbubble.com
END:VEVENT
BEGIN:VEVENT
DTSTART;VALUE=DATE:20250901
DTEND;VALUE=DATE:20250902
DTSTAMP:20260423T065944
CREATED:20250829T141524Z
LAST-MODIFIED:20250829T141524Z
UID:8469-1756684800-1756771199@qbubble.com
SUMMARY:Labor Day 送貨更改
DESCRIPTION:我們將於 9/1/2025 勞動節休息一天! 紐約市和新澤西 送貨將為 9/2 星期二。 \n請在08/29（星期五）營業時間內下單，以確保出貨安排！
URL:https://qbubble.com/event/labor-day-%e9%80%81%e8%b2%a8%e6%9b%b4%e6%94%b9/?lang=zh-hant
ORGANIZER;CN="QBubble":MAILTO:info@qbubble.com
END:VEVENT
BEGIN:VEVENT
DTSTART;TZID=America/New_York:20250813T140000
DTEND;TZID=America/New_York:20250813T160000
DTSTAMP:20260423T065944
CREATED:20250729T141454Z
LAST-MODIFIED:20250729T141454Z
UID:8456-1755093600-1755100800@qbubble.com
SUMMARY:現場珍珠奶茶班
DESCRIPTION:想計劃發展您的珍奶事業嗎？此課程非常適合您。 \n本週現場珍珠奶茶班將傳授一些經典好喝的各種珍奶飲料:  經典珍珠奶茶\, 阿薩姆奶茶\, 百香果綠茶\, 草莓冰沙\, 卡布奇諾咖啡冰沙、等等。 \n該課還將傳授您如何（正確地）釀製綠茶、煮出Q彈有嚼勁的珍珠粉圓，為您的商店創造混和飲料以及融合美味的冰沙。 \n沒錯！我們是一家專門提供各式各樣珍珠奶茶的批發公司，所以您會發現奶蓋珍珠奶茶、漸層變色甜菜粉、藍色糖漿以及更多您能想像的任何品項：)
URL:https://qbubble.com/event/%e7%8f%be%e5%a0%b4%e7%8f%8d%e7%8f%a0%e5%a5%b6%e8%8c%b6%e7%8f%ad-53/?lang=zh-hant
ORGANIZER;CN="QBubble":MAILTO:info@qbubble.com
END:VEVENT
BEGIN:VEVENT
DTSTART;TZID=America/New_York:20250806T140000
DTEND;TZID=America/New_York:20250806T160000
DTSTAMP:20260423T065944
CREATED:20250729T141353Z
LAST-MODIFIED:20250729T141353Z
UID:8454-1754488800-1754496000@qbubble.com
SUMMARY:線上珍珠奶茶培訓班
DESCRIPTION:嘗試為您的珍珠奶茶事業找到突破點嗎？此課程非常適合您。 \n本週課程將傳授一些經典好喝的各種珍奶飲料:  經典珍珠奶茶\, 阿薩姆奶茶\, 百香果綠茶\, 草莓冰沙\, 卡布奇諾咖啡冰沙、等等。 \n該課還將傳授您如何（正確地）釀製綠茶、煮出Q彈有嚼勁的珍珠粉圓，為您的商店創造混和飲料以及融合美味的冰沙。 \n沒錯！我們是一家專門提供各式各樣珍珠奶茶的批發公司，所以您會發現奶蓋珍珠奶茶、漸層變色甜菜粉、藍色糖漿以及更多您能想像的任何品項：) \n客戶還將有機會看到Qbubble的更多獨家品項與最新產品！
URL:https://qbubble.com/event/%e7%b7%9a%e4%b8%8a%e7%8f%8d%e7%8f%a0%e5%a5%b6%e8%8c%b6%e5%9f%b9%e8%a8%93%e7%8f%ad-89/?lang=zh-hant
ORGANIZER;CN="QBubble":MAILTO:info@qbubble.com
END:VEVENT
BEGIN:VEVENT
DTSTART;TZID=America/New_York:20250805T140000
DTEND;TZID=America/New_York:20250805T160000
DTSTAMP:20260423T065944
CREATED:20250729T141301Z
LAST-MODIFIED:20250729T141301Z
UID:8452-1754402400-1754409600@qbubble.com
SUMMARY:線上網紅珍奶班
DESCRIPTION:想升級您的菜單追上流行飲料趨勢嗎？此線上課程就對了! \n本週網紅珍奶課程將傳授茶寶新品網紅珍奶飲料:黑糖珍珠髒髒茶\, 蛋糕布蕾奶茶\, 茉香泰奶綠\, 輕鬆製作氣泡水，如百香果氣泡茶，西柚氣泡水等等。 \n沒錯！我們是一家專門提供各式各樣珍珠奶茶的批發公司，所以您會發現奶蓋珍珠奶茶、漸層變色甜菜粉、藍色糖漿以及更多您能想像的任何品項：)
URL:https://qbubble.com/event/%e7%b7%9a%e4%b8%8a%e7%b6%b2%e7%b4%85%e7%8f%8d%e5%a5%b6%e7%8f%ad-9/?lang=zh-hant
ORGANIZER;CN="QBubble":MAILTO:info@qbubble.com
END:VEVENT
BEGIN:VEVENT
DTSTART;TZID=America/New_York:20250730T140000
DTEND;TZID=America/New_York:20250730T160000
DTSTAMP:20260423T065944
CREATED:20250709T192036Z
LAST-MODIFIED:20250709T192036Z
UID:8443-1753884000-1753891200@qbubble.com
SUMMARY:現場珍珠奶茶班
DESCRIPTION:嘗試為您的珍珠奶茶事業找到突破點嗎？此課程非常適合您。 \n本週現場珍珠奶茶班將傳授一些經典好喝的各種珍奶飲料:  經典珍珠奶茶\, 阿薩姆奶茶\, 百香果綠茶\, 草莓冰沙\, 卡布奇諾咖啡冰沙、等等。 \n該課還將傳授您如何（正確地）釀製綠茶、煮出Q彈有嚼勁的珍珠粉圓，為您的商店創造混和飲料以及融合美味的冰沙。 \n沒錯！我們是一家專門提供各式各樣珍珠奶茶的批發公司，所以您會發現奶蓋珍珠奶茶、漸層變色甜菜粉、藍色糖漿以及更多您能想像的任何品項：)
URL:https://qbubble.com/event/%e7%8f%be%e5%a0%b4%e7%8f%8d%e7%8f%a0%e5%a5%b6%e8%8c%b6%e7%8f%ad-52/?lang=zh-hant
ORGANIZER;CN="QBubble":MAILTO:info@qbubble.com
END:VEVENT
BEGIN:VEVENT
DTSTART;TZID=America/New_York:20250723T140000
DTEND;TZID=America/New_York:20250723T160000
DTSTAMP:20260423T065944
CREATED:20250709T191920Z
LAST-MODIFIED:20250709T191920Z
UID:8441-1753279200-1753286400@qbubble.com
SUMMARY:線上珍珠奶茶培訓班
DESCRIPTION:想計劃發展您的珍奶事業嗎？此課程非常適合您。 \n本週課程將傳授一些經典好喝的各種珍奶飲料:  經典珍珠奶茶\, 阿薩姆奶茶\, 百香果綠茶\, 草莓冰沙\, 卡布奇諾咖啡冰沙、等等。 \n該課還將傳授您如何（正確地）釀製綠茶、煮出Q彈有嚼勁的珍珠粉圓，為您的商店創造混和飲料以及融合美味的冰沙。 \n沒錯！我們是一家專門提供各式各樣珍珠奶茶的批發公司，所以您會發現奶蓋珍珠奶茶、漸層變色甜菜粉、藍色糖漿以及更多您能想像的任何品項：) \n客戶還將有機會看到Qbubble的更多獨家品項與最新產品！
URL:https://qbubble.com/event/%e7%b7%9a%e4%b8%8a%e7%8f%8d%e7%8f%a0%e5%a5%b6%e8%8c%b6%e5%9f%b9%e8%a8%93%e7%8f%ad-88/?lang=zh-hant
ORGANIZER;CN="QBubble":MAILTO:info@qbubble.com
END:VEVENT
BEGIN:VEVENT
DTSTART;TZID=America/New_York:20250716T140000
DTEND;TZID=America/New_York:20250716T160000
DTSTAMP:20260423T065944
CREATED:20250709T191756Z
LAST-MODIFIED:20250709T191756Z
UID:8439-1752674400-1752681600@qbubble.com
SUMMARY:現場珍珠奶茶班
DESCRIPTION:想計劃發展您的珍奶事業嗎？此課程非常適合您。 \n本週現場珍珠奶茶班將傳授一些經典好喝的各種珍奶飲料:  經典珍珠奶茶\, 阿薩姆奶茶\, 百香果綠茶\, 草莓冰沙\, 卡布奇諾咖啡冰沙、等等。 \n該課還將傳授您如何（正確地）釀製綠茶、煮出Q彈有嚼勁的珍珠粉圓，為您的商店創造混和飲料以及融合美味的冰沙。 \n沒錯！我們是一家專門提供各式各樣珍珠奶茶的批發公司，所以您會發現奶蓋珍珠奶茶、漸層變色甜菜粉、藍色糖漿以及更多您能想像的任何品項：)
URL:https://qbubble.com/event/%e7%8f%be%e5%a0%b4%e7%8f%8d%e7%8f%a0%e5%a5%b6%e8%8c%b6%e7%8f%ad-51/?lang=zh-hant
ORGANIZER;CN="QBubble":MAILTO:info@qbubble.com
END:VEVENT
BEGIN:VEVENT
DTSTART;TZID=America/New_York:20250709T140000
DTEND;TZID=America/New_York:20250709T160000
DTSTAMP:20260423T065944
CREATED:20250625T183404Z
LAST-MODIFIED:20250625T183404Z
UID:8425-1752069600-1752076800@qbubble.com
SUMMARY:線上珍珠奶茶培訓班
DESCRIPTION:想計劃發展您的珍奶事業嗎？此課程非常適合您。 \n本週課程將傳授一些經典好喝的各種珍奶飲料:  經典珍珠奶茶\, 阿薩姆奶茶\, 百香果綠茶\, 草莓冰沙\, 卡布奇諾咖啡冰沙、等等。 \n該課還將傳授您如何（正確地）釀製綠茶、煮出Q彈有嚼勁的珍珠粉圓，為您的商店創造混和飲料以及融合美味的冰沙。 \n沒錯！我們是一家專門提供各式各樣珍珠奶茶的批發公司，所以您會發現奶蓋珍珠奶茶、漸層變色甜菜粉、藍色糖漿以及更多您能想像的任何品項：) \n客戶還將有機會看到Qbubble的更多獨家品項與最新產品！
URL:https://qbubble.com/event/%e7%b7%9a%e4%b8%8a%e7%8f%8d%e7%8f%a0%e5%a5%b6%e8%8c%b6%e5%9f%b9%e8%a8%93%e7%8f%ad-87/?lang=zh-hant
ORGANIZER;CN="QBubble":MAILTO:info@qbubble.com
END:VEVENT
BEGIN:VEVENT
DTSTART;TZID=America/New_York:20250708T140000
DTEND;TZID=America/New_York:20250708T160000
DTSTAMP:20260423T065944
CREATED:20250625T183252Z
LAST-MODIFIED:20250625T183433Z
UID:8423-1751983200-1751990400@qbubble.com
SUMMARY:線上網紅珍奶班
DESCRIPTION:想升級您的菜單追上流行飲料趨勢嗎？此現場課程就對了! \n本週現場網紅珍奶課程將傳授利用茶寶產品製作新品網紅珍奶飲料， 如黑糖珍珠髒髒茶\, 蛋糕布蕾奶茶\, 茉香泰奶綠\, 輕鬆製作氣泡水，如百香果氣泡茶，西柚氣泡水等等。 \n我們是一家專門提供各式各樣珍珠奶茶的批發公司，所以您會發現奶蓋珍珠奶茶、漸層變色甜菜粉、藍色糖漿以及更多您能想像的任何品項：)
URL:https://qbubble.com/event/%e7%8f%be%e5%a0%b4%e7%b6%b2%e7%b4%85%e7%8f%8d%e5%a5%b6%e7%8f%ad-10/?lang=zh-hant
ORGANIZER;CN="QBubble":MAILTO:info@qbubble.com
END:VEVENT
BEGIN:VEVENT
DTSTART;VALUE=DATE:20250704
DTEND;VALUE=DATE:20250705
DTSTAMP:20260423T065944
CREATED:20250625T183616Z
LAST-MODIFIED:20250625T183616Z
UID:8428-1751587200-1751673599@qbubble.com
SUMMARY:國慶節送貨更改
DESCRIPTION:我們將於 7/4/2025 國慶節休息一天! 紐約市送貨安排如下：7/2 (Wed)\, 7/5 (Sat) 位子有限\, 7/7 (Mon). \n下班後透過電郵，短信與微信下單將會安排在下一個行程日送貨!
URL:https://qbubble.com/event/%e5%9c%8b%e6%85%b6%e7%af%80%e9%80%81%e8%b2%a8%e6%9b%b4%e6%94%b9/?lang=zh-hant
ORGANIZER;CN="QBubble":MAILTO:info@qbubble.com
END:VEVENT
BEGIN:VEVENT
DTSTART;TZID=America/New_York:20250701T140000
DTEND;TZID=America/New_York:20250701T160000
DTSTAMP:20260423T065944
CREATED:20250625T183203Z
LAST-MODIFIED:20250625T183702Z
UID:8421-1751378400-1751385600@qbubble.com
SUMMARY:現場珍珠奶茶班
DESCRIPTION:嘗試為您的珍珠奶茶事業找到突破點嗎？此課程非常適合您。 \n本週課程將傳授一些經典好喝的各種珍奶飲料:  經典珍珠奶茶\, 阿薩姆奶茶\, 百香果綠茶\, 草莓冰沙\, 卡布奇諾咖啡冰沙、等等。 \n該課還將傳授您如何（正確地）釀製綠茶、煮出Q彈有嚼勁的珍珠粉圓，為您的商店創造混和飲料以及融合美味的冰沙。 \n沒錯！我們是一家專門提供各式各樣珍珠奶茶的批發公司，所以您會發現奶蓋珍珠奶茶、漸層變色甜菜粉、藍色糖漿以及更多您能想像的任何品項：) \n客戶還將有機會看到Qbubble的更多獨家品項與最新產品！
URL:https://qbubble.com/event/%e7%b7%9a%e4%b8%8a%e7%8f%8d%e7%8f%a0%e5%a5%b6%e8%8c%b6%e5%9f%b9%e8%a8%93%e7%8f%ad-86/?lang=zh-hant
ORGANIZER;CN="QBubble":MAILTO:info@qbubble.com
END:VEVENT
BEGIN:VEVENT
DTSTART;TZID=America/New_York:20250618T140000
DTEND;TZID=America/New_York:20250618T160000
DTSTAMP:20260423T065944
CREATED:20250606T155033Z
LAST-MODIFIED:20250606T155033Z
UID:8410-1750255200-1750262400@qbubble.com
SUMMARY:現場網紅珍奶班
DESCRIPTION:想升級您的菜單追上流行飲料趨勢嗎？此現場課程就對了! \n本週現場網紅珍奶課程將傳授利用茶寶產品製作新品網紅珍奶飲料， 如黑糖珍珠髒髒茶\, 蛋糕布蕾奶茶\, 茉香泰奶綠\, 輕鬆製作氣泡水，如百香果氣泡茶，西柚氣泡水等等。 \n我們是一家專門提供各式各樣珍珠奶茶的批發公司，所以您會發現奶蓋珍珠奶茶、漸層變色甜菜粉、藍色糖漿以及更多您能想像的任何品項：)
URL:https://qbubble.com/event/%e7%8f%be%e5%a0%b4%e7%b6%b2%e7%b4%85%e7%8f%8d%e5%a5%b6%e7%8f%ad-9/?lang=zh-hant
ORGANIZER;CN="QBubble":MAILTO:info@qbubble.com
END:VEVENT
BEGIN:VEVENT
DTSTART;TZID=America/New_York:20250617T140000
DTEND;TZID=America/New_York:20250617T160000
DTSTAMP:20260423T065944
CREATED:20250606T154933Z
LAST-MODIFIED:20250606T154933Z
UID:8408-1750168800-1750176000@qbubble.com
SUMMARY:現場珍珠奶茶班
DESCRIPTION:嘗試為您的珍珠奶茶事業找到突破點嗎？此課程非常適合您。 \n本週現場珍珠奶茶班將傳授一些經典好喝的各種珍奶飲料:  經典珍珠奶茶\, 阿薩姆奶茶\, 百香果綠茶\, 草莓冰沙\, 卡布奇諾咖啡冰沙、等等。 \n該課還將傳授您如何（正確地）釀製綠茶、煮出Q彈有嚼勁的珍珠粉圓，為您的商店創造混和飲料以及融合美味的冰沙。 \n沒錯！我們是一家專門提供各式各樣珍珠奶茶的批發公司，所以您會發現奶蓋珍珠奶茶、漸層變色甜菜粉、藍色糖漿以及更多您能想像的任何品項：) \n客戶還將有機會當場看到和品嚐Qbubble的更多獨家品項與最新產品！
URL:https://qbubble.com/event/%e7%8f%be%e5%a0%b4%e7%8f%8d%e7%8f%a0%e5%a5%b6%e8%8c%b6%e7%8f%ad-50/?lang=zh-hant
ORGANIZER;CN="QBubble":MAILTO:info@qbubble.com
END:VEVENT
BEGIN:VEVENT
DTSTART;TZID=America/New_York:20250611T140000
DTEND;TZID=America/New_York:20250611T160000
DTSTAMP:20260423T065944
CREATED:20250606T154701Z
LAST-MODIFIED:20250606T154838Z
UID:8404-1749650400-1749657600@qbubble.com
SUMMARY:線上珍珠奶茶培訓班
DESCRIPTION:想計劃發展您的珍奶事業嗎？此課程非常適合您。 \n本週課程將傳授一些經典好喝的各種珍奶飲料:  經典珍珠奶茶\, 阿薩姆奶茶\, 百香果綠茶\, 草莓冰沙\, 卡布奇諾咖啡冰沙、等等。 \n該課還將傳授您如何（正確地）釀製綠茶、煮出Q彈有嚼勁的珍珠粉圓，為您的商店創造混和飲料以及融合美味的冰沙。 \n沒錯！我們是一家專門提供各式各樣珍珠奶茶的批發公司，所以您會發現奶蓋珍珠奶茶、漸層變色甜菜粉、藍色糖漿以及更多您能想像的任何品項：) \n客戶還將有機會看到Qbubble的更多獨家品項與最新產品！
URL:https://qbubble.com/event/online-bubble-tea-zoom-class/?lang=zh-hant
ORGANIZER;CN="QBubble":MAILTO:info@qbubble.com
END:VEVENT
BEGIN:VEVENT
DTSTART;TZID=America/New_York:20250603T140000
DTEND;TZID=America/New_York:20250603T160000
DTSTAMP:20260423T065944
CREATED:20250523T142126Z
LAST-MODIFIED:20250523T142126Z
UID:8381-1748959200-1748966400@qbubble.com
SUMMARY:線上網紅珍奶班
DESCRIPTION:想升級您的菜單追上流行飲料趨勢嗎？此線上課程就對了! \n本週網紅珍奶課程將傳授茶寶新品網紅珍奶飲料:黑糖珍珠髒髒茶\, 蛋糕布蕾奶茶\, 茉香泰奶綠\, 輕鬆製作氣泡水，如百香果氣泡茶，西柚氣泡水等等。 \n沒錯！我們是一家專門提供各式各樣珍珠奶茶的批發公司，所以您會發現奶蓋珍珠奶茶、漸層變色甜菜粉、藍色糖漿以及更多您能想像的任何品項：)
URL:https://qbubble.com/event/%e7%b7%9a%e4%b8%8a%e7%b6%b2%e7%b4%85%e7%8f%8d%e5%a5%b6%e7%8f%ad-8/?lang=zh-hant
ORGANIZER;CN="QBubble":MAILTO:info@qbubble.com
END:VEVENT
BEGIN:VEVENT
DTSTART;TZID=America/New_York:20250528T140000
DTEND;TZID=America/New_York:20250528T160000
DTSTAMP:20260423T065944
CREATED:20250523T141901Z
LAST-MODIFIED:20250523T141901Z
UID:8377-1748440800-1748448000@qbubble.com
SUMMARY:線上珍珠奶茶培訓班
DESCRIPTION:嘗試為您的珍珠奶茶事業找到突破點嗎？此課程非常適合您。 \n本週課程將傳授一些經典好喝的各種珍奶飲料:  經典珍珠奶茶\, 阿薩姆奶茶\, 百香果綠茶\, 草莓冰沙\, 卡布奇諾咖啡冰沙、等等。 \n該課還將傳授您如何（正確地）釀製綠茶、煮出Q彈有嚼勁的珍珠粉圓，為您的商店創造混和飲料以及融合美味的冰沙。
URL:https://qbubble.com/event/%e7%b7%9a%e4%b8%8a%e7%8f%8d%e7%8f%a0%e5%a5%b6%e8%8c%b6%e5%9f%b9%e8%a8%93%e7%8f%ad-85/?lang=zh-hant
ORGANIZER;CN="QBubble":MAILTO:info@qbubble.com
END:VEVENT
BEGIN:VEVENT
DTSTART;VALUE=DATE:20250526
DTEND;VALUE=DATE:20250527
DTSTAMP:20260423T065944
CREATED:20250523T141708Z
LAST-MODIFIED:20250523T141708Z
UID:8375-1748217600-1748303999@qbubble.com
SUMMARY:國殤日送貨更改
DESCRIPTION:我們將於國殤日5/26/2025 休息一天。紐約市送貨將改為 5/27 (星期二)\, 請在5/23(週五)下午4點前訂單以確保送貨安排！ \n如有不便，敬請見諒。
URL:https://qbubble.com/event/%e5%9c%8b%e6%ae%a4%e6%97%a5%e9%80%81%e8%b2%a8%e6%9b%b4%e6%94%b9/?lang=zh-hant
ORGANIZER;CN="QBubble":MAILTO:info@qbubble.com
END:VEVENT
BEGIN:VEVENT
DTSTART;TZID=America/New_York:20250521T140000
DTEND;TZID=America/New_York:20250521T160000
DTSTAMP:20260423T065944
CREATED:20250509T145825Z
LAST-MODIFIED:20250509T145825Z
UID:8363-1747836000-1747843200@qbubble.com
SUMMARY:現場珍珠奶茶班
DESCRIPTION:嘗試為您的珍珠奶茶事業找到突破點嗎？此課程非常適合您。 \n本週現場珍珠奶茶班將傳授一些經典好喝的各種珍奶飲料:  經典珍珠奶茶\, 阿薩姆奶茶\, 百香果綠茶\, 草莓冰沙\, 卡布奇諾咖啡冰沙、等等。 \n該課還將傳授您如何（正確地）釀製綠茶、煮出Q彈有嚼勁的珍珠粉圓，為您的商店創造混和飲料以及融合美味的冰沙。 \n沒錯！我們是一家專門提供各式各樣珍珠奶茶的批發公司，所以您會發現奶蓋珍珠奶茶、漸層變色甜菜粉、藍色糖漿以及更多您能想像的任何品項：) \n客戶還將有機會當場看到和品嚐Qbubble的更多獨家品項與最新產品！
URL:https://qbubble.com/event/%e7%8f%be%e5%a0%b4%e7%8f%8d%e7%8f%a0%e5%a5%b6%e8%8c%b6%e7%8f%ad-49/?lang=zh-hant
ORGANIZER;CN="QBubble":MAILTO:info@qbubble.com
END:VEVENT
BEGIN:VEVENT
DTSTART;TZID=America/New_York:20250520T140000
DTEND;TZID=America/New_York:20250520T160000
DTSTAMP:20260423T065944
CREATED:20250509T150043Z
LAST-MODIFIED:20250509T150043Z
UID:8365-1747749600-1747756800@qbubble.com
SUMMARY:現場網紅珍奶班
DESCRIPTION:想升級您的菜單追上流行飲料趨勢嗎？此現場課程就對了! \n本週現場網紅珍奶課程將傳授利用茶寶產品製作新品網紅珍奶飲料， 如黑糖珍珠髒髒茶\, 蛋糕布蕾奶茶\, 茉香泰奶綠\, 輕鬆製作氣泡水，如百香果氣泡茶，西柚氣泡水等等。 \n我們是一家專門提供各式各樣珍珠奶茶的批發公司，所以您會發現奶蓋珍珠奶茶、漸層變色甜菜粉、藍色糖漿以及更多您能想像的任何品項：)
URL:https://qbubble.com/event/%e7%8f%be%e5%a0%b4%e7%b6%b2%e7%b4%85%e7%8f%8d%e5%a5%b6%e7%8f%ad-8/?lang=zh-hant
ORGANIZER;CN="QBubble":MAILTO:info@qbubble.com
END:VEVENT
BEGIN:VEVENT
DTSTART;TZID=America/New_York:20250514T140000
DTEND;TZID=America/New_York:20250514T160000
DTSTAMP:20260423T065944
CREATED:20250418T171137Z
LAST-MODIFIED:20250509T150130Z
UID:8342-1747231200-1747238400@qbubble.com
SUMMARY:線上珍珠奶茶培訓班
DESCRIPTION:想計劃發展您的珍奶事業嗎？此課程非常適合您。 \n本週課程將傳授一些經典好喝的各種珍奶飲料:  經典珍珠奶茶\, 阿薩姆奶茶\, 百香果綠茶\, 草莓冰沙\, 卡布奇諾咖啡冰沙、等等。 \n該課還將傳授您如何（正確地）釀製綠茶、煮出Q彈有嚼勁的珍珠粉圓，為您的商店創造混和飲料以及融合美味的冰沙。 \n沒錯！我們是一家專門提供各式各樣珍珠奶茶的批發公司，所以您會發現奶蓋珍珠奶茶、漸層變色甜菜粉、藍色糖漿以及更多您能想像的任何品項：) \n客戶還將有機會看到Qbubble的更多獨家品項與最新產品！
URL:https://qbubble.com/event/%e7%b7%9a%e4%b8%8a%e7%8f%8d%e7%8f%a0%e5%a5%b6%e8%8c%b6%e5%9f%b9%e8%a8%93%e7%8f%ad-84/?lang=zh-hant
ORGANIZER;CN="QBubble":MAILTO:info@qbubble.com
END:VEVENT
BEGIN:VEVENT
DTSTART;TZID=America/New_York:20250423T140000
DTEND;TZID=America/New_York:20250423T160000
DTSTAMP:20260423T065944
CREATED:20250418T171040Z
LAST-MODIFIED:20250418T171040Z
UID:8340-1745416800-1745424000@qbubble.com
SUMMARY:現場網紅珍奶班
DESCRIPTION:想升級您的菜單追上流行飲料趨勢嗎？此現場課程就對了!\n本週現場網紅珍奶課程將傳授利用茶寶產品製作新品網紅珍奶飲料， 如黑糖珍珠髒髒茶\, 蛋糕布蕾奶茶\, 茉香泰奶綠\, 輕鬆製作氣泡水，如百香果氣泡茶，西柚氣泡水等等。\n我們是一家專門提供各式各樣珍珠奶茶的批發公司，所以您會發現奶蓋珍珠奶茶、漸層變色甜菜粉、藍色糖漿以及更多您能想像的任何品項：)
URL:https://qbubble.com/event/%e7%8f%be%e5%a0%b4%e7%b6%b2%e7%b4%85%e7%8f%8d%e5%a5%b6%e7%8f%ad-7/?lang=zh-hant
ORGANIZER;CN="QBubble":MAILTO:info@qbubble.com
END:VEVENT
END:VCALENDAR