BEGIN:VCALENDAR
VERSION:2.0
PRODID:-//茶宝 QBubble Troika J C Inc. - ECPv6.15.20//NONSGML v1.0//EN
CALSCALE:GREGORIAN
METHOD:PUBLISH
X-WR-CALNAME:茶宝 QBubble Troika J C Inc.
X-ORIGINAL-URL:https://qbubble.com/?lang=zh-hant
X-WR-CALDESC:Events for 茶宝 QBubble Troika J C Inc.
REFRESH-INTERVAL;VALUE=DURATION:PT1H
X-Robots-Tag:noindex
X-PUBLISHED-TTL:PT1H
BEGIN:VTIMEZONE
TZID:America/New_York
BEGIN:DAYLIGHT
TZOFFSETFROM:-0500
TZOFFSETTO:-0400
TZNAME:EDT
DTSTART:20200308T070000
END:DAYLIGHT
BEGIN:STANDARD
TZOFFSETFROM:-0400
TZOFFSETTO:-0500
TZNAME:EST
DTSTART:20201101T060000
END:STANDARD
BEGIN:DAYLIGHT
TZOFFSETFROM:-0500
TZOFFSETTO:-0400
TZNAME:EDT
DTSTART:20210314T070000
END:DAYLIGHT
BEGIN:STANDARD
TZOFFSETFROM:-0400
TZOFFSETTO:-0500
TZNAME:EST
DTSTART:20211107T060000
END:STANDARD
BEGIN:DAYLIGHT
TZOFFSETFROM:-0500
TZOFFSETTO:-0400
TZNAME:EDT
DTSTART:20220313T070000
END:DAYLIGHT
BEGIN:STANDARD
TZOFFSETFROM:-0400
TZOFFSETTO:-0500
TZNAME:EST
DTSTART:20221106T060000
END:STANDARD
END:VTIMEZONE
BEGIN:VEVENT
DTSTART;TZID=America/New_York:20211216T140000
DTEND;TZID=America/New_York:20211216T160000
DTSTAMP:20260424T164407
CREATED:20211213T172254Z
LAST-MODIFIED:20211213T172254Z
UID:6873-1639663200-1639670400@qbubble.com
SUMMARY:線上珍珠奶茶培訓班
DESCRIPTION:嘗試為您的珍珠奶茶事業找到突破點嗎? 此課程非常適合您。 \n本週課程將傳授一些經典好喝的各種珍奶飲料: 經典珍珠奶茶\, 阿薩姆奶茶\, 百香果綠茶\, 草莓冰沙\, 卡布奇諾咖啡冰沙、等等。\n該課還將傳授您如何（正確地）釀製綠茶、煮出Q彈有嚼勁的珍珠粉圓，為您的商店創造混和飲料以及融合美味的冰沙。 \n沒錯！我們是一家專門提供各式各樣珍珠奶茶的批發公司，所以您會發現奶蓋珍珠奶茶、漸層變色甜菜粉、藍色糖漿以及更多您能想像的任何品項：)\n客戶還將有機會看到Qbubble的更多獨家品項與最新產品！
URL:https://qbubble.com/event/%e7%b7%9a%e4%b8%8a%e7%8f%8d%e7%8f%a0%e5%a5%b6%e8%8c%b6%e5%9f%b9%e8%a8%93%e7%8f%ad-22/?lang=zh-hant
ORGANIZER;CN="QBubble":MAILTO:info@qbubble.com
END:VEVENT
BEGIN:VEVENT
DTSTART;TZID=America/New_York:20211209T140000
DTEND;TZID=America/New_York:20211209T160000
DTSTAMP:20260424T164408
CREATED:20211209T170804Z
LAST-MODIFIED:20211209T170823Z
UID:6868-1639058400-1639065600@qbubble.com
SUMMARY:線上珍珠奶茶培訓班
DESCRIPTION:想計劃發展您的珍奶事業嗎？此課程非常適合您。\n本週課程將傳授一些經典好喝的各種珍奶飲料: 經典珍珠奶茶\, 阿薩姆奶茶\, 百香果綠茶\, 草莓冰沙\, 卡布奇諾咖啡冰沙、等等。\n該課還將傳授您如何（正確地）釀製綠茶、煮出Q彈有嚼勁的珍珠粉圓，為您的商店創造混和飲料以及融合美味的冰沙。 \n沒錯！我們是一家專門提供各式各樣珍珠奶茶的批發公司，所以您會發現奶蓋珍珠奶茶、漸層變色甜菜粉、藍色糖漿以及更多您能想像的任何品項：)\n客戶還將有機會看到Qbubble的更多獨家品項與最新產品！
URL:https://qbubble.com/event/%e7%b7%9a%e4%b8%8a%e7%8f%8d%e7%8f%a0%e5%a5%b6%e8%8c%b6%e5%9f%b9%e8%a8%93%e7%8f%ad-21/?lang=zh-hant
ORGANIZER;CN="QBubble":MAILTO:info@qbubble.com
END:VEVENT
BEGIN:VEVENT
DTSTART;TZID=America/New_York:20211202T140000
DTEND;TZID=America/New_York:20211202T160000
DTSTAMP:20260424T164408
CREATED:20211202T174736Z
LAST-MODIFIED:20211202T174736Z
UID:6862-1638453600-1638460800@qbubble.com
SUMMARY:線上珍珠奶茶培訓班
DESCRIPTION:想計劃發展您的珍奶事業嗎？此課程非常適合您。\n本週課程將傳授一些經典好喝的各種珍奶飲料: 經典珍珠奶茶\, 阿薩姆奶茶\, 百香果綠茶\, 草莓冰沙\, 卡布奇諾咖啡冰沙、等等。\n該課還將傳授您如何（正確地）釀製綠茶、煮出Q彈有嚼勁的珍珠粉圓，為您的商店創造混和飲料以及融合美味的冰沙。 \n沒錯！我們是一家專門提供各式各樣珍珠奶茶的批發公司，所以您會發現奶蓋珍珠奶茶、漸層變色甜菜粉、藍色糖漿以及更多您能想像的任何品項：)
URL:https://qbubble.com/event/%e7%b7%9a%e4%b8%8a%e7%8f%8d%e7%8f%a0%e5%a5%b6%e8%8c%b6%e5%9f%b9%e8%a8%93%e7%8f%ad-20/?lang=zh-hant
ORGANIZER;CN="QBubble":MAILTO:info@qbubble.com
END:VEVENT
BEGIN:VEVENT
DTSTART;VALUE=DATE:20211125
DTEND;VALUE=DATE:20211126
DTSTAMP:20260424T164408
CREATED:20211122T195547Z
LAST-MODIFIED:20211122T195547Z
UID:6834-1637798400-1637884799@qbubble.com
SUMMARY:感恩節營業更改
DESCRIPTION:我們將於感恩節 11/25/2021 休息一天! 紐約上州送貨將改為 11/23/21 (星期二)。
URL:https://qbubble.com/event/%e6%84%9f%e6%81%a9%e7%af%80%e7%87%9f%e6%a5%ad%e6%9b%b4%e6%94%b9/?lang=zh-hant
ORGANIZER;CN="QBubble":MAILTO:info@qbubble.com
END:VEVENT
BEGIN:VEVENT
DTSTART;TZID=America/New_York:20211117T140000
DTEND;TZID=America/New_York:20211117T160000
DTSTAMP:20260424T164408
CREATED:20211116T162111Z
LAST-MODIFIED:20211116T162111Z
UID:6830-1637157600-1637164800@qbubble.com
SUMMARY:線上珍珠奶茶培訓班
DESCRIPTION:嘗試為您的珍珠奶茶事業找到突破點嗎？此課程非常適合您。\n本週課程將傳授一些經典好喝的各種珍奶飲料: 經典珍珠奶茶\, 阿薩姆奶茶\, 百香果綠茶\, 草莓冰沙\, 卡布奇諾咖啡冰沙、等等。\n該課還將傳授您如何（正確地）釀製綠茶、煮出Q彈有嚼勁的珍珠粉圓，為您的商店創造混和飲料以及融合美味的冰沙。 \n沒錯！我們是一家專門提供各式各樣珍珠奶茶的批發公司，所以您會發現奶蓋珍珠奶茶、漸層變色甜菜粉、藍色糖漿以及更多您能想像的任何品項：)
URL:https://qbubble.com/event/%e7%b7%9a%e4%b8%8a%e7%8f%8d%e7%8f%a0%e5%a5%b6%e8%8c%b6%e5%9f%b9%e8%a8%93%e7%8f%ad-19/?lang=zh-hant
ORGANIZER;CN="QBubble":MAILTO:info@qbubble.com
END:VEVENT
BEGIN:VEVENT
DTSTART;TZID=America/New_York:20211110T140000
DTEND;TZID=America/New_York:20211110T160000
DTSTAMP:20260424T164408
CREATED:20211109T161938Z
LAST-MODIFIED:20211109T161938Z
UID:6755-1636552800-1636560000@qbubble.com
SUMMARY:線上珍珠奶茶培訓班
DESCRIPTION:想計劃發展您的珍奶事業嗎？此課程非常適合您。 \n本週課程將傳授一些經典好喝的各種珍奶飲料:  經典珍珠奶茶\, 阿薩姆奶茶\, 百香果綠茶\, 草莓冰沙\, 卡布奇諾咖啡冰沙、等等。 \n該課還將傳授您如何（正確地）釀製綠茶、煮出Q彈有嚼勁的珍珠粉圓，為您的商店創造混和飲料以及融合美味的冰沙。 \n沒錯！我們是一家專門提供各式各樣珍珠奶茶的批發公司，所以您會發現奶蓋珍珠奶茶、漸層變色甜菜粉、藍色糖漿以及更多您能想像的任何品項：)\n客戶還將有機會看到Qbubble的更多獨家品項與最新產品！
URL:https://qbubble.com/event/%e7%b7%9a%e4%b8%8a%e7%8f%8d%e7%8f%a0%e5%a5%b6%e8%8c%b6%e5%9f%b9%e8%a8%93%e7%8f%ad-18/?lang=zh-hant
ORGANIZER;CN="QBubble":MAILTO:info@qbubble.com
END:VEVENT
BEGIN:VEVENT
DTSTART;TZID=America/New_York:20211103T140000
DTEND;TZID=America/New_York:20211103T160000
DTSTAMP:20260424T164408
CREATED:20211103T141103Z
LAST-MODIFIED:20211103T141103Z
UID:6751-1635948000-1635955200@qbubble.com
SUMMARY:網紅珍奶線上培訓班
DESCRIPTION:想升級您的菜單追上流行飲料趨勢嗎？此課程就對了!\n本週課程將傳授茶寶2021新品網紅珍奶飲料: 烤布雷黑糖珍珠髒髒茶\, 蛋糕布蕾奶茶\, 3層漸層果茶\, 琥珀泰式抹茶奶茶\, 紫薯髒髒茶\, 抹茶髒髒茶\, 清涼荔枝草莓飲料\, 等等。\n沒錯！我們是一家專門提供各式各樣珍珠奶茶的批發公司，所以您會發現奶蓋珍珠奶茶、漸層變色甜菜粉、藍色糖漿以及更多您能想像的任何品項：)
URL:https://qbubble.com/event/%e7%b6%b2%e7%b4%85%e7%8f%8d%e5%a5%b6%e7%b7%9a%e4%b8%8a%e5%9f%b9%e8%a8%93%e7%8f%ad-14/?lang=zh-hant
ORGANIZER;CN="QBubble":MAILTO:info@qbubble.com
END:VEVENT
BEGIN:VEVENT
DTSTART;TZID=America/New_York:20211027T140000
DTEND;TZID=America/New_York:20211027T160000
DTSTAMP:20260424T164408
CREATED:20211026T152757Z
LAST-MODIFIED:20211026T152757Z
UID:6744-1635343200-1635350400@qbubble.com
SUMMARY:線上珍珠奶茶培訓班
DESCRIPTION:想計劃發展您的珍奶事業嗎？此課程非常適合您。\n本週課程將傳授一些經典好喝的各種珍奶飲料: 經典珍珠奶茶\, 阿薩姆奶茶\, 百香果綠茶\, 草莓冰沙\, 卡布奇諾咖啡冰沙、等等。\n該課還將傳授您如何（正確地）釀製綠茶、煮出Q彈有嚼勁的珍珠粉圓，為您的商店創造混和飲料以及融合美味的冰沙。 \n沒錯！我們是一家專門提供各式各樣珍珠奶茶的批發公司，所以您會發現奶蓋珍珠奶茶、漸層變色甜菜粉、藍色糖漿以及更多您能想像的任何品項：)\n客戶還將有機會看到Qbubble的更多獨家品項與最新產品
URL:https://qbubble.com/event/%e7%b7%9a%e4%b8%8a%e7%8f%8d%e7%8f%a0%e5%a5%b6%e8%8c%b6%e5%9f%b9%e8%a8%93%e7%8f%ad-17/?lang=zh-hant
ORGANIZER;CN="QBubble":MAILTO:info@qbubble.com
END:VEVENT
BEGIN:VEVENT
DTSTART;TZID=America/New_York:20211021T140000
DTEND;TZID=America/New_York:20211021T160000
DTSTAMP:20260424T164408
CREATED:20211019T144916Z
LAST-MODIFIED:20211019T144916Z
UID:6731-1634824800-1634832000@qbubble.com
SUMMARY:網紅珍奶線上培訓班
DESCRIPTION:想升級您的菜單追上流行飲料趨勢嗎？此課程就對了! \n本週課程將傳授茶寶2021新品網紅珍奶飲料: 烤布雷黑糖珍珠髒髒茶\, 蛋糕布蕾奶茶\, 3層漸層果茶\, 琥珀泰式抹茶奶茶\, 紫薯髒髒茶\, 抹茶髒髒茶\, 清涼荔枝草莓飲料\, 等等。 \n沒錯！我們是一家專門提供各式各樣珍珠奶茶的批發公司，所以您會發現奶蓋珍珠奶茶、漸層變色甜菜粉、藍色糖漿以及更多您能想像的任何品項：)
URL:https://qbubble.com/event/%e7%b6%b2%e7%b4%85%e7%8f%8d%e5%a5%b6%e7%b7%9a%e4%b8%8a%e5%9f%b9%e8%a8%93%e7%8f%ad-13/?lang=zh-hant
ORGANIZER;CN="QBubble":MAILTO:info@qbubble.com
END:VEVENT
BEGIN:VEVENT
DTSTART;TZID=America/New_York:20211006T140000
DTEND;TZID=America/New_York:20211006T160000
DTSTAMP:20260424T164408
CREATED:20211001T211503Z
LAST-MODIFIED:20211001T211503Z
UID:6713-1633528800-1633536000@qbubble.com
SUMMARY:線上珍珠奶茶培訓班
DESCRIPTION:想計劃發展您的珍奶事業嗎？此課程非常適合您。 \n本週課程將傳授一些經典好喝的各種珍奶飲料:  經典珍珠奶茶\, 阿薩姆奶茶\, 百香果綠茶\, 草莓冰沙\, 卡布奇諾咖啡冰沙、等等。 \n該課還將傳授您如何（正確地）釀製綠茶、煮出Q彈有嚼勁的珍珠粉圓，為您的商店創造混和飲料以及融合美味的冰沙。 \n沒錯！我們是一家專門提供各式各樣珍珠奶茶的批發公司，所以您會發現奶蓋珍珠奶茶、漸層變色甜菜粉、藍色糖漿以及更多您能想像的任何品項：) \n客戶還將有機會看到Qbubble的更多獨家品項與最新產品！
URL:https://qbubble.com/event/%e7%b7%9a%e4%b8%8a%e7%8f%8d%e7%8f%a0%e5%a5%b6%e8%8c%b6%e5%9f%b9%e8%a8%93%e7%8f%ad-16/?lang=zh-hant
ORGANIZER;CN="QBubble":MAILTO:info@qbubble.com
END:VEVENT
BEGIN:VEVENT
DTSTART;TZID=America/New_York:20210929T140000
DTEND;TZID=America/New_York:20210929T160000
DTSTAMP:20260424T164408
CREATED:20210922T154640Z
LAST-MODIFIED:20210922T154640Z
UID:6699-1632924000-1632931200@qbubble.com
SUMMARY:網紅珍奶線上培訓班
DESCRIPTION:想升級您的菜單追上流行飲料趨勢嗎？此課程就對了!\n本週課程將傳授茶寶2021新品網紅珍奶飲料: 烤布雷黑糖珍珠髒髒茶\, 蛋糕布蕾奶茶\, 3層漸層果茶\, 琥珀泰式抹茶奶茶\, 紫薯髒髒茶\, 抹茶髒髒茶\, 清涼荔枝草莓飲料\, 等等。\n沒錯！我們是一家專門提供各式各樣珍珠奶茶的批發公司，所以您會發現奶蓋珍珠奶茶、漸層變色甜菜粉、藍色糖漿以及更多您能想像的任何品項：)
URL:https://qbubble.com/event/%e7%b6%b2%e7%b4%85%e7%8f%8d%e5%a5%b6%e7%b7%9a%e4%b8%8a%e5%9f%b9%e8%a8%93%e7%8f%ad-12/?lang=zh-hant
ORGANIZER;CN="QBubble":MAILTO:info@qbubble.com
END:VEVENT
BEGIN:VEVENT
DTSTART;TZID=America/New_York:20210922T140000
DTEND;TZID=America/New_York:20210922T160000
DTSTAMP:20260424T164408
CREATED:20210914T160810Z
LAST-MODIFIED:20210914T160810Z
UID:6693-1632319200-1632326400@qbubble.com
SUMMARY:線上珍珠奶茶培訓班
DESCRIPTION:嘗試為您的珍珠奶茶事業找到突破點嗎？此課程非常適合您。 \n本週課程將傳授一些經典好喝的各種珍奶飲料:  經典珍珠奶茶\, 阿薩姆奶茶\, 百香果綠茶\, 草莓冰沙\, 卡布奇諾咖啡冰沙、等等。 \n該課還將傳授您如何（正確地）釀製綠茶、煮出Q彈有嚼勁的珍珠粉圓，為您的商店創造混和飲料以及融合美味的冰沙。 \n沒錯！我們是一家專門提供各式各樣珍珠奶茶的批發公司，所以您會發現奶蓋珍珠奶茶、漸層變色甜菜粉、藍色糖漿以及更多您能想像的任何品項：) \n客戶還將有機會看到Qbubble的更多獨家品項與最新產品！
URL:https://qbubble.com/event/%e7%b7%9a%e4%b8%8a%e7%8f%8d%e7%8f%a0%e5%a5%b6%e8%8c%b6%e5%9f%b9%e8%a8%93%e7%8f%ad-15/?lang=zh-hant
ORGANIZER;CN="QBubble":MAILTO:info@qbubble.com
END:VEVENT
BEGIN:VEVENT
DTSTART;TZID=America/New_York:20210914T140000
DTEND;TZID=America/New_York:20210914T160000
DTSTAMP:20260424T164408
CREATED:20210910T184028Z
LAST-MODIFIED:20210910T184039Z
UID:6689-1631628000-1631635200@qbubble.com
SUMMARY:網紅珍奶線上培訓班
DESCRIPTION:想升級您的菜單追上流行飲料趨勢嗎？此課程就對了!\n本週課程將傳授茶寶2021新品網紅珍奶飲料: 烤布雷黑糖珍珠髒髒茶\, 蛋糕布蕾奶茶\, 3層漸層果茶\, 琥珀泰式抹茶奶茶\, 紫薯髒髒茶\, 抹茶髒髒茶\, 清涼荔枝草莓飲料\, 等等。\n沒錯！我們是一家專門提供各式各樣珍珠奶茶的批發公司，所以您會發現奶蓋珍珠奶茶、漸層變色甜菜粉、藍色糖漿以及更多您能想像的任何品項：)
URL:https://qbubble.com/event/%e7%b6%b2%e7%b4%85%e7%8f%8d%e5%a5%b6%e7%b7%9a%e4%b8%8a%e5%9f%b9%e8%a8%93%e7%8f%ad-11/?lang=zh-hant
ORGANIZER;CN="QBubble":MAILTO:info@qbubble.com
END:VEVENT
BEGIN:VEVENT
DTSTART;TZID=America/New_York:20210908T140000
DTEND;TZID=America/New_York:20210908T160000
DTSTAMP:20260424T164408
CREATED:20210908T182101Z
LAST-MODIFIED:20210908T182101Z
UID:6685-1631109600-1631116800@qbubble.com
SUMMARY:線上珍珠奶茶培訓班
DESCRIPTION:想計劃發展您的珍奶事業嗎？此課程非常適合您。\n本週課程將傳授一些經典好喝的各種珍奶飲料: 經典珍珠奶茶\, 阿薩姆奶茶\, 百香果綠茶\, 草莓冰沙\, 卡布奇諾咖啡冰沙、等等。\n該課還將傳授您如何（正確地）釀製綠茶、煮出Q彈有嚼勁的珍珠粉圓，為您的商店創造混和飲料以及融合美味的冰沙。 \n沒錯！我們是一家專門提供各式各樣珍珠奶茶的批發公司，所以您會發現奶蓋珍珠奶茶、漸層變色甜菜粉、藍色糖漿以及更多您能想像的任何品項：)\n客戶還將有機會看到Qbubble的更多獨家品項與最新產品！
URL:https://qbubble.com/event/%e7%b7%9a%e4%b8%8a%e7%8f%8d%e7%8f%a0%e5%a5%b6%e8%8c%b6%e5%9f%b9%e8%a8%93%e7%8f%ad-14/?lang=zh-hant
ORGANIZER;CN="QBubble":MAILTO:info@qbubble.com
END:VEVENT
BEGIN:VEVENT
DTSTART;VALUE=DATE:20210906
DTEND;VALUE=DATE:20210907
DTSTAMP:20260424T164408
CREATED:20210817T173535Z
LAST-MODIFIED:20210818T155159Z
UID:6657-1630886400-1630972799@qbubble.com
SUMMARY:勞動節營業更改
DESCRIPTION:我們將於勞動節 9/6/2021 休息一天! \n紐約市送貨將改為 9/7/21 (星期二)\, 新澤西州/賓州送貨將改為 8/31 /21 (星期二)。 \n請儘早下單，以備因行程擁堵而無法安排送貨！
URL:https://qbubble.com/event/%e5%8b%9e%e5%8b%95%e7%af%80%e7%87%9f%e6%a5%ad%e6%9b%b4%e6%94%b9/?lang=zh-hant
ORGANIZER;CN="QBubble":MAILTO:info@qbubble.com
END:VEVENT
BEGIN:VEVENT
DTSTART;TZID=America/New_York:20210902T140000
DTEND;TZID=America/New_York:20210902T160000
DTSTAMP:20260424T164408
CREATED:20210825T182210Z
LAST-MODIFIED:20210825T182210Z
UID:6672-1630591200-1630598400@qbubble.com
SUMMARY:網紅珍奶線上培訓班
DESCRIPTION:想升級您的菜單追上流行飲料趨勢嗎？此課程就對了!\n本週課程將傳授茶寶2021新品網紅珍奶飲料: 烤布雷黑糖珍珠髒髒茶\, 蛋糕布蕾奶茶\, 3層漸層果茶\, 琥珀泰式抹茶奶茶\, 紫薯髒髒茶\, 抹茶髒髒茶\, 清涼荔枝草莓飲料\, 等等。\n沒錯！我們是一家專門提供各式各樣珍珠奶茶的批發公司，所以您會發現奶蓋珍珠奶茶、漸層變色甜菜粉、藍色糖漿以及更多您能想像的任何品項：)
URL:https://qbubble.com/event/%e7%b6%b2%e7%b4%85%e7%8f%8d%e5%a5%b6%e7%b7%9a%e4%b8%8a%e5%9f%b9%e8%a8%93%e7%8f%ad-10/?lang=zh-hant
ORGANIZER;CN="QBubble":MAILTO:info@qbubble.com
END:VEVENT
BEGIN:VEVENT
DTSTART;TZID=America/New_York:20210826T140000
DTEND;TZID=America/New_York:20210826T160000
DTSTAMP:20260424T164408
CREATED:20210820T161907Z
LAST-MODIFIED:20210820T161907Z
UID:6667-1629986400-1629993600@qbubble.com
SUMMARY:線上珍珠奶茶培訓班
DESCRIPTION:想計劃發展您的珍奶事業嗎？此課程非常適合您。\n本週課程將傳授一些經典好喝的各種珍奶飲料: 經典珍珠奶茶\, 阿薩姆奶茶\, 百香果綠茶\, 草莓冰沙\, 卡布奇諾咖啡冰沙、等等。\n該課還將傳授您如何（正確地）釀製綠茶、煮出Q彈有嚼勁的珍珠粉圓，為您的商店創造混和飲料以及融合美味的冰沙。 \n沒錯！我們是一家專門提供各式各樣珍珠奶茶的批發公司，所以您會發現奶蓋珍珠奶茶、漸層變色甜菜粉、藍色糖漿以及更多您能想像的任何品項：)\n客戶還將有機會看到Qbubble的更多獨家品項與最新產品！
URL:https://qbubble.com/event/%e7%b7%9a%e4%b8%8a%e7%8f%8d%e7%8f%a0%e5%a5%b6%e8%8c%b6%e5%9f%b9%e8%a8%93%e7%8f%ad-13/?lang=zh-hant
ORGANIZER;CN="QBubble":MAILTO:info@qbubble.com
END:VEVENT
BEGIN:VEVENT
DTSTART;TZID=America/New_York:20210817T140000
DTEND;TZID=America/New_York:20210817T160000
DTSTAMP:20260424T164408
CREATED:20210817T153831Z
LAST-MODIFIED:20210817T154437Z
UID:6649-1629208800-1629216000@qbubble.com
SUMMARY:線上珍珠奶茶培訓班
DESCRIPTION:嘗試為您的珍珠奶茶事業找到突破點嗎？此課程非常適合您。 \n本週課程將傳授一些經典好喝的各種珍奶飲料:  經典珍珠奶茶\, 阿薩姆奶茶\, 百香果綠茶\, 草莓冰沙\, 卡布奇諾咖啡冰沙、等等。 \n該課還將傳授您如何（正確地）釀製綠茶、煮出Q彈有嚼勁的珍珠粉圓，為您的商店創造混和飲料以及融合美味的冰沙。 \n沒錯！我們是一家專門提供各式各樣珍珠奶茶的批發公司，所以您會發現奶蓋珍珠奶茶、漸層變色甜菜粉、藍色糖漿以及更多您能想像的任何品項：) \n客戶還將有機會看到Qbubble的更多獨家品項與最新產品！
URL:https://qbubble.com/event/%e7%b7%9a%e4%b8%8a%e7%8f%8d%e7%8f%a0%e5%a5%b6%e8%8c%b6%e5%9f%b9%e8%a8%93%e7%8f%ad-12/?lang=zh-hant
ORGANIZER;CN="QBubble":MAILTO:info@qbubble.com
END:VEVENT
BEGIN:VEVENT
DTSTART;TZID=America/New_York:20210812T140000
DTEND;TZID=America/New_York:20210812T160000
DTSTAMP:20260424T164408
CREATED:20210816T140759Z
LAST-MODIFIED:20210816T140920Z
UID:6643-1628776800-1628784000@qbubble.com
SUMMARY:網紅珍奶線上培訓班
DESCRIPTION:想升級您的菜單追上流行飲料趨勢嗎？此課程就對了!\n本週課程將傳授茶寶2021新品網紅珍奶飲料: 烤布雷黑糖珍珠髒髒茶\, 蛋糕布蕾奶茶\, 3層漸層果茶\, 琥珀泰式抹茶奶茶\, 紫薯髒髒茶\, 抹茶髒髒茶\, 清涼荔枝草莓飲料\, 等等。\n沒錯！我們是一家專門提供各式各樣珍珠奶茶的批發公司，所以您會發現奶蓋珍珠奶茶、漸層變色甜菜粉、藍色糖漿以及更多您能想像的任何品項：)
URL:https://qbubble.com/event/%e7%b6%b2%e7%b4%85%e7%8f%8d%e5%a5%b6%e7%b7%9a%e4%b8%8a%e5%9f%b9%e8%a8%93%e7%8f%ad-9/?lang=zh-hant
ORGANIZER;CN="QBubble":MAILTO:info@qbubble.com
END:VEVENT
BEGIN:VEVENT
DTSTART;TZID=America/New_York:20210805T140000
DTEND;TZID=America/New_York:20210805T160000
DTSTAMP:20260424T164408
CREATED:20210806T175819Z
LAST-MODIFIED:20210806T175819Z
UID:6638-1628172000-1628179200@qbubble.com
SUMMARY:線上珍珠奶茶培訓班
DESCRIPTION:想計劃發展您的珍奶事業嗎？此課程非常適合您。\n本週課程將傳授一些經典好喝的各種珍奶飲料: 經典珍珠奶茶\, 阿薩姆奶茶\, 百香果綠茶\, 草莓冰沙\, 卡布奇諾咖啡冰沙、等等。\n該課還將傳授您如何（正確地）釀製綠茶、煮出Q彈有嚼勁的珍珠粉圓，為您的商店創造混和飲料以及融合美味的冰沙。 \n沒錯！我們是一家專門提供各式各樣珍珠奶茶的批發公司，所以您會發現奶蓋珍珠奶茶、漸層變色甜菜粉、藍色糖漿以及更多您能想像的任何品項：)\n客戶還將有機會看到Qbubble的更多獨家品項與最新產品！
URL:https://qbubble.com/event/%e7%b7%9a%e4%b8%8a%e7%8f%8d%e7%8f%a0%e5%a5%b6%e8%8c%b6%e5%9f%b9%e8%a8%93%e7%8f%ad-11/?lang=zh-hant
ORGANIZER;CN="QBubble":MAILTO:info@qbubble.com
END:VEVENT
BEGIN:VEVENT
DTSTART;TZID=America/New_York:20210727T140000
DTEND;TZID=America/New_York:20210727T160000
DTSTAMP:20260424T164408
CREATED:20210804T181825Z
LAST-MODIFIED:20210804T181825Z
UID:6626-1627394400-1627401600@qbubble.com
SUMMARY:網紅珍奶線上培訓班
DESCRIPTION:想升級您的菜單追上流行飲料趨勢嗎？此課程就對了!\n本週課程將傳授茶寶2021新品網紅珍奶飲料: 烤布雷黑糖珍珠髒髒茶\, 蛋糕布蕾奶茶\, 3層漸層果茶\, 琥珀泰式抹茶奶茶\, 紫薯髒髒茶\, 抹茶髒髒茶\, 清涼荔枝草莓飲料\, 等等。\n沒錯！我們是一家專門提供各式各樣珍珠奶茶的批發公司，所以您會發現奶蓋珍珠奶茶、漸層變色甜菜粉、藍色糖漿以及更多您能想像的任何品項：)
URL:https://qbubble.com/event/%e7%b6%b2%e7%b4%85%e7%8f%8d%e5%a5%b6%e7%b7%9a%e4%b8%8a%e5%9f%b9%e8%a8%93%e7%8f%ad-8/?lang=zh-hant
ORGANIZER;CN="QBubble":MAILTO:info@qbubble.com
END:VEVENT
BEGIN:VEVENT
DTSTART;TZID=America/New_York:20210723T140000
DTEND;TZID=America/New_York:20210723T160000
DTSTAMP:20260424T164408
CREATED:20210722T174202Z
LAST-MODIFIED:20210722T174202Z
UID:6598-1627048800-1627056000@qbubble.com
SUMMARY:線上珍珠奶茶培訓班
DESCRIPTION:嘗試為您的珍珠奶茶事業找到突破點嗎？此課程非常適合您。\n本週課程將傳授一些經典好喝的各種珍奶飲料: 經典珍珠奶茶\, 阿薩姆奶茶\, 百香果綠茶\, 草莓冰沙\, 卡布奇諾咖啡冰沙、等等。\n該課還將傳授您如何（正確地）釀製綠茶、煮出Q彈有嚼勁的珍珠粉圓，為您的商店創造混和飲料以及融合美味的冰沙。 \n沒錯！我們是一家專門提供各式各樣珍珠奶茶的批發公司，所以您會發現奶蓋珍珠奶茶、漸層變色甜菜粉、藍色糖漿以及更多您能想像的任何品項：)\n客戶還將有機會看到Qbubble的更多獨家品項與最新產品！
URL:https://qbubble.com/event/%e7%b7%9a%e4%b8%8a%e7%8f%8d%e7%8f%a0%e5%a5%b6%e8%8c%b6%e5%9f%b9%e8%a8%93%e7%8f%ad-10/?lang=zh-hant
ORGANIZER;CN="QBubble":MAILTO:info@qbubble.com
END:VEVENT
BEGIN:VEVENT
DTSTART;TZID=America/New_York:20210716T140000
DTEND;TZID=America/New_York:20210716T160000
DTSTAMP:20260424T164408
CREATED:20210720T150505Z
LAST-MODIFIED:20210720T150807Z
UID:6587-1626444000-1626451200@qbubble.com
SUMMARY:線上珍珠奶茶培訓班
DESCRIPTION:想計劃發展您的珍奶事業嗎？此課程非常適合您。 \n本週課程將傳授一些經典好喝的各種珍奶飲料:  經典珍珠奶茶\, 阿薩姆奶茶\, 百香果綠茶\, 草莓冰沙\, 卡布奇諾咖啡冰沙、等等。 \n該課還將傳授您如何（正確地）釀製綠茶、煮出Q彈有嚼勁的珍珠粉圓，為您的商店創造混和飲料以及融合美味的冰沙。 \n沒錯！我們是一家專門提供各式各樣珍珠奶茶的批發公司，所以您會發現奶蓋珍珠奶茶、漸層變色甜菜粉、藍色糖漿以及更多您能想像的任何品項：) \n客戶還將有機會看到Qbubble的更多獨家品項與最新產品！
URL:https://qbubble.com/event/%e7%b7%9a%e4%b8%8a%e7%8f%8d%e7%8f%a0%e5%a5%b6%e8%8c%b6%e5%9f%b9%e8%a8%93%e7%8f%ad-9/?lang=zh-hant
ORGANIZER;CN="QBubble":MAILTO:info@qbubble.com
END:VEVENT
BEGIN:VEVENT
DTSTART;TZID=America/New_York:20210708T140000
DTEND;TZID=America/New_York:20210708T160000
DTSTAMP:20260424T164408
CREATED:20210710T165812Z
LAST-MODIFIED:20210710T165812Z
UID:6576-1625752800-1625760000@qbubble.com
SUMMARY:線上珍珠奶茶培訓班
DESCRIPTION:想計劃發展您的珍奶事業嗎？此課程非常適合您。\n本週課程將傳授一些經典好喝的各種珍奶飲料: 經典珍珠奶茶\, 阿薩姆奶茶\, 百香果綠茶\, 草莓冰沙\, 卡布奇諾咖啡冰沙、等等。\n該課還將傳授您如何（正確地）釀製綠茶、煮出Q彈有嚼勁的珍珠粉圓，為您的商店創造混和飲料以及融合美味的冰沙。 \n沒錯！我們是一家專門提供各式各樣珍珠奶茶的批發公司，所以您會發現奶蓋珍珠奶茶、漸層變色甜菜粉、藍色糖漿以及更多您能想像的任何品項：)\n客戶還將有機會看到Qbubble的更多獨家品項與最新產品！
URL:https://qbubble.com/event/%e7%b7%9a%e4%b8%8a%e7%8f%8d%e7%8f%a0%e5%a5%b6%e8%8c%b6%e5%9f%b9%e8%a8%93%e7%8f%ad-8/?lang=zh-hant
ORGANIZER;CN="QBubble":MAILTO:info@qbubble.com
END:VEVENT
BEGIN:VEVENT
DTSTART;VALUE=DATE:20210705
DTEND;VALUE=DATE:20210706
DTSTAMP:20260424T164408
CREATED:20210630T133711Z
LAST-MODIFIED:20210630T164123Z
UID:6546-1625443200-1625529599@qbubble.com
SUMMARY:國慶日休息
DESCRIPTION:我們將於 7/5/2021 休息一天， 以慶祝國慶日! 新澤西州/賓州送貨將改為 6/29 星期二， 紐約市送貨將改為 7/6 星期二。 \n請儘早下單，以備因行程擁堵而無法安排送貨！如有不便，敬請見諒!
URL:https://qbubble.com/event/%e5%9c%8b%e6%85%b6%e6%97%a5%e4%bc%91%e6%81%af%e9%80%9a%e7%9f%a5/?lang=zh-hant
ORGANIZER;CN="QBubble":MAILTO:info@qbubble.com
END:VEVENT
BEGIN:VEVENT
DTSTART;TZID=America/New_York:20210702T140000
DTEND;TZID=America/New_York:20210702T160000
DTSTAMP:20260424T164408
CREATED:20210630T133523Z
LAST-MODIFIED:20210630T133523Z
UID:6544-1625234400-1625241600@qbubble.com
SUMMARY:線上珍珠奶茶培訓班
DESCRIPTION:想計劃發展您的珍奶事業嗎？此課程非常適合您。 \n本週課程將傳授一些經典好喝的各種珍奶飲料:  經典珍珠奶茶\, 阿薩姆奶茶\, 百香果綠茶\, 草莓冰沙\, 卡布奇諾咖啡冰沙、等等。 \n該課還將傳授您如何（正確地）釀製綠茶、煮出Q彈有嚼勁的珍珠粉圓，為您的商店創造混和飲料以及融合美味的冰沙。 \n沒錯！我們是一家專門提供各式各樣珍珠奶茶的批發公司，所以您會發現奶蓋珍珠奶茶、漸層變色甜菜粉、藍色糖漿以及更多您能想像的任何品項：) \n客戶還將有機會看到Qbubble的更多獨家品項與最新產品！
URL:https://qbubble.com/event/%e7%b7%9a%e4%b8%8a%e7%8f%8d%e7%8f%a0%e5%a5%b6%e8%8c%b6%e5%9f%b9%e8%a8%93%e7%8f%ad-7/?lang=zh-hant
ORGANIZER;CN="QBubble":MAILTO:info@qbubble.com
END:VEVENT
BEGIN:VEVENT
DTSTART;VALUE=DATE:20210629
DTEND;VALUE=DATE:20210630
DTSTAMP:20260424T164408
CREATED:20210629T144333Z
LAST-MODIFIED:20210629T144333Z
UID:6538-1624924800-1625011199@qbubble.com
SUMMARY:地區線路問題通知
DESCRIPTION:​由於地區線路出現問題，我們暫時沒法接到電話。如要下單，請發短訊到347-925-0041，發微信信息或發電郵到info@qbubble.com。我們會盡快處理! 如有不便，請見諒!
URL:https://qbubble.com/event/%e5%9c%b0%e5%8d%80%e7%b7%9a%e8%b7%af%e5%95%8f%e9%a1%8c%e9%80%9a%e7%9f%a5/?lang=zh-hant
ORGANIZER;CN="QBubble":MAILTO:info@qbubble.com
END:VEVENT
BEGIN:VEVENT
DTSTART;TZID=America/New_York:20210624T140000
DTEND;TZID=America/New_York:20210624T160000
DTSTAMP:20260424T164408
CREATED:20210623T193931Z
LAST-MODIFIED:20210623T193931Z
UID:6533-1624543200-1624550400@qbubble.com
SUMMARY:網紅珍奶線上培訓班
DESCRIPTION:想升級您的菜單追上流行飲料趨勢嗎？此課程就對了! \n本週課程將傳授茶寶2021新品網紅珍奶飲料: 烤布雷黑糖珍珠髒髒茶\, 蛋糕布蕾奶茶\, 3層漸層果茶\, 琥珀泰式抹茶奶茶\, 紫薯髒髒茶\, 抹茶髒髒茶\, 清涼荔枝草莓飲料\, 等等。 \n沒錯！我們是一家專門提供各式各樣珍珠奶茶的批發公司，所以您會發現奶蓋珍珠奶茶、漸層變色甜菜粉、藍色糖漿以及更多您能想像的任何品項：)
URL:https://qbubble.com/event/%e7%b6%b2%e7%b4%85%e7%8f%8d%e5%a5%b6%e7%b7%9a%e4%b8%8a%e5%9f%b9%e8%a8%93%e7%8f%ad-7/?lang=zh-hant
ORGANIZER;CN="QBubble":MAILTO:info@qbubble.com
END:VEVENT
BEGIN:VEVENT
DTSTART;TZID=America/New_York:20210615T140000
DTEND;TZID=America/New_York:20210615T160000
DTSTAMP:20260424T164408
CREATED:20210616T205746Z
LAST-MODIFIED:20210616T205746Z
UID:6528-1623765600-1623772800@qbubble.com
SUMMARY:線上珍珠奶茶培訓班
DESCRIPTION:想計劃發展您的珍奶事業嗎？此課程非常適合您。\n本週課程將傳授一些經典好喝的各種珍奶飲料: 經典珍珠奶茶\, 阿薩姆奶茶\, 百香果綠茶\, 草莓冰沙\, 卡布奇諾咖啡冰沙、等等。\n該課還將傳授您如何（正確地）釀製綠茶、煮出Q彈有嚼勁的珍珠粉圓，為您的商店創造混和飲料以及融合美味的冰沙。 \n沒錯！我們是一家專門提供各式各樣珍珠奶茶的批發公司，所以您會發現奶蓋珍珠奶茶、漸層變色甜菜粉、藍色糖漿以及更多您能想像的任何品項：)\n客戶還將有機會看到Qbubble的更多獨家品項與最新產品！
URL:https://qbubble.com/event/%e7%b7%9a%e4%b8%8a%e7%8f%8d%e7%8f%a0%e5%a5%b6%e8%8c%b6%e5%9f%b9%e8%a8%93%e7%8f%ad-6/?lang=zh-hant
ORGANIZER;CN="QBubble":MAILTO:info@qbubble.com
END:VEVENT
BEGIN:VEVENT
DTSTART;TZID=America/New_York:20210609T140000
DTEND;TZID=America/New_York:20210609T160000
DTSTAMP:20260424T164408
CREATED:20210616T205407Z
LAST-MODIFIED:20210616T205407Z
UID:6526-1623247200-1623254400@qbubble.com
SUMMARY:網紅珍奶線上培訓班
DESCRIPTION:想升級您的菜單追上流行飲料趨勢嗎？此課程就對了! \n本週課程將傳授茶寶2021新品網紅珍奶飲料: 烤布雷黑糖珍珠髒髒茶\, 蛋糕布蕾奶茶\, 3層漸層果茶\, 琥珀泰式抹茶奶茶\, 紫薯髒髒茶\, 抹茶髒髒茶\, 清涼荔枝草莓飲料\, 等等。 \n沒錯！我們是一家專門提供各式各樣珍珠奶茶的批發公司，所以您會發現奶蓋珍珠奶茶、漸層變色甜菜粉、藍色糖漿以及更多您能想像的任何品項：)
URL:https://qbubble.com/event/%e7%b6%b2%e7%b4%85%e7%8f%8d%e5%a5%b6%e7%b7%9a%e4%b8%8a%e5%9f%b9%e8%a8%93%e7%8f%ad-6/?lang=zh-hant
ORGANIZER;CN="QBubble":MAILTO:info@qbubble.com
END:VEVENT
END:VCALENDAR