BEGIN:VCALENDAR
VERSION:2.0
PRODID:-//茶宝 QBubble Troika J C Inc. - ECPv6.15.20//NONSGML v1.0//EN
CALSCALE:GREGORIAN
METHOD:PUBLISH
X-WR-CALNAME:茶宝 QBubble Troika J C Inc.
X-ORIGINAL-URL:https://qbubble.com/?lang=zh-hant
X-WR-CALDESC:Events for 茶宝 QBubble Troika J C Inc.
REFRESH-INTERVAL;VALUE=DURATION:PT1H
X-Robots-Tag:noindex
X-PUBLISHED-TTL:PT1H
BEGIN:VTIMEZONE
TZID:UTC
BEGIN:STANDARD
TZOFFSETFROM:+0000
TZOFFSETTO:+0000
TZNAME:UTC
DTSTART:20210101T000000
END:STANDARD
END:VTIMEZONE
BEGIN:VTIMEZONE
TZID:America/New_York
BEGIN:DAYLIGHT
TZOFFSETFROM:-0500
TZOFFSETTO:-0400
TZNAME:EDT
DTSTART:20200308T070000
END:DAYLIGHT
BEGIN:STANDARD
TZOFFSETFROM:-0400
TZOFFSETTO:-0500
TZNAME:EST
DTSTART:20201101T060000
END:STANDARD
BEGIN:DAYLIGHT
TZOFFSETFROM:-0500
TZOFFSETTO:-0400
TZNAME:EDT
DTSTART:20210314T070000
END:DAYLIGHT
BEGIN:STANDARD
TZOFFSETFROM:-0400
TZOFFSETTO:-0500
TZNAME:EST
DTSTART:20211107T060000
END:STANDARD
BEGIN:DAYLIGHT
TZOFFSETFROM:-0500
TZOFFSETTO:-0400
TZNAME:EDT
DTSTART:20220313T070000
END:DAYLIGHT
BEGIN:STANDARD
TZOFFSETFROM:-0400
TZOFFSETTO:-0500
TZNAME:EST
DTSTART:20221106T060000
END:STANDARD
BEGIN:DAYLIGHT
TZOFFSETFROM:-0500
TZOFFSETTO:-0400
TZNAME:EDT
DTSTART:20230312T070000
END:DAYLIGHT
BEGIN:STANDARD
TZOFFSETFROM:-0400
TZOFFSETTO:-0500
TZNAME:EST
DTSTART:20231105T060000
END:STANDARD
END:VTIMEZONE
BEGIN:VEVENT
DTSTART;TZID=UTC:20220503T140000
DTEND;TZID=UTC:20220503T160000
DTSTAMP:20260424T131244
CREATED:20220429T160634Z
LAST-MODIFIED:20220429T160634Z
UID:7080-1651586400-1651593600@qbubble.com
SUMMARY:現場珍珠奶茶班
DESCRIPTION:想計劃發展您的珍奶事業嗎？此課程非常適合您。 \n本週現場珍珠奶茶班將傳授一些經典好喝的各種珍奶飲料:  經典珍珠奶茶\, 阿薩姆奶茶\, 百香果綠茶\, 草莓冰沙\, 卡布奇諾咖啡冰沙、等等。 \n該課還將傳授您如何（正確地）釀製綠茶、煮出Q彈有嚼勁的珍珠粉圓，為您的商店創造混和飲料以及融合美味的冰沙。 \n沒錯！我們是一家專門提供各式各樣珍珠奶茶的批發公司，所以您會發現奶蓋珍珠奶茶、漸層變色甜菜粉、藍色糖漿以及更多您能想像的任何品項：) \n客戶還將有機會當場看到和品嚐Qbubble的更多獨家品項與最新產品！
URL:https://qbubble.com/event/%e7%8f%be%e5%a0%b4%e7%8f%8d%e7%8f%a0%e5%a5%b6%e8%8c%b6%e7%8f%ad-3/?lang=zh-hant
ORGANIZER;CN="QBubble":MAILTO:info@qbubble.com
END:VEVENT
BEGIN:VEVENT
DTSTART;TZID=UTC:20220426T140000
DTEND;TZID=UTC:20220426T160000
DTSTAMP:20260424T131244
CREATED:20220429T160140Z
LAST-MODIFIED:20220429T160140Z
UID:7073-1650981600-1650988800@qbubble.com
SUMMARY:線上珍珠奶茶培訓班
DESCRIPTION:想計劃發展您的珍奶事業嗎？此課程非常適合您。 \n本週課程將傳授一些經典好喝的各種珍奶飲料:  經典珍珠奶茶\, 阿薩姆奶茶\, 百香果綠茶\, 草莓冰沙\, 卡布奇諾咖啡冰沙、等等。 \n該課還將傳授您如何（正確地）釀製綠茶、煮出Q彈有嚼勁的珍珠粉圓，為您的商店創造混和飲料以及融合美味的冰沙。 \n沒錯！我們是一家專門提供各式各樣珍珠奶茶的批發公司，所以您會發現奶蓋珍珠奶茶、漸層變色甜菜粉、藍色糖漿以及更多您能想像的任何品項：) \n客戶還將有機會看到Qbubble的更多獨家品項與最新產品！
URL:https://qbubble.com/event/%e7%b7%9a%e4%b8%8a%e7%8f%8d%e7%8f%a0%e5%a5%b6%e8%8c%b6%e5%9f%b9%e8%a8%93%e7%8f%ad-32/?lang=zh-hant
ORGANIZER;CN="QBubble":MAILTO:info@qbubble.com
END:VEVENT
BEGIN:VEVENT
DTSTART;TZID=UTC:20220419T140000
DTEND;TZID=UTC:20220419T160000
DTSTAMP:20260424T131244
CREATED:20220422T142040Z
LAST-MODIFIED:20220422T142041Z
UID:7068-1650376800-1650384000@qbubble.com
SUMMARY:現場珍珠奶茶班
DESCRIPTION:想計劃發展您的珍奶事業嗎？此課程非常適合您。 \n本週現場珍珠奶茶班將傳授一些經典好喝的各種珍奶飲料:  經典珍珠奶茶\, 阿薩姆奶茶\, 百香果綠茶\, 草莓冰沙\, 卡布奇諾咖啡冰沙、等等。 \n該課還將傳授您如何（正確地）釀製綠茶、煮出Q彈有嚼勁的珍珠粉圓，為您的商店創造混和飲料以及融合美味的冰沙。 \n沒錯！我們是一家專門提供各式各樣珍珠奶茶的批發公司，所以您會發現奶蓋珍珠奶茶、漸層變色甜菜粉、藍色糖漿以及更多您能想像的任何品項：) \n客戶還將有機會當場看到和品嚐Qbubble的更多獨家品項與最新產品！
URL:https://qbubble.com/event/%e7%8f%be%e5%a0%b4%e7%8f%8d%e7%8f%a0%e5%a5%b6%e8%8c%b6%e7%8f%ad-2/?lang=zh-hant
ORGANIZER;CN="QBubble":MAILTO:info@qbubble.com
END:VEVENT
BEGIN:VEVENT
DTSTART;TZID=UTC:20220413T140000
DTEND;TZID=UTC:20220413T160000
DTSTAMP:20260424T131244
CREATED:20220415T151855Z
LAST-MODIFIED:20220415T151855Z
UID:7064-1649858400-1649865600@qbubble.com
SUMMARY:線上珍珠奶茶培訓班
DESCRIPTION:想計劃發展您的珍奶事業嗎？此課程非常適合您。 \n本週課程將傳授一些經典好喝的各種珍奶飲料:  經典珍珠奶茶\, 阿薩姆奶茶\, 百香果綠茶\, 草莓冰沙\, 卡布奇諾咖啡冰沙、等等。 \n該課還將傳授您如何（正確地）釀製綠茶、煮出Q彈有嚼勁的珍珠粉圓，為您的商店創造混和飲料以及融合美味的冰沙。 \n沒錯！我們是一家專門提供各式各樣珍珠奶茶的批發公司，所以您會發現奶蓋珍珠奶茶、漸層變色甜菜粉、藍色糖漿以及更多您能想像的任何品項：) \n客戶還將有機會看到Qbubble的更多獨家品項與最新產品！
URL:https://qbubble.com/event/%e7%b7%9a%e4%b8%8a%e7%8f%8d%e7%8f%a0%e5%a5%b6%e8%8c%b6%e5%9f%b9%e8%a8%93%e7%8f%ad-31/?lang=zh-hant
ORGANIZER;CN="QBubble":MAILTO:info@qbubble.com
END:VEVENT
BEGIN:VEVENT
DTSTART;TZID=UTC:20220406T140000
DTEND;TZID=UTC:20220406T160000
DTSTAMP:20260424T131244
CREATED:20220405T150959Z
LAST-MODIFIED:20220405T150959Z
UID:7058-1649253600-1649260800@qbubble.com
SUMMARY:現場珍珠奶茶班
DESCRIPTION:想計劃發展您的珍奶事業嗎？此課程非常適合您。 \n本週現場珍珠奶茶班將傳授一些經典好喝的各種珍奶飲料:  經典珍珠奶茶\, 阿薩姆奶茶\, 百香果綠茶\, 草莓冰沙\, 卡布奇諾咖啡冰沙、等等。 \n該課還將傳授您如何（正確地）釀製綠茶、煮出Q彈有嚼勁的珍珠粉圓，為您的商店創造混和飲料以及融合美味的冰沙。 \n沒錯！我們是一家專門提供各式各樣珍珠奶茶的批發公司，所以您會發現奶蓋珍珠奶茶、漸層變色甜菜粉、藍色糖漿以及更多您能想像的任何品項：) \n客戶還將有機會當場看到和品嚐Qbubble的更多獨家品項與最新產品！
URL:https://qbubble.com/event/%e7%8f%be%e5%a0%b4%e7%8f%8d%e7%8f%a0%e5%a5%b6%e8%8c%b6%e7%8f%ad/?lang=zh-hant
ORGANIZER;CN="QBubble":MAILTO:info@qbubble.com
END:VEVENT
BEGIN:VEVENT
DTSTART;TZID=UTC:20220330T140000
DTEND;TZID=UTC:20220330T160000
DTSTAMP:20260424T131244
CREATED:20220330T151605Z
LAST-MODIFIED:20220330T151605Z
UID:7054-1648648800-1648656000@qbubble.com
SUMMARY:線上珍珠奶茶培訓班
DESCRIPTION:嘗試為您的珍珠奶茶事業找到突破點嗎？此課程非常適合您。 \n本週課程將傳授一些經典好喝的各種珍奶飲料:  經典珍珠奶茶\, 阿薩姆奶茶\, 百香果綠茶\, 草莓冰沙\, 卡布奇諾咖啡冰沙、等等。 \n該課還將傳授您如何（正確地）釀製綠茶、煮出Q彈有嚼勁的珍珠粉圓，為您的商店創造混和飲料以及融合美味的冰沙。 \n沒錯！我們是一家專門提供各式各樣珍珠奶茶的批發公司，所以您會發現奶蓋珍珠奶茶、漸層變色甜菜粉、藍色糖漿以及更多您能想像的任何品項：) \n客戶還將有機會看到Qbubble的更多獨家品項與最新產品！
URL:https://qbubble.com/event/%e7%b7%9a%e4%b8%8a%e7%8f%8d%e7%8f%a0%e5%a5%b6%e8%8c%b6%e5%9f%b9%e8%a8%93%e7%8f%ad-30/?lang=zh-hant
ORGANIZER;CN="QBubble":MAILTO:info@qbubble.com
END:VEVENT
BEGIN:VEVENT
DTSTART;TZID=UTC:20220323T140000
DTEND;TZID=UTC:20220323T160000
DTSTAMP:20260424T131244
CREATED:20220323T185454Z
LAST-MODIFIED:20220323T185454Z
UID:7033-1648044000-1648051200@qbubble.com
SUMMARY:網紅珍奶線上培訓班
DESCRIPTION:想升級您的菜單追上流行飲料趨勢嗎？此課程就對了! \n本週課程將傳授茶寶2022新品網紅珍奶飲料: 烤布雷黑糖珍珠髒髒茶\, 蛋糕布蕾奶茶\, 3層漸層果茶\, 琥珀泰式抹茶奶茶\, 紫薯髒髒茶\, 抹茶髒髒茶\, 清涼荔枝草莓飲料\, 等等。 \n沒錯！我們是一家專門提供各式各樣珍珠奶茶的批發公司，所以您會發現奶蓋珍珠奶茶、漸層變色甜菜粉、藍色糖漿以及更多您能想像的任何品項：)
URL:https://qbubble.com/event/%e7%b6%b2%e7%b4%85%e7%8f%8d%e5%a5%b6%e7%b7%9a%e4%b8%8a%e5%9f%b9%e8%a8%93%e7%8f%ad-18/?lang=zh-hant
ORGANIZER;CN="QBubble":MAILTO:info@qbubble.com
END:VEVENT
BEGIN:VEVENT
DTSTART;TZID=UTC:20220316T140000
DTEND;TZID=UTC:20220316T160000
DTSTAMP:20260424T131244
CREATED:20220316T210140Z
LAST-MODIFIED:20220316T210200Z
UID:7006-1647439200-1647446400@qbubble.com
SUMMARY:線上珍珠奶茶培訓班
DESCRIPTION:嘗試為您的珍珠奶茶事業找到突破點嗎？此課程非常適合您。\n本週課程將傳授一些經典好喝的各種珍奶飲料: 經典珍珠奶茶\, 阿薩姆奶茶\, 百香果綠茶\, 草莓冰沙\, 卡布奇諾咖啡冰沙、等等。\n該課還將傳授您如何（正確地）釀製綠茶、煮出Q彈有嚼勁的珍珠粉圓，為您的商店創造混和飲料以及融合美味的冰沙。 \n沒錯！我們是一家專門提供各式各樣珍珠奶茶的批發公司，所以您會發現奶蓋珍珠奶茶、漸層變色甜菜粉、藍色糖漿以及更多您能想像的任何品項：)\n客戶還將有機會看到Qbubble的更多獨家品項與最新產品！
URL:https://qbubble.com/event/%e7%b7%9a%e4%b8%8a%e7%8f%8d%e7%8f%a0%e5%a5%b6%e8%8c%b6%e5%9f%b9%e8%a8%93%e7%8f%ad-29/?lang=zh-hant
ORGANIZER;CN="QBubble":MAILTO:info@qbubble.com
END:VEVENT
BEGIN:VEVENT
DTSTART;TZID=UTC:20220310T140000
DTEND;TZID=UTC:20220310T160000
DTSTAMP:20260424T131244
CREATED:20220304T221011Z
LAST-MODIFIED:20220304T221011Z
UID:6998-1646920800-1646928000@qbubble.com
SUMMARY:線上珍珠奶茶培訓班
DESCRIPTION:嘗試為您的珍珠奶茶事業找到突破點嗎？此課程非常適合您。\n本週課程將傳授一些經典好喝的各種珍奶飲料: 經典珍珠奶茶\, 阿薩姆奶茶\, 百香果綠茶\, 草莓冰沙\, 卡布奇諾咖啡冰沙、等等。\n該課還將傳授您如何（正確地）釀製綠茶、煮出Q彈有嚼勁的珍珠粉圓，為您的商店創造混和飲料以及融合美味的冰沙。 \n沒錯！我們是一家專門提供各式各樣珍珠奶茶的批發公司，所以您會發現奶蓋珍珠奶茶、漸層變色甜菜粉、藍色糖漿以及更多您能想像的任何品項：)
URL:https://qbubble.com/event/%e7%b7%9a%e4%b8%8a%e7%8f%8d%e7%8f%a0%e5%a5%b6%e8%8c%b6%e5%9f%b9%e8%a8%93%e7%8f%ad-28/?lang=zh-hant
END:VEVENT
BEGIN:VEVENT
DTSTART;TZID=UTC:20220302T140000
DTEND;TZID=UTC:20220302T160000
DTSTAMP:20260424T131244
CREATED:20220304T220833Z
LAST-MODIFIED:20220304T220833Z
UID:6996-1646229600-1646236800@qbubble.com
SUMMARY:節慶飲料特別班
DESCRIPTION:需要一些Idea促進假日銷售嗎？這個節慶飲料特別班將非常適合您！ \n本課程將展示 6 種特別的節日飲品- 提拉米蘇布蕾奶茶\, 海鹽焦糖冰可可，青蘋果荔枝汁\, 草莓白桃汁\, 藍荔枝汁特調\, 西柚玫瑰汁… \n您可以將它們放在節日Menu上\, 相信這些味道顏值都一百分的飲料會能帶來商機！ \n快聯繫我們報名參加這個限定特別網課吧！
URL:https://qbubble.com/event/%e7%af%80%e6%85%b6%e9%a3%b2%e6%96%99%e7%89%b9%e5%88%a5%e7%8f%ad/?lang=zh-hant
ORGANIZER;CN="QBubble":MAILTO:info@qbubble.com
END:VEVENT
BEGIN:VEVENT
DTSTART;TZID=UTC:20220224T140000
DTEND;TZID=UTC:20220224T160000
DTSTAMP:20260424T131244
CREATED:20220224T153104Z
LAST-MODIFIED:20220224T153104Z
UID:6979-1645711200-1645718400@qbubble.com
SUMMARY:線上珍珠奶茶培訓班
DESCRIPTION:嘗試為您的珍珠奶茶事業找到突破點嗎？此課程非常適合您。\n本週課程將傳授一些經典好喝的各種珍奶飲料: 經典珍珠奶茶\, 阿薩姆奶茶\, 百香果綠茶\, 草莓冰沙\, 卡布奇諾咖啡冰沙、等等。\n該課還將傳授您如何（正確地）釀製綠茶、煮出Q彈有嚼勁的珍珠粉圓，為您的商店創造混和飲料以及融合美味的冰沙。 \n沒錯！我們是一家專門提供各式各樣珍珠奶茶的批發公司，所以您會發現奶蓋珍珠奶茶、漸層變色甜菜粉、藍色糖漿以及更多您能想像的任何品項：)
URL:https://qbubble.com/event/%e7%b7%9a%e4%b8%8a%e7%8f%8d%e7%8f%a0%e5%a5%b6%e8%8c%b6%e5%9f%b9%e8%a8%93%e7%8f%ad-27/?lang=zh-hant
ORGANIZER;CN="QBubble":MAILTO:info@qbubble.com
END:VEVENT
BEGIN:VEVENT
DTSTART;TZID=America/New_York:20220216T080000
DTEND;TZID=America/New_York:20220216T170000
DTSTAMP:20260424T131244
CREATED:20220215T162834Z
LAST-MODIFIED:20220215T162834Z
UID:6973-1644998400-1645030800@qbubble.com
SUMMARY:線上珍珠奶茶培訓班
DESCRIPTION:想計劃發展您的珍奶事業嗎？此課程非常適合您。 \n本週課程將傳授一些經典好喝的各種珍奶飲料:  經典珍珠奶茶\, 阿薩姆奶茶\, 百香果綠茶\, 草莓冰沙\, 卡布奇諾咖啡冰沙、等等。 \n該課還將傳授您如何（正確地）釀製綠茶、煮出Q彈有嚼勁的珍珠粉圓，為您的商店創造混和飲料以及融合美味的冰沙。 \n沒錯！我們是一家專門提供各式各樣珍珠奶茶的批發公司，所以您會發現奶蓋珍珠奶茶、漸層變色甜菜粉、藍色糖漿以及更多您能想像的任何品項：) \n客戶還將有機會看到Qbubble的更多獨家品項與最新產品！
URL:https://qbubble.com/event/%e7%b7%9a%e4%b8%8a%e7%8f%8d%e7%8f%a0%e5%a5%b6%e8%8c%b6%e5%9f%b9%e8%a8%93%e7%8f%ad-26/?lang=zh-hant
ORGANIZER;CN="QBubble":MAILTO:info@qbubble.com
END:VEVENT
BEGIN:VEVENT
DTSTART;TZID=America/New_York:20220211T140000
DTEND;TZID=America/New_York:20220211T160000
DTSTAMP:20260424T131244
CREATED:20220127T201933Z
LAST-MODIFIED:20220127T202244Z
UID:6956-1644588000-1644595200@qbubble.com
SUMMARY:節慶飲料特別班
DESCRIPTION:需要一些Idea促進假日銷售嗎？這個節慶飲料特別班將非常適合您！\n本課程將展示 6 種特別的節日飲品- 蛋糕布蕾提拉米蘇，草莓白桃茶，藍荔枝特調，青蘋果荔枝茶，葡萄柚玫瑰露和海鹽焦糖冰巧克力。\n您可以將它們放在節日Menu上 相信這些味道顏值都一百分的飲料會能帶來商機！\n快聯繫我們報名參加這個限定特別網課吧！
URL:https://qbubble.com/event/6956/?lang=zh-hant
ORGANIZER;CN="QBubble":MAILTO:info@qbubble.com
END:VEVENT
BEGIN:VEVENT
DTSTART;TZID=America/New_York:20220203T140000
DTEND;TZID=America/New_York:20220203T160000
DTSTAMP:20260424T131244
CREATED:20220204T155349Z
LAST-MODIFIED:20220204T155349Z
UID:6967-1643896800-1643904000@qbubble.com
SUMMARY:網紅珍奶線上培訓班
DESCRIPTION:想升級您的菜單追上流行飲料趨勢嗎？此課程就對了!\n本週課程將傳授茶寶2022新品網紅珍奶飲料: 烤布雷黑糖珍珠髒髒茶\, 蛋糕布蕾奶茶\, 3層漸層果茶\, 琥珀泰式抹茶奶茶\, 紫薯髒髒茶\, 抹茶髒髒茶\, 清涼荔枝草莓飲料\, 等等。\n沒錯！我們是一家專門提供各式各樣珍珠奶茶的批發公司，所以您會發現奶蓋珍珠奶茶、漸層變色甜菜粉、藍色糖漿以及更多您能想像的任何品項：)
URL:https://qbubble.com/event/%e7%b6%b2%e7%b4%85%e7%8f%8d%e5%a5%b6%e7%b7%9a%e4%b8%8a%e5%9f%b9%e8%a8%93%e7%8f%ad-17/?lang=zh-hant
ORGANIZER;CN="QBubble":MAILTO:info@qbubble.com
END:VEVENT
BEGIN:VEVENT
DTSTART;TZID=America/New_York:20220131T160000
DTEND;TZID=America/New_York:20220201T180000
DTSTAMP:20260424T131244
CREATED:20220119T185947Z
LAST-MODIFIED:20220119T185947Z
UID:6937-1643644800-1643738400@qbubble.com
SUMMARY:農曆新年送貨更改
DESCRIPTION:我們將在農曆除夕（1/31/22 星期一）下午 4 點提前下班，並在農曆新年（2/1/22 星期二）休息一天。 \nNJ/PA 原定於 2/1/22 送貨日期將更改為 1/27/22（星期四）。請儘早安排備貨下單!
URL:https://qbubble.com/event/%e8%be%b2%e6%9b%86%e6%96%b0%e5%b9%b4%e9%80%81%e8%b2%a8%e6%9b%b4%e6%94%b9/?lang=zh-hant
ORGANIZER;CN="QBubble":MAILTO:info@qbubble.com
END:VEVENT
BEGIN:VEVENT
DTSTART;TZID=America/New_York:20220129T090000
DTEND;TZID=America/New_York:20220129T150000
DTSTAMP:20260424T131245
CREATED:20220128T222505Z
LAST-MODIFIED:20220128T222749Z
UID:6962-1643446800-1643468400@qbubble.com
SUMMARY:大風雪通知
DESCRIPTION:由於紐約大風雪的影響，為確保員工安全，今天倉庫會休息一天。 \n如需下單，請打電話(718-358-5868)或微信我們，從9am-3pm會線上接電話。
URL:https://qbubble.com/event/%e5%a4%a7%e9%a2%a8%e9%9b%aa%e9%80%9a%e7%9f%a5/?lang=zh-hant
ORGANIZER;CN="QBubble":MAILTO:info@qbubble.com
END:VEVENT
BEGIN:VEVENT
DTSTART;TZID=America/New_York:20220127T140000
DTEND;TZID=America/New_York:20220127T160000
DTSTAMP:20260424T131245
CREATED:20220126T201442Z
LAST-MODIFIED:20220126T201442Z
UID:6950-1643292000-1643299200@qbubble.com
SUMMARY:線上珍珠奶茶培訓班
DESCRIPTION:想計劃發展您的珍奶事業嗎？此課程非常適合您。\n本週課程將傳授一些經典好喝的各種珍奶飲料: 經典珍珠奶茶\, 阿薩姆奶茶\, 百香果綠茶\, 草莓冰沙\, 卡布奇諾咖啡冰沙、等等。\n該課還將傳授您如何（正確地）釀製綠茶、煮出Q彈有嚼勁的珍珠粉圓，為您的商店創造混和飲料以及融合美味的冰沙。 \n沒錯！我們是一家專門提供各式各樣珍珠奶茶的批發公司，所以您會發現奶蓋珍珠奶茶、漸層變色甜菜粉、藍色糖漿以及更多您能想像的任何品項：)\n客戶還將有機會看到Qbubble的更多獨家品項與最新產品！
URL:https://qbubble.com/event/%e7%b7%9a%e4%b8%8a%e7%8f%8d%e7%8f%a0%e5%a5%b6%e8%8c%b6%e5%9f%b9%e8%a8%93%e7%8f%ad-25/?lang=zh-hant
ORGANIZER;CN="QBubble":MAILTO:info@qbubble.com
END:VEVENT
BEGIN:VEVENT
DTSTART;TZID=America/New_York:20220119T140000
DTEND;TZID=America/New_York:20220119T160000
DTSTAMP:20260424T131245
CREATED:20220118T161751Z
LAST-MODIFIED:20220118T161751Z
UID:6932-1642600800-1642608000@qbubble.com
SUMMARY:網紅珍奶線上培訓班
DESCRIPTION:想升級您的菜單追上流行飲料趨勢嗎？此課程就對了!\n本週課程將傳授茶寶2022新品網紅珍奶飲料: 烤布雷黑糖珍珠髒髒茶\, 蛋糕布蕾奶茶\, 3層漸層果茶\, 琥珀泰式抹茶奶茶\, 紫薯髒髒茶\, 抹茶髒髒茶\, 清涼荔枝草莓飲料\, 等等。\n沒錯！我們是一家專門提供各式各樣珍珠奶茶的批發公司，所以您會發現奶蓋珍珠奶茶、漸層變色甜菜粉、藍色糖漿以及更多您能想像的任何品項：)
URL:https://qbubble.com/event/%e7%b6%b2%e7%b4%85%e7%8f%8d%e5%a5%b6%e7%b7%9a%e4%b8%8a%e5%9f%b9%e8%a8%93%e7%8f%ad-16/?lang=zh-hant
ORGANIZER;CN="QBubble":MAILTO:info@qbubble.com
END:VEVENT
BEGIN:VEVENT
DTSTART;TZID=America/New_York:20220112T140000
DTEND;TZID=America/New_York:20220112T160000
DTSTAMP:20260424T131245
CREATED:20220111T193040Z
LAST-MODIFIED:20220111T193040Z
UID:6928-1641996000-1642003200@qbubble.com
SUMMARY:線上珍珠奶茶培訓班
DESCRIPTION:想計劃發展您的珍奶事業嗎？此課程非常適合您。\n本週課程將傳授一些經典好喝的各種珍奶飲料: 經典珍珠奶茶\, 阿薩姆奶茶\, 百香果綠茶\, 草莓冰沙\, 卡布奇諾咖啡冰沙、等等。\n該課還將傳授您如何（正確地）釀製綠茶、煮出Q彈有嚼勁的珍珠粉圓，為您的商店創造混和飲料以及融合美味的冰沙。 \n沒錯！我們是一家專門提供各式各樣珍珠奶茶的批發公司，所以您會發現奶蓋珍珠奶茶、漸層變色甜菜粉、藍色糖漿以及更多您能想像的任何品項：)\n客戶還將有機會看到Qbubble的更多獨家品項與最新產品！
URL:https://qbubble.com/event/%e7%b7%9a%e4%b8%8a%e7%8f%8d%e7%8f%a0%e5%a5%b6%e8%8c%b6%e5%9f%b9%e8%a8%93%e7%8f%ad-24/?lang=zh-hant
ORGANIZER;CN="QBubble":MAILTO:info@qbubble.com
END:VEVENT
BEGIN:VEVENT
DTSTART;TZID=America/New_York:20220106T140000
DTEND;TZID=America/New_York:20220106T160000
DTSTAMP:20260424T131245
CREATED:20220104T141005Z
LAST-MODIFIED:20220104T141005Z
UID:6922-1641477600-1641484800@qbubble.com
SUMMARY:網紅珍奶線上培訓班
DESCRIPTION:想升級您的菜單追上流行飲料趨勢嗎？此課程就對了! \n本週課程將傳授茶寶2021新品網紅珍奶飲料: 烤布雷黑糖珍珠髒髒茶\, 蛋糕布蕾奶茶\, 3層漸層果茶\, 琥珀泰式抹茶奶茶\, 紫薯髒髒茶\, 抹茶髒髒茶\, 清涼荔枝草莓飲料\, 等等。 \n沒錯！我們是一家專門提供各式各樣珍珠奶茶的批發公司，所以您會發現奶蓋珍珠奶茶、漸層變色甜菜粉、藍色糖漿以及更多您能想像的任何品項：)
URL:https://qbubble.com/event/%e7%b6%b2%e7%b4%85%e7%8f%8d%e5%a5%b6%e7%b7%9a%e4%b8%8a%e5%9f%b9%e8%a8%93%e7%8f%ad-15/?lang=zh-hant
ORGANIZER;CN="QBubble":MAILTO:info@qbubble.com
END:VEVENT
BEGIN:VEVENT
DTSTART;TZID=America/New_York:20211231T160000
DTEND;TZID=America/New_York:20220101T150000
DTSTAMP:20260424T131245
CREATED:20211227T144848Z
LAST-MODIFIED:20211227T144848Z
UID:6915-1640966400-1641049200@qbubble.com
SUMMARY:元旦營業時間
DESCRIPTION:我們將在元旦前夕（12/31）下午 4 點提前下班，並在元旦（1/1/22）休息。 請提早下單，以避免假日週末缺貨！
URL:https://qbubble.com/event/%e5%85%83%e6%97%a6%e7%87%9f%e6%a5%ad%e6%99%82%e9%96%93/?lang=zh-hant
ORGANIZER;CN="QBubble":MAILTO:info@qbubble.com
END:VEVENT
BEGIN:VEVENT
DTSTART;TZID=America/New_York:20211224T160000
DTEND;TZID=America/New_York:20211225T150000
DTSTAMP:20260424T131245
CREATED:20211221T154027Z
LAST-MODIFIED:20211221T165544Z
UID:6887-1640361600-1640444400@qbubble.com
SUMMARY:聖誕節營業時間
DESCRIPTION:我們將在聖誕節前夕（12/24）下午 4 點提前下班，並在聖誕節（12/25）休息。 \n請提早下單，以避免假日週末缺貨！
URL:https://qbubble.com/event/%e8%81%96%e8%aa%95%e7%af%80%e7%87%9f%e6%a5%ad%e6%99%82%e9%96%93/?lang=zh-hant
ORGANIZER;CN="QBubble":MAILTO:info@qbubble.com
END:VEVENT
BEGIN:VEVENT
DTSTART;TZID=America/New_York:20211223T140000
DTEND;TZID=America/New_York:20211223T160000
DTSTAMP:20260424T131245
CREATED:20211221T185947Z
LAST-MODIFIED:20211221T185947Z
UID:6892-1640268000-1640275200@qbubble.com
SUMMARY:線上珍珠奶茶培訓班
DESCRIPTION:想計劃發展您的珍奶事業嗎？此課程非常適合您。\n本週課程將傳授一些經典好喝的各種珍奶飲料: 經典珍珠奶茶\, 阿薩姆奶茶\, 百香果綠茶\, 草莓冰沙\, 卡布奇諾咖啡冰沙、等等。\n該課還將傳授您如何（正確地）釀製綠茶、煮出Q彈有嚼勁的珍珠粉圓，為您的商店創造混和飲料以及融合美味的冰沙。 \n沒錯！我們是一家專門提供各式各樣珍珠奶茶的批發公司，所以您會發現奶蓋珍珠奶茶、漸層變色甜菜粉、藍色糖漿以及更多您能想像的任何品項：)\n客戶還將有機會看到Qbubble的更多獨家品項與最新產品！
URL:https://qbubble.com/event/%e7%b7%9a%e4%b8%8a%e7%8f%8d%e7%8f%a0%e5%a5%b6%e8%8c%b6%e5%9f%b9%e8%a8%93%e7%8f%ad-23/?lang=zh-hant
ORGANIZER;CN="QBubble":MAILTO:info@qbubble.com
END:VEVENT
BEGIN:VEVENT
DTSTART;TZID=America/New_York:20211217T170000
DTEND;TZID=America/New_York:20211217T170000
DTSTAMP:20260424T131245
CREATED:20211217T181945Z
LAST-MODIFIED:20211217T181945Z
UID:6882-1639760400-1639760400@qbubble.com
SUMMARY:提早5 點下班
DESCRIPTION:因公司舉行週年聚會，我們將於 12 月17 日（星期五）下午 5 點提早下班。\n週六 12/18 上午 9 點至下午 3 點照常營業。\n如帶來任何不便，我們深表歉意並感謝您的理解！
URL:https://qbubble.com/event/%e6%8f%90%e6%97%a95-%e9%bb%9e%e4%b8%8b%e7%8f%ad/?lang=zh-hant
ORGANIZER;CN="QBubble":MAILTO:info@qbubble.com
END:VEVENT
BEGIN:VEVENT
DTSTART;TZID=America/New_York:20211216T140000
DTEND;TZID=America/New_York:20211216T160000
DTSTAMP:20260424T131245
CREATED:20211213T172254Z
LAST-MODIFIED:20211213T172254Z
UID:6873-1639663200-1639670400@qbubble.com
SUMMARY:線上珍珠奶茶培訓班
DESCRIPTION:嘗試為您的珍珠奶茶事業找到突破點嗎? 此課程非常適合您。 \n本週課程將傳授一些經典好喝的各種珍奶飲料: 經典珍珠奶茶\, 阿薩姆奶茶\, 百香果綠茶\, 草莓冰沙\, 卡布奇諾咖啡冰沙、等等。\n該課還將傳授您如何（正確地）釀製綠茶、煮出Q彈有嚼勁的珍珠粉圓，為您的商店創造混和飲料以及融合美味的冰沙。 \n沒錯！我們是一家專門提供各式各樣珍珠奶茶的批發公司，所以您會發現奶蓋珍珠奶茶、漸層變色甜菜粉、藍色糖漿以及更多您能想像的任何品項：)\n客戶還將有機會看到Qbubble的更多獨家品項與最新產品！
URL:https://qbubble.com/event/%e7%b7%9a%e4%b8%8a%e7%8f%8d%e7%8f%a0%e5%a5%b6%e8%8c%b6%e5%9f%b9%e8%a8%93%e7%8f%ad-22/?lang=zh-hant
ORGANIZER;CN="QBubble":MAILTO:info@qbubble.com
END:VEVENT
BEGIN:VEVENT
DTSTART;TZID=America/New_York:20211209T140000
DTEND;TZID=America/New_York:20211209T160000
DTSTAMP:20260424T131245
CREATED:20211209T170804Z
LAST-MODIFIED:20211209T170823Z
UID:6868-1639058400-1639065600@qbubble.com
SUMMARY:線上珍珠奶茶培訓班
DESCRIPTION:想計劃發展您的珍奶事業嗎？此課程非常適合您。\n本週課程將傳授一些經典好喝的各種珍奶飲料: 經典珍珠奶茶\, 阿薩姆奶茶\, 百香果綠茶\, 草莓冰沙\, 卡布奇諾咖啡冰沙、等等。\n該課還將傳授您如何（正確地）釀製綠茶、煮出Q彈有嚼勁的珍珠粉圓，為您的商店創造混和飲料以及融合美味的冰沙。 \n沒錯！我們是一家專門提供各式各樣珍珠奶茶的批發公司，所以您會發現奶蓋珍珠奶茶、漸層變色甜菜粉、藍色糖漿以及更多您能想像的任何品項：)\n客戶還將有機會看到Qbubble的更多獨家品項與最新產品！
URL:https://qbubble.com/event/%e7%b7%9a%e4%b8%8a%e7%8f%8d%e7%8f%a0%e5%a5%b6%e8%8c%b6%e5%9f%b9%e8%a8%93%e7%8f%ad-21/?lang=zh-hant
ORGANIZER;CN="QBubble":MAILTO:info@qbubble.com
END:VEVENT
BEGIN:VEVENT
DTSTART;TZID=America/New_York:20211202T140000
DTEND;TZID=America/New_York:20211202T160000
DTSTAMP:20260424T131245
CREATED:20211202T174736Z
LAST-MODIFIED:20211202T174736Z
UID:6862-1638453600-1638460800@qbubble.com
SUMMARY:線上珍珠奶茶培訓班
DESCRIPTION:想計劃發展您的珍奶事業嗎？此課程非常適合您。\n本週課程將傳授一些經典好喝的各種珍奶飲料: 經典珍珠奶茶\, 阿薩姆奶茶\, 百香果綠茶\, 草莓冰沙\, 卡布奇諾咖啡冰沙、等等。\n該課還將傳授您如何（正確地）釀製綠茶、煮出Q彈有嚼勁的珍珠粉圓，為您的商店創造混和飲料以及融合美味的冰沙。 \n沒錯！我們是一家專門提供各式各樣珍珠奶茶的批發公司，所以您會發現奶蓋珍珠奶茶、漸層變色甜菜粉、藍色糖漿以及更多您能想像的任何品項：)
URL:https://qbubble.com/event/%e7%b7%9a%e4%b8%8a%e7%8f%8d%e7%8f%a0%e5%a5%b6%e8%8c%b6%e5%9f%b9%e8%a8%93%e7%8f%ad-20/?lang=zh-hant
ORGANIZER;CN="QBubble":MAILTO:info@qbubble.com
END:VEVENT
BEGIN:VEVENT
DTSTART;VALUE=DATE:20211125
DTEND;VALUE=DATE:20211126
DTSTAMP:20260424T131245
CREATED:20211122T195547Z
LAST-MODIFIED:20211122T195547Z
UID:6834-1637798400-1637884799@qbubble.com
SUMMARY:感恩節營業更改
DESCRIPTION:我們將於感恩節 11/25/2021 休息一天! 紐約上州送貨將改為 11/23/21 (星期二)。
URL:https://qbubble.com/event/%e6%84%9f%e6%81%a9%e7%af%80%e7%87%9f%e6%a5%ad%e6%9b%b4%e6%94%b9/?lang=zh-hant
ORGANIZER;CN="QBubble":MAILTO:info@qbubble.com
END:VEVENT
BEGIN:VEVENT
DTSTART;TZID=America/New_York:20211117T140000
DTEND;TZID=America/New_York:20211117T160000
DTSTAMP:20260424T131245
CREATED:20211116T162111Z
LAST-MODIFIED:20211116T162111Z
UID:6830-1637157600-1637164800@qbubble.com
SUMMARY:線上珍珠奶茶培訓班
DESCRIPTION:嘗試為您的珍珠奶茶事業找到突破點嗎？此課程非常適合您。\n本週課程將傳授一些經典好喝的各種珍奶飲料: 經典珍珠奶茶\, 阿薩姆奶茶\, 百香果綠茶\, 草莓冰沙\, 卡布奇諾咖啡冰沙、等等。\n該課還將傳授您如何（正確地）釀製綠茶、煮出Q彈有嚼勁的珍珠粉圓，為您的商店創造混和飲料以及融合美味的冰沙。 \n沒錯！我們是一家專門提供各式各樣珍珠奶茶的批發公司，所以您會發現奶蓋珍珠奶茶、漸層變色甜菜粉、藍色糖漿以及更多您能想像的任何品項：)
URL:https://qbubble.com/event/%e7%b7%9a%e4%b8%8a%e7%8f%8d%e7%8f%a0%e5%a5%b6%e8%8c%b6%e5%9f%b9%e8%a8%93%e7%8f%ad-19/?lang=zh-hant
ORGANIZER;CN="QBubble":MAILTO:info@qbubble.com
END:VEVENT
BEGIN:VEVENT
DTSTART;TZID=America/New_York:20211110T140000
DTEND;TZID=America/New_York:20211110T160000
DTSTAMP:20260424T131245
CREATED:20211109T161938Z
LAST-MODIFIED:20211109T161938Z
UID:6755-1636552800-1636560000@qbubble.com
SUMMARY:線上珍珠奶茶培訓班
DESCRIPTION:想計劃發展您的珍奶事業嗎？此課程非常適合您。 \n本週課程將傳授一些經典好喝的各種珍奶飲料:  經典珍珠奶茶\, 阿薩姆奶茶\, 百香果綠茶\, 草莓冰沙\, 卡布奇諾咖啡冰沙、等等。 \n該課還將傳授您如何（正確地）釀製綠茶、煮出Q彈有嚼勁的珍珠粉圓，為您的商店創造混和飲料以及融合美味的冰沙。 \n沒錯！我們是一家專門提供各式各樣珍珠奶茶的批發公司，所以您會發現奶蓋珍珠奶茶、漸層變色甜菜粉、藍色糖漿以及更多您能想像的任何品項：)\n客戶還將有機會看到Qbubble的更多獨家品項與最新產品！
URL:https://qbubble.com/event/%e7%b7%9a%e4%b8%8a%e7%8f%8d%e7%8f%a0%e5%a5%b6%e8%8c%b6%e5%9f%b9%e8%a8%93%e7%8f%ad-18/?lang=zh-hant
ORGANIZER;CN="QBubble":MAILTO:info@qbubble.com
END:VEVENT
END:VCALENDAR