BEGIN:VCALENDAR
VERSION:2.0
PRODID:-//茶宝 QBubble Troika J C Inc. - ECPv6.15.20//NONSGML v1.0//EN
CALSCALE:GREGORIAN
METHOD:PUBLISH
X-WR-CALNAME:茶宝 QBubble Troika J C Inc.
X-ORIGINAL-URL:https://qbubble.com/?lang=zh-hant
X-WR-CALDESC:Events for 茶宝 QBubble Troika J C Inc.
REFRESH-INTERVAL;VALUE=DURATION:PT1H
X-Robots-Tag:noindex
X-PUBLISHED-TTL:PT1H
BEGIN:VTIMEZONE
TZID:UTC
BEGIN:STANDARD
TZOFFSETFROM:+0000
TZOFFSETTO:+0000
TZNAME:UTC
DTSTART:20210101T000000
END:STANDARD
END:VTIMEZONE
BEGIN:VEVENT
DTSTART;TZID=UTC:20221004T140000
DTEND;TZID=UTC:20221004T160000
DTSTAMP:20260424T074506
CREATED:20220927T162622Z
LAST-MODIFIED:20220927T162622Z
UID:7254-1664892000-1664899200@qbubble.com
SUMMARY:現場珍珠奶茶班
DESCRIPTION:想計劃發展您的珍奶事業嗎？此課程非常適合您。 \n本週現場珍珠奶茶班將傳授一些經典好喝的各種珍奶飲料:  經典珍珠奶茶\, 阿薩姆奶茶\, 百香果綠茶\, 草莓冰沙\, 卡布奇諾咖啡冰沙、等等。 \n該課還將傳授您如何（正確地）釀製綠茶、煮出Q彈有嚼勁的珍珠粉圓，為您的商店創造混和飲料以及融合美味的冰沙。 \n沒錯！我們是一家專門提供各式各樣珍珠奶茶的批發公司，所以您會發現奶蓋珍珠奶茶、漸層變色甜菜粉、藍色糖漿以及更多您能想像的任何品項：) \n客戶還將有機會當場看到和品嚐Qbubble的更多獨家品項與最新產品！
URL:https://qbubble.com/event/%e7%8f%be%e5%a0%b4%e7%8f%8d%e7%8f%a0%e5%a5%b6%e8%8c%b6%e7%8f%ad-13/?lang=zh-hant
ORGANIZER;CN="QBubble":MAILTO:info@qbubble.com
END:VEVENT
BEGIN:VEVENT
DTSTART;TZID=UTC:20220929T140000
DTEND;TZID=UTC:20220929T160000
DTSTAMP:20260424T074506
CREATED:20220927T162453Z
LAST-MODIFIED:20220927T162453Z
UID:7252-1664460000-1664467200@qbubble.com
SUMMARY:線上珍珠奶茶培訓班
DESCRIPTION:嘗試為您的珍珠奶茶事業找到突破點嗎？此課程非常適合您。 \n本週課程將傳授一些經典好喝的各種珍奶飲料:  經典珍珠奶茶\, 阿薩姆奶茶\, 百香果綠茶\, 草莓冰沙\, 卡布奇諾咖啡冰沙、等等。 \n該課還將傳授您如何（正確地）釀製綠茶、煮出Q彈有嚼勁的珍珠粉圓，為您的商店創造混和飲料以及融合美味的冰沙。 \n沒錯！我們是一家專門提供各式各樣珍珠奶茶的批發公司，所以您會發現奶蓋珍珠奶茶、漸層變色甜菜粉、藍色糖漿以及更多您能想像的任何品項：) \n客戶還將有機會看到Qbubble的更多獨家品項與最新產品！
URL:https://qbubble.com/event/%e7%b7%9a%e4%b8%8a%e7%8f%8d%e7%8f%a0%e5%a5%b6%e8%8c%b6%e5%9f%b9%e8%a8%93%e7%8f%ad-41/?lang=zh-hant
ORGANIZER;CN="QBubble":MAILTO:info@qbubble.com
END:VEVENT
BEGIN:VEVENT
DTSTART;TZID=UTC:20220922T140000
DTEND;TZID=UTC:20220922T160000
DTSTAMP:20260424T074506
CREATED:20220927T162324Z
LAST-MODIFIED:20220927T162324Z
UID:7250-1663855200-1663862400@qbubble.com
SUMMARY:現場珍珠奶茶班
DESCRIPTION:想計劃發展您的珍奶事業嗎？此課程非常適合您。 \n本週現場珍珠奶茶班將傳授一些經典好喝的各種珍奶飲料:  經典珍珠奶茶\, 阿薩姆奶茶\, 百香果綠茶\, 草莓冰沙\, 卡布奇諾咖啡冰沙、等等。 \n該課還將傳授您如何（正確地）釀製綠茶、煮出Q彈有嚼勁的珍珠粉圓，為您的商店創造混和飲料以及融合美味的冰沙。 \n沒錯！我們是一家專門提供各式各樣珍珠奶茶的批發公司，所以您會發現奶蓋珍珠奶茶、漸層變色甜菜粉、藍色糖漿以及更多您能想像的任何品項：) \n客戶還將有機會當場看到和品嚐Qbubble的更多獨家品項與最新產品！
URL:https://qbubble.com/event/%e7%8f%be%e5%a0%b4%e7%8f%8d%e7%8f%a0%e5%a5%b6%e8%8c%b6%e7%8f%ad-12/?lang=zh-hant
ORGANIZER;CN="QBubble":MAILTO:info@qbubble.com
END:VEVENT
BEGIN:VEVENT
DTSTART;TZID=UTC:20220913T140000
DTEND;TZID=UTC:20220913T160000
DTSTAMP:20260424T074506
CREATED:20220920T153736Z
LAST-MODIFIED:20220920T153736Z
UID:7234-1663077600-1663084800@qbubble.com
SUMMARY:線上珍珠奶茶培訓班
DESCRIPTION:想計劃發展您的珍奶事業嗎？此課程非常適合您。 \n本週課程將傳授一些經典好喝的各種珍奶飲料:  經典珍珠奶茶\, 阿薩姆奶茶\, 百香果綠茶\, 草莓冰沙\, 卡布奇諾咖啡冰沙、等等。 \n該課還將傳授您如何（正確地）釀製綠茶、煮出Q彈有嚼勁的珍珠粉圓，為您的商店創造混和飲料以及融合美味的冰沙。 \n沒錯！我們是一家專門提供各式各樣珍珠奶茶的批發公司，所以您會發現奶蓋珍珠奶茶、漸層變色甜菜粉、藍色糖漿以及更多您能想像的任何品項：) \n客戶還將有機會看到Qbubble的更多獨家品項與最新產品！
URL:https://qbubble.com/event/%e7%b7%9a%e4%b8%8a%e7%8f%8d%e7%8f%a0%e5%a5%b6%e8%8c%b6%e5%9f%b9%e8%a8%93%e7%8f%ad-40/?lang=zh-hant
ORGANIZER;CN="QBubble":MAILTO:info@qbubble.com
END:VEVENT
BEGIN:VEVENT
DTSTART;TZID=UTC:20220907T140000
DTEND;TZID=UTC:20220907T160000
DTSTAMP:20260424T074506
CREATED:20220907T194400Z
LAST-MODIFIED:20220907T194400Z
UID:7210-1662559200-1662566400@qbubble.com
SUMMARY:現場珍珠奶茶班
DESCRIPTION:嘗試為您的珍珠奶茶事業找到突破點嗎？此課程非常適合您。 \n本週現場珍珠奶茶班將傳授一些經典好喝的各種珍奶飲料:  經典珍珠奶茶\, 阿薩姆奶茶\, 百香果綠茶\, 草莓冰沙\, 卡布奇諾咖啡冰沙、等等。 \n該課還將傳授您如何（正確地）釀製綠茶、煮出Q彈有嚼勁的珍珠粉圓，為您的商店創造混和飲料以及融合美味的冰沙。 \n沒錯！我們是一家專門提供各式各樣珍珠奶茶的批發公司，所以您會發現奶蓋珍珠奶茶、漸層變色甜菜粉、藍色糖漿以及更多您能想像的任何品項：) \n客戶還將有機會當場看到和品嚐Qbubble的更多獨家品項與最新產品！
URL:https://qbubble.com/event/%e7%8f%be%e5%a0%b4%e7%8f%8d%e7%8f%a0%e5%a5%b6%e8%8c%b6%e7%8f%ad-11/?lang=zh-hant
ORGANIZER;CN="QBubble":MAILTO:info@qbubble.com
END:VEVENT
BEGIN:VEVENT
DTSTART;VALUE=DATE:20220905
DTEND;VALUE=DATE:20220906
DTSTAMP:20260424T074506
CREATED:20220824T153207Z
LAST-MODIFIED:20220824T153207Z
UID:7199-1662336000-1662422399@qbubble.com
SUMMARY:勞動節送貨更改
DESCRIPTION:我們將於勞動節 9/5/2022 休息一天! 新澤西州/賓州送貨將改為 8/30 星期二\, 紐約市送貨將改為 9/6 星期二。 \n請儘早下單，以備因行程擁堵而無法安排送貨！如有不便，敬請見諒。
URL:https://qbubble.com/event/%e5%8b%9e%e5%8b%95%e7%af%80%e9%80%81%e8%b2%a8%e6%9b%b4%e6%94%b9/?lang=zh-hant
ORGANIZER;CN="QBubble":MAILTO:info@qbubble.com
END:VEVENT
BEGIN:VEVENT
DTSTART;TZID=UTC:20220831T140000
DTEND;TZID=UTC:20220831T160000
DTSTAMP:20260424T074506
CREATED:20220831T142525Z
LAST-MODIFIED:20220831T142525Z
UID:7205-1661954400-1661961600@qbubble.com
SUMMARY:現場珍珠奶茶班
DESCRIPTION:嘗試為您的珍珠奶茶事業找到突破點嗎？此課程非常適合您。 \n本週現場珍珠奶茶班將傳授一些經典好喝的各種珍奶飲料:  經典珍珠奶茶\, 阿薩姆奶茶\, 百香果綠茶\, 草莓冰沙\, 卡布奇諾咖啡冰沙、等等。 \n該課還將傳授您如何（正確地）釀製綠茶、煮出Q彈有嚼勁的珍珠粉圓，為您的商店創造混和飲料以及融合美味的冰沙。 \n沒錯！我們是一家專門提供各式各樣珍珠奶茶的批發公司，所以您會發現奶蓋珍珠奶茶、漸層變色甜菜粉、藍色糖漿以及更多您能想像的任何品項：) \n客戶還將有機會當場看到和品嚐Qbubble的更多獨家品項與最新產品！
URL:https://qbubble.com/event/%e7%8f%be%e5%a0%b4%e7%8f%8d%e7%8f%a0%e5%a5%b6%e8%8c%b6%e7%8f%ad-10/?lang=zh-hant
ORGANIZER;CN="QBubble":MAILTO:info@qbubble.com
END:VEVENT
BEGIN:VEVENT
DTSTART;TZID=UTC:20220825T140000
DTEND;TZID=UTC:20220825T160000
DTSTAMP:20260424T074506
CREATED:20220824T152510Z
LAST-MODIFIED:20220824T152510Z
UID:7197-1661436000-1661443200@qbubble.com
SUMMARY:現場珍珠奶茶班
DESCRIPTION:想計劃發展您的珍奶事業嗎？此課程非常適合您。 \n本週現場珍珠奶茶班將傳授一些經典好喝的各種珍奶飲料:  經典珍珠奶茶\, 阿薩姆奶茶\, 百香果綠茶\, 草莓冰沙\, 卡布奇諾咖啡冰沙、等等。 \n該課還將傳授您如何（正確地）釀製綠茶、煮出Q彈有嚼勁的珍珠粉圓，為您的商店創造混和飲料以及融合美味的冰沙。 \n沒錯！我們是一家專門提供各式各樣珍珠奶茶的批發公司，所以您會發現奶蓋珍珠奶茶、漸層變色甜菜粉、藍色糖漿以及更多您能想像的任何品項：) \n客戶還將有機會當場看到和品嚐Qbubble的更多獨家品項與最新產品！
URL:https://qbubble.com/event/%e7%8f%be%e5%a0%b4%e7%8f%8d%e7%8f%a0%e5%a5%b6%e8%8c%b6%e7%8f%ad-9/?lang=zh-hant
ORGANIZER;CN="QBubble":MAILTO:info@qbubble.com
END:VEVENT
BEGIN:VEVENT
DTSTART;TZID=UTC:20220817T140000
DTEND;TZID=UTC:20220817T160000
DTSTAMP:20260424T074506
CREATED:20220810T145910Z
LAST-MODIFIED:20220810T145910Z
UID:7187-1660744800-1660752000@qbubble.com
SUMMARY:網紅珍奶線上培訓班
DESCRIPTION:想升級您的菜單追上流行飲料趨勢嗎？此課程就對了! \n本週課程將傳授茶寶2022新品網紅珍奶飲料: 烤布雷黑糖珍珠髒髒茶\, 蛋糕布蕾奶茶\, 3層漸層果茶\, 琥珀泰式抹茶奶茶\, 紫薯髒髒茶\, 抹茶髒髒茶\, 清涼荔枝草莓飲料\, 等等。 \n沒錯！我們是一家專門提供各式各樣珍珠奶茶的批發公司，所以您會發現奶蓋珍珠奶茶、漸層變色甜菜粉、藍色糖漿以及更多您能想像的任何品項：)
URL:https://qbubble.com/event/%e7%b6%b2%e7%b4%85%e7%8f%8d%e5%a5%b6%e7%b7%9a%e4%b8%8a%e5%9f%b9%e8%a8%93%e7%8f%ad-20/?lang=zh-hant
ORGANIZER;CN="QBubble":MAILTO:info@qbubble.com
END:VEVENT
BEGIN:VEVENT
DTSTART;TZID=UTC:20220810T140000
DTEND;TZID=UTC:20220810T160000
DTSTAMP:20260424T074506
CREATED:20220810T145756Z
LAST-MODIFIED:20220810T145756Z
UID:7185-1660140000-1660147200@qbubble.com
SUMMARY:現場珍珠奶茶班
DESCRIPTION:想計劃發展您的珍奶事業嗎？此課程非常適合您。 \n本週現場珍珠奶茶班將傳授一些經典好喝的各種珍奶飲料:  經典珍珠奶茶\, 阿薩姆奶茶\, 百香果綠茶\, 草莓冰沙\, 卡布奇諾咖啡冰沙、等等。 \n該課還將傳授您如何（正確地）釀製綠茶、煮出Q彈有嚼勁的珍珠粉圓，為您的商店創造混和飲料以及融合美味的冰沙。 \n沒錯！我們是一家專門提供各式各樣珍珠奶茶的批發公司，所以您會發現奶蓋珍珠奶茶、漸層變色甜菜粉、藍色糖漿以及更多您能想像的任何品項：) \n客戶還將有機會當場看到和品嚐Qbubble的更多獨家品項與最新產品！
URL:https://qbubble.com/event/%e7%8f%be%e5%a0%b4%e7%8f%8d%e7%8f%a0%e5%a5%b6%e8%8c%b6%e7%8f%ad-8/?lang=zh-hant
ORGANIZER;CN="QBubble":MAILTO:info@qbubble.com
END:VEVENT
BEGIN:VEVENT
DTSTART;TZID=UTC:20220803T140000
DTEND;TZID=UTC:20220803T160000
DTSTAMP:20260424T074506
CREATED:20220810T145332Z
LAST-MODIFIED:20220810T145332Z
UID:7183-1659535200-1659542400@qbubble.com
SUMMARY:線上珍珠奶茶培訓班
DESCRIPTION:嘗試為您的珍珠奶茶事業找到突破點嗎？此課程非常適合您。 \n本週課程將傳授一些經典好喝的各種珍奶飲料:  經典珍珠奶茶\, 阿薩姆奶茶\, 百香果綠茶\, 草莓冰沙\, 卡布奇諾咖啡冰沙、等等。 \n該課還將傳授您如何（正確地）釀製綠茶、煮出Q彈有嚼勁的珍珠粉圓，為您的商店創造混和飲料以及融合美味的冰沙。 \n沒錯！我們是一家專門提供各式各樣珍珠奶茶的批發公司，所以您會發現奶蓋珍珠奶茶、漸層變色甜菜粉、藍色糖漿以及更多您能想像的任何品項：) \n客戶還將有機會看到Qbubble的更多獨家品項與最新產品！
URL:https://qbubble.com/event/%e7%b7%9a%e4%b8%8a%e7%8f%8d%e7%8f%a0%e5%a5%b6%e8%8c%b6%e5%9f%b9%e8%a8%93%e7%8f%ad-39/?lang=zh-hant
ORGANIZER;CN="QBubble":MAILTO:info@qbubble.com
END:VEVENT
BEGIN:VEVENT
DTSTART;TZID=UTC:20220726T140000
DTEND;TZID=UTC:20220726T160000
DTSTAMP:20260424T074506
CREATED:20220728T203051Z
LAST-MODIFIED:20220728T203051Z
UID:7176-1658844000-1658851200@qbubble.com
SUMMARY:現場珍珠奶茶班
DESCRIPTION:嘗試為您的珍珠奶茶事業找到突破點嗎？此課程非常適合您。 \n本週現場珍珠奶茶班將傳授一些經典好喝的各種珍奶飲料:  經典珍珠奶茶\, 阿薩姆奶茶\, 百香果綠茶\, 草莓冰沙\, 卡布奇諾咖啡冰沙、等等。 \n該課還將傳授您如何（正確地）釀製綠茶、煮出Q彈有嚼勁的珍珠粉圓，為您的商店創造混和飲料以及融合美味的冰沙。 \n沒錯！我們是一家專門提供各式各樣珍珠奶茶的批發公司，所以您會發現奶蓋珍珠奶茶、漸層變色甜菜粉、藍色糖漿以及更多您能想像的任何品項：) \n客戶還將有機會當場看到和品嚐Qbubble的更多獨家品項與最新產品！
URL:https://qbubble.com/event/%e7%8f%be%e5%a0%b4%e7%8f%8d%e7%8f%a0%e5%a5%b6%e8%8c%b6%e7%8f%ad-7/?lang=zh-hant
ORGANIZER;CN="QBubble":MAILTO:info@qbubble.com
END:VEVENT
BEGIN:VEVENT
DTSTART;TZID=UTC:20220722T140000
DTEND;TZID=UTC:20220722T160000
DTSTAMP:20260424T074506
CREATED:20220721T142120Z
LAST-MODIFIED:20220721T142405Z
UID:7170-1658498400-1658505600@qbubble.com
SUMMARY:線上珍珠奶茶培訓班
DESCRIPTION:想計劃發展您的珍奶事業嗎？此課程非常適合您。 \n本週課程將傳授一些經典好喝的各種珍奶飲料:  經典珍珠奶茶\, 阿薩姆奶茶\, 百香果綠茶\, 草莓冰沙\, 卡布奇諾咖啡冰沙、等等。 \n該課還將傳授您如何（正確地）釀製綠茶、煮出Q彈有嚼勁的珍珠粉圓，為您的商店創造混和飲料以及融合美味的冰沙。 \n沒錯！我們是一家專門提供各式各樣珍珠奶茶的批發公司，所以您會發現奶蓋珍珠奶茶、漸層變色甜菜粉、藍色糖漿以及更多您能想像的任何品項：) \n客戶還將有機會看到Qbubble的更多獨家品項與最新產品！
URL:https://qbubble.com/event/%e7%b7%9a%e4%b8%8a%e7%8f%8d%e7%8f%a0%e5%a5%b6%e8%8c%b6%e5%9f%b9%e8%a8%93%e7%8f%ad-38/?lang=zh-hant
ORGANIZER;CN="QBubble":MAILTO:info@qbubble.com
END:VEVENT
BEGIN:VEVENT
DTSTART;TZID=UTC:20220713T140000
DTEND;TZID=UTC:20220713T160000
DTSTAMP:20260424T074506
CREATED:20220721T141950Z
LAST-MODIFIED:20220721T141950Z
UID:7168-1657720800-1657728000@qbubble.com
SUMMARY:現場珍珠奶茶班
DESCRIPTION:嘗試為您的珍珠奶茶事業找到突破點嗎？此課程非常適合您。 \n本週現場珍珠奶茶班將傳授一些經典好喝的各種珍奶飲料:  經典珍珠奶茶\, 阿薩姆奶茶\, 百香果綠茶\, 草莓冰沙\, 卡布奇諾咖啡冰沙、等等。 \n該課還將傳授您如何（正確地）釀製綠茶、煮出Q彈有嚼勁的珍珠粉圓，為您的商店創造混和飲料以及融合美味的冰沙。 \n沒錯！我們是一家專門提供各式各樣珍珠奶茶的批發公司，所以您會發現奶蓋珍珠奶茶、漸層變色甜菜粉、藍色糖漿以及更多您能想像的任何品項：) \n客戶還將有機會當場看到和品嚐Qbubble的更多獨家品項與最新產品！
URL:https://qbubble.com/event/%e7%8f%be%e5%a0%b4%e7%8f%8d%e7%8f%a0%e5%a5%b6%e8%8c%b6%e7%8f%ad-6/?lang=zh-hant
ORGANIZER;CN="QBubble":MAILTO:info@qbubble.com
END:VEVENT
BEGIN:VEVENT
DTSTART;TZID=UTC:20220706T140000
DTEND;TZID=UTC:20220706T160000
DTSTAMP:20260424T074506
CREATED:20220708T193950Z
LAST-MODIFIED:20220708T193950Z
UID:7155-1657116000-1657123200@qbubble.com
SUMMARY:線上珍珠奶茶培訓班
DESCRIPTION:想計劃發展您的珍奶事業嗎？此課程非常適合您。 \n本週課程將傳授一些經典好喝的各種珍奶飲料:  經典珍珠奶茶\, 阿薩姆奶茶\, 百香果綠茶\, 草莓冰沙\, 卡布奇諾咖啡冰沙、等等。 \n該課還將傳授您如何（正確地）釀製綠茶、煮出Q彈有嚼勁的珍珠粉圓，為您的商店創造混和飲料以及融合美味的冰沙。 \n沒錯！我們是一家專門提供各式各樣珍珠奶茶的批發公司，所以您會發現奶蓋珍珠奶茶、漸層變色甜菜粉、藍色糖漿以及更多您能想像的任何品項：) \n客戶還將有機會看到Qbubble的更多獨家品項與最新產品！
URL:https://qbubble.com/event/%e7%b7%9a%e4%b8%8a%e7%8f%8d%e7%8f%a0%e5%a5%b6%e8%8c%b6%e5%9f%b9%e8%a8%93%e7%8f%ad-36/?lang=zh-hant
ORGANIZER;CN="QBubble":MAILTO:info@qbubble.com
END:VEVENT
BEGIN:VEVENT
DTSTART;VALUE=DATE:20220704
DTEND;VALUE=DATE:20220705
DTSTAMP:20260424T074506
CREATED:20220623T201902Z
LAST-MODIFIED:20220623T201902Z
UID:7140-1656892800-1656979199@qbubble.com
SUMMARY:July 4th 送貨更改
DESCRIPTION:我們將於 7/4/2022 休息一天，以慶祝國慶日! \nNJ/PA (新澤西州/賓州) 送貨將改為 6/30 星期四。紐約市送貨將改為 7/5 星期二。 \n請儘早下單，以備因行程擁堵而無法安排送貨！如有不便，敬請見諒。
URL:https://qbubble.com/event/july-4th-%e9%80%81%e8%b2%a8%e6%9b%b4%e6%94%b9/?lang=zh-hant
ORGANIZER;CN="QBubble":MAILTO:info@qbubble.com
END:VEVENT
BEGIN:VEVENT
DTSTART;TZID=UTC:20220629T140000
DTEND;TZID=UTC:20220629T160000
DTSTAMP:20260424T074506
CREATED:20220630T192534Z
LAST-MODIFIED:20220630T192534Z
UID:7150-1656511200-1656518400@qbubble.com
SUMMARY:現場珍珠奶茶班
DESCRIPTION:嘗試為您的珍珠奶茶事業找到突破點嗎？此課程非常適合您。 \n本週現場珍珠奶茶班將傳授一些經典好喝的各種珍奶飲料:  經典珍珠奶茶\, 阿薩姆奶茶\, 百香果綠茶\, 草莓冰沙\, 卡布奇諾咖啡冰沙、等等。 \n該課還將傳授您如何（正確地）釀製綠茶、煮出Q彈有嚼勁的珍珠粉圓，為您的商店創造混和飲料以及融合美味的冰沙。 \n沒錯！我們是一家專門提供各式各樣珍珠奶茶的批發公司，所以您會發現奶蓋珍珠奶茶、漸層變色甜菜粉、藍色糖漿以及更多您能想像的任何品項：) \n客戶還將有機會當場看到和品嚐Qbubble的更多獨家品項與最新產品！
URL:https://qbubble.com/event/%e7%8f%be%e5%a0%b4%e7%8f%8d%e7%8f%a0%e5%a5%b6%e8%8c%b6%e7%8f%ad-5/?lang=zh-hant
ORGANIZER;CN="QBubble":MAILTO:info@qbubble.com
END:VEVENT
BEGIN:VEVENT
DTSTART;TZID=UTC:20220623T140000
DTEND;TZID=UTC:20220623T160000
DTSTAMP:20260424T074506
CREATED:20220623T211635Z
LAST-MODIFIED:20220623T211635Z
UID:7143-1655992800-1656000000@qbubble.com
SUMMARY:線上珍珠奶茶培訓班
DESCRIPTION:想計劃發展您的珍奶事業嗎？此課程非常適合您。 \n本週課程將傳授一些經典好喝的各種珍奶飲料:  經典珍珠奶茶\, 阿薩姆奶茶\, 百香果綠茶\, 草莓冰沙\, 卡布奇諾咖啡冰沙、等等。 \n該課還將傳授您如何（正確地）釀製綠茶、煮出Q彈有嚼勁的珍珠粉圓，為您的商店創造混和飲料以及融合美味的冰沙。 \n沒錯！我們是一家專門提供各式各樣珍珠奶茶的批發公司，所以您會發現奶蓋珍珠奶茶、漸層變色甜菜粉、藍色糖漿以及更多您能想像的任何品項：) \n客戶還將有機會看到Qbubble的更多獨家品項與最新產品！
URL:https://qbubble.com/event/%e7%b7%9a%e4%b8%8a%e7%8f%8d%e7%8f%a0%e5%a5%b6%e8%8c%b6%e5%9f%b9%e8%a8%93%e7%8f%ad-37/?lang=zh-hant
ORGANIZER;CN="QBubble":MAILTO:info@qbubble.com
END:VEVENT
BEGIN:VEVENT
DTSTART;TZID=UTC:20220614T140000
DTEND;TZID=UTC:20220614T160000
DTSTAMP:20260424T074506
CREATED:20220615T160549Z
LAST-MODIFIED:20220615T160549Z
UID:7130-1655215200-1655222400@qbubble.com
SUMMARY:網紅珍奶線上培訓班
DESCRIPTION:想升級您的菜單追上流行飲料趨勢嗎？此課程就對了! \n本週課程將傳授茶寶2022新品網紅珍奶飲料: 烤布雷黑糖珍珠髒髒茶\, 蛋糕布蕾奶茶\, 3層漸層果茶\, 琥珀泰式抹茶奶茶\, 紫薯髒髒茶\, 抹茶髒髒茶\, 清涼荔枝草莓飲料\, 等等。 \n沒錯！我們是一家專門提供各式各樣珍珠奶茶的批發公司，所以您會發現奶蓋珍珠奶茶、漸層變色甜菜粉、藍色糖漿以及更多您能想像的任何品項：)
URL:https://qbubble.com/event/%e7%b6%b2%e7%b4%85%e7%8f%8d%e5%a5%b6%e7%b7%9a%e4%b8%8a%e5%9f%b9%e8%a8%93%e7%8f%ad-19/?lang=zh-hant
ORGANIZER;CN="QBubble":MAILTO:info@qbubble.com
END:VEVENT
BEGIN:VEVENT
DTSTART;TZID=UTC:20220608T140000
DTEND;TZID=UTC:20220608T160000
DTSTAMP:20260424T074506
CREATED:20220606T200930Z
LAST-MODIFIED:20220606T200930Z
UID:7109-1654696800-1654704000@qbubble.com
SUMMARY:線上珍珠奶茶培訓班
DESCRIPTION:想計劃發展您的珍奶事業嗎？此課程非常適合您。 \n本週課程將傳授一些經典好喝的各種珍奶飲料:  經典珍珠奶茶\, 阿薩姆奶茶\, 百香果綠茶\, 草莓冰沙\, 卡布奇諾咖啡冰沙、等等。 \n該課還將傳授您如何（正確地）釀製綠茶、煮出Q彈有嚼勁的珍珠粉圓，為您的商店創造混和飲料以及融合美味的冰沙。 \n沒錯！我們是一家專門提供各式各樣珍珠奶茶的批發公司，所以您會發現奶蓋珍珠奶茶、漸層變色甜菜粉、藍色糖漿以及更多您能想像的任何品項：) \n客戶還將有機會看到Qbubble的更多獨家品項與最新產品！
URL:https://qbubble.com/event/%e7%b7%9a%e4%b8%8a%e7%8f%8d%e7%8f%a0%e5%a5%b6%e8%8c%b6%e5%9f%b9%e8%a8%93%e7%8f%ad-35/?lang=zh-hant
ORGANIZER;CN="QBubble":MAILTO:info@qbubble.com
END:VEVENT
BEGIN:VEVENT
DTSTART;TZID=UTC:20220602T140000
DTEND;TZID=UTC:20220602T160000
DTSTAMP:20260424T074506
CREATED:20220606T200325Z
LAST-MODIFIED:20220606T200325Z
UID:7107-1654178400-1654185600@qbubble.com
SUMMARY:現場珍珠奶茶班
DESCRIPTION:嘗試為您的珍珠奶茶事業找到突破點嗎？此課程非常適合您。 \n本週現場珍珠奶茶班將傳授一些經典好喝的各種珍奶飲料:  經典珍珠奶茶\, 阿薩姆奶茶\, 百香果綠茶\, 草莓冰沙\, 卡布奇諾咖啡冰沙、等等。 \n該課還將傳授您如何（正確地）釀製綠茶、煮出Q彈有嚼勁的珍珠粉圓，為您的商店創造混和飲料以及融合美味的冰沙。 \n沒錯！我們是一家專門提供各式各樣珍珠奶茶的批發公司，所以您會發現奶蓋珍珠奶茶、漸層變色甜菜粉、藍色糖漿以及更多您能想像的任何品項：) \n客戶還將有機會當場看到和品嚐Qbubble的更多獨家品項與最新產品！ \n請來電718-358-5868諮詢和報名
URL:https://qbubble.com/event/%e7%8f%be%e5%a0%b4%e7%8f%8d%e7%8f%a0%e5%a5%b6%e8%8c%b6%e7%8f%ad-4/?lang=zh-hant
ORGANIZER;CN="QBubble":MAILTO:info@qbubble.com
END:VEVENT
BEGIN:VEVENT
DTSTART;VALUE=DATE:20220531
DTEND;VALUE=DATE:20220601
DTSTAMP:20260424T074506
CREATED:20220517T181412Z
LAST-MODIFIED:20220517T181412Z
UID:7094-1653955200-1654041599@qbubble.com
SUMMARY:Memorial Day 送貨更改
DESCRIPTION:我們將於國殤日5/30/2022 休息一天。紐約市送貨將改為 5/31 星期二。 \n請儘早下單，以備因行程擁堵而無法安排送貨！
URL:https://qbubble.com/event/memorial-day-%e9%80%81%e8%b2%a8%e6%9b%b4%e6%94%b9/?lang=zh-hant
ORGANIZER;CN="QBubble":MAILTO:info@qbubble.com
END:VEVENT
BEGIN:VEVENT
DTSTART;TZID=UTC:20220526T140000
DTEND;TZID=UTC:20220526T160000
DTSTAMP:20260424T074506
CREATED:20220524T204959Z
LAST-MODIFIED:20220524T205145Z
UID:7102-1653573600-1653580800@qbubble.com
SUMMARY:線上珍珠奶茶培訓班
DESCRIPTION:想計劃發展您的珍奶事業嗎？此課程非常適合您。 \n本週課程將傳授一些經典好喝的各種珍奶飲料:  經典珍珠奶茶\, 阿薩姆奶茶\, 百香果綠茶\, 草莓冰沙\, 卡布奇諾咖啡冰沙、等等。 \n該課還將傳授您如何（正確地）釀製綠茶、煮出Q彈有嚼勁的珍珠粉圓，為您的商店創造混和飲料以及融合美味的冰沙。 \n沒錯！我們是一家專門提供各式各樣珍珠奶茶的批發公司，所以您會發現奶蓋珍珠奶茶、漸層變色甜菜粉、藍色糖漿以及更多您能想像的任何品項：) \n客戶還將有機會看到Qbubble的更多獨家品項與最新產品！
URL:https://qbubble.com/event/%e7%b7%9a%e4%b8%8a%e7%8f%8d%e7%8f%a0%e5%a5%b6%e8%8c%b6%e5%9f%b9%e8%a8%93%e7%8f%ad-34/?lang=zh-hant
ORGANIZER;CN="QBubble":MAILTO:info@qbubble.com
END:VEVENT
BEGIN:VEVENT
DTSTART;TZID=UTC:20220510T140000
DTEND;TZID=UTC:20220510T160000
DTSTAMP:20260424T074506
CREATED:20220511T155537Z
LAST-MODIFIED:20220511T155735Z
UID:7085-1652191200-1652198400@qbubble.com
SUMMARY:線上珍珠奶茶培訓班
DESCRIPTION:嘗試為您的珍珠奶茶事業找到突破點嗎？此課程非常適合您。 \n本週課程將傳授一些經典好喝的各種珍奶飲料:  經典珍珠奶茶\, 阿薩姆奶茶\, 百香果綠茶\, 草莓冰沙\, 卡布奇諾咖啡冰沙、等等。 \n該課還將傳授您如何（正確地）釀製綠茶、煮出Q彈有嚼勁的珍珠粉圓，為您的商店創造混和飲料以及融合美味的冰沙。 \n沒錯！我們是一家專門提供各式各樣珍珠奶茶的批發公司，所以您會發現奶蓋珍珠奶茶、漸層變色甜菜粉、藍色糖漿以及更多您能想像的任何品項：) \n客戶還將有機會看到Qbubble的更多獨家品項與最新產品！
URL:https://qbubble.com/event/%e7%b7%9a%e4%b8%8a%e7%8f%8d%e7%8f%a0%e5%a5%b6%e8%8c%b6%e5%9f%b9%e8%a8%93%e7%8f%ad-33/?lang=zh-hant
ORGANIZER;CN="QBubble":MAILTO:info@qbubble.com
END:VEVENT
BEGIN:VEVENT
DTSTART;TZID=UTC:20220503T140000
DTEND;TZID=UTC:20220503T160000
DTSTAMP:20260424T074506
CREATED:20220429T160634Z
LAST-MODIFIED:20220429T160634Z
UID:7080-1651586400-1651593600@qbubble.com
SUMMARY:現場珍珠奶茶班
DESCRIPTION:想計劃發展您的珍奶事業嗎？此課程非常適合您。 \n本週現場珍珠奶茶班將傳授一些經典好喝的各種珍奶飲料:  經典珍珠奶茶\, 阿薩姆奶茶\, 百香果綠茶\, 草莓冰沙\, 卡布奇諾咖啡冰沙、等等。 \n該課還將傳授您如何（正確地）釀製綠茶、煮出Q彈有嚼勁的珍珠粉圓，為您的商店創造混和飲料以及融合美味的冰沙。 \n沒錯！我們是一家專門提供各式各樣珍珠奶茶的批發公司，所以您會發現奶蓋珍珠奶茶、漸層變色甜菜粉、藍色糖漿以及更多您能想像的任何品項：) \n客戶還將有機會當場看到和品嚐Qbubble的更多獨家品項與最新產品！
URL:https://qbubble.com/event/%e7%8f%be%e5%a0%b4%e7%8f%8d%e7%8f%a0%e5%a5%b6%e8%8c%b6%e7%8f%ad-3/?lang=zh-hant
ORGANIZER;CN="QBubble":MAILTO:info@qbubble.com
END:VEVENT
BEGIN:VEVENT
DTSTART;TZID=UTC:20220426T140000
DTEND;TZID=UTC:20220426T160000
DTSTAMP:20260424T074506
CREATED:20220429T160140Z
LAST-MODIFIED:20220429T160140Z
UID:7073-1650981600-1650988800@qbubble.com
SUMMARY:線上珍珠奶茶培訓班
DESCRIPTION:想計劃發展您的珍奶事業嗎？此課程非常適合您。 \n本週課程將傳授一些經典好喝的各種珍奶飲料:  經典珍珠奶茶\, 阿薩姆奶茶\, 百香果綠茶\, 草莓冰沙\, 卡布奇諾咖啡冰沙、等等。 \n該課還將傳授您如何（正確地）釀製綠茶、煮出Q彈有嚼勁的珍珠粉圓，為您的商店創造混和飲料以及融合美味的冰沙。 \n沒錯！我們是一家專門提供各式各樣珍珠奶茶的批發公司，所以您會發現奶蓋珍珠奶茶、漸層變色甜菜粉、藍色糖漿以及更多您能想像的任何品項：) \n客戶還將有機會看到Qbubble的更多獨家品項與最新產品！
URL:https://qbubble.com/event/%e7%b7%9a%e4%b8%8a%e7%8f%8d%e7%8f%a0%e5%a5%b6%e8%8c%b6%e5%9f%b9%e8%a8%93%e7%8f%ad-32/?lang=zh-hant
ORGANIZER;CN="QBubble":MAILTO:info@qbubble.com
END:VEVENT
BEGIN:VEVENT
DTSTART;TZID=UTC:20220419T140000
DTEND;TZID=UTC:20220419T160000
DTSTAMP:20260424T074506
CREATED:20220422T142040Z
LAST-MODIFIED:20220422T142041Z
UID:7068-1650376800-1650384000@qbubble.com
SUMMARY:現場珍珠奶茶班
DESCRIPTION:想計劃發展您的珍奶事業嗎？此課程非常適合您。 \n本週現場珍珠奶茶班將傳授一些經典好喝的各種珍奶飲料:  經典珍珠奶茶\, 阿薩姆奶茶\, 百香果綠茶\, 草莓冰沙\, 卡布奇諾咖啡冰沙、等等。 \n該課還將傳授您如何（正確地）釀製綠茶、煮出Q彈有嚼勁的珍珠粉圓，為您的商店創造混和飲料以及融合美味的冰沙。 \n沒錯！我們是一家專門提供各式各樣珍珠奶茶的批發公司，所以您會發現奶蓋珍珠奶茶、漸層變色甜菜粉、藍色糖漿以及更多您能想像的任何品項：) \n客戶還將有機會當場看到和品嚐Qbubble的更多獨家品項與最新產品！
URL:https://qbubble.com/event/%e7%8f%be%e5%a0%b4%e7%8f%8d%e7%8f%a0%e5%a5%b6%e8%8c%b6%e7%8f%ad-2/?lang=zh-hant
ORGANIZER;CN="QBubble":MAILTO:info@qbubble.com
END:VEVENT
BEGIN:VEVENT
DTSTART;TZID=UTC:20220413T140000
DTEND;TZID=UTC:20220413T160000
DTSTAMP:20260424T074506
CREATED:20220415T151855Z
LAST-MODIFIED:20220415T151855Z
UID:7064-1649858400-1649865600@qbubble.com
SUMMARY:線上珍珠奶茶培訓班
DESCRIPTION:想計劃發展您的珍奶事業嗎？此課程非常適合您。 \n本週課程將傳授一些經典好喝的各種珍奶飲料:  經典珍珠奶茶\, 阿薩姆奶茶\, 百香果綠茶\, 草莓冰沙\, 卡布奇諾咖啡冰沙、等等。 \n該課還將傳授您如何（正確地）釀製綠茶、煮出Q彈有嚼勁的珍珠粉圓，為您的商店創造混和飲料以及融合美味的冰沙。 \n沒錯！我們是一家專門提供各式各樣珍珠奶茶的批發公司，所以您會發現奶蓋珍珠奶茶、漸層變色甜菜粉、藍色糖漿以及更多您能想像的任何品項：) \n客戶還將有機會看到Qbubble的更多獨家品項與最新產品！
URL:https://qbubble.com/event/%e7%b7%9a%e4%b8%8a%e7%8f%8d%e7%8f%a0%e5%a5%b6%e8%8c%b6%e5%9f%b9%e8%a8%93%e7%8f%ad-31/?lang=zh-hant
ORGANIZER;CN="QBubble":MAILTO:info@qbubble.com
END:VEVENT
BEGIN:VEVENT
DTSTART;TZID=UTC:20220406T140000
DTEND;TZID=UTC:20220406T160000
DTSTAMP:20260424T074506
CREATED:20220405T150959Z
LAST-MODIFIED:20220405T150959Z
UID:7058-1649253600-1649260800@qbubble.com
SUMMARY:現場珍珠奶茶班
DESCRIPTION:想計劃發展您的珍奶事業嗎？此課程非常適合您。 \n本週現場珍珠奶茶班將傳授一些經典好喝的各種珍奶飲料:  經典珍珠奶茶\, 阿薩姆奶茶\, 百香果綠茶\, 草莓冰沙\, 卡布奇諾咖啡冰沙、等等。 \n該課還將傳授您如何（正確地）釀製綠茶、煮出Q彈有嚼勁的珍珠粉圓，為您的商店創造混和飲料以及融合美味的冰沙。 \n沒錯！我們是一家專門提供各式各樣珍珠奶茶的批發公司，所以您會發現奶蓋珍珠奶茶、漸層變色甜菜粉、藍色糖漿以及更多您能想像的任何品項：) \n客戶還將有機會當場看到和品嚐Qbubble的更多獨家品項與最新產品！
URL:https://qbubble.com/event/%e7%8f%be%e5%a0%b4%e7%8f%8d%e7%8f%a0%e5%a5%b6%e8%8c%b6%e7%8f%ad/?lang=zh-hant
ORGANIZER;CN="QBubble":MAILTO:info@qbubble.com
END:VEVENT
BEGIN:VEVENT
DTSTART;TZID=UTC:20220330T140000
DTEND;TZID=UTC:20220330T160000
DTSTAMP:20260424T074506
CREATED:20220330T151605Z
LAST-MODIFIED:20220330T151605Z
UID:7054-1648648800-1648656000@qbubble.com
SUMMARY:線上珍珠奶茶培訓班
DESCRIPTION:嘗試為您的珍珠奶茶事業找到突破點嗎？此課程非常適合您。 \n本週課程將傳授一些經典好喝的各種珍奶飲料:  經典珍珠奶茶\, 阿薩姆奶茶\, 百香果綠茶\, 草莓冰沙\, 卡布奇諾咖啡冰沙、等等。 \n該課還將傳授您如何（正確地）釀製綠茶、煮出Q彈有嚼勁的珍珠粉圓，為您的商店創造混和飲料以及融合美味的冰沙。 \n沒錯！我們是一家專門提供各式各樣珍珠奶茶的批發公司，所以您會發現奶蓋珍珠奶茶、漸層變色甜菜粉、藍色糖漿以及更多您能想像的任何品項：) \n客戶還將有機會看到Qbubble的更多獨家品項與最新產品！
URL:https://qbubble.com/event/%e7%b7%9a%e4%b8%8a%e7%8f%8d%e7%8f%a0%e5%a5%b6%e8%8c%b6%e5%9f%b9%e8%a8%93%e7%8f%ad-30/?lang=zh-hant
ORGANIZER;CN="QBubble":MAILTO:info@qbubble.com
END:VEVENT
END:VCALENDAR