BEGIN:VCALENDAR
VERSION:2.0
PRODID:-//茶宝 QBubble Troika J C Inc. - ECPv6.15.20//NONSGML v1.0//EN
CALSCALE:GREGORIAN
METHOD:PUBLISH
X-WR-CALNAME:茶宝 QBubble Troika J C Inc.
X-ORIGINAL-URL:https://qbubble.com/?lang=zh-hant
X-WR-CALDESC:Events for 茶宝 QBubble Troika J C Inc.
REFRESH-INTERVAL;VALUE=DURATION:PT1H
X-Robots-Tag:noindex
X-PUBLISHED-TTL:PT1H
BEGIN:VTIMEZONE
TZID:America/New_York
BEGIN:DAYLIGHT
TZOFFSETFROM:-0500
TZOFFSETTO:-0400
TZNAME:EDT
DTSTART:20210314T070000
END:DAYLIGHT
BEGIN:STANDARD
TZOFFSETFROM:-0400
TZOFFSETTO:-0500
TZNAME:EST
DTSTART:20211107T060000
END:STANDARD
BEGIN:DAYLIGHT
TZOFFSETFROM:-0500
TZOFFSETTO:-0400
TZNAME:EDT
DTSTART:20220313T070000
END:DAYLIGHT
BEGIN:STANDARD
TZOFFSETFROM:-0400
TZOFFSETTO:-0500
TZNAME:EST
DTSTART:20221106T060000
END:STANDARD
BEGIN:DAYLIGHT
TZOFFSETFROM:-0500
TZOFFSETTO:-0400
TZNAME:EDT
DTSTART:20230312T070000
END:DAYLIGHT
BEGIN:STANDARD
TZOFFSETFROM:-0400
TZOFFSETTO:-0500
TZNAME:EST
DTSTART:20231105T060000
END:STANDARD
BEGIN:DAYLIGHT
TZOFFSETFROM:-0500
TZOFFSETTO:-0400
TZNAME:EDT
DTSTART:20240310T070000
END:DAYLIGHT
BEGIN:STANDARD
TZOFFSETFROM:-0400
TZOFFSETTO:-0500
TZNAME:EST
DTSTART:20241103T060000
END:STANDARD
END:VTIMEZONE
BEGIN:VTIMEZONE
TZID:UTC
BEGIN:STANDARD
TZOFFSETFROM:+0000
TZOFFSETTO:+0000
TZNAME:UTC
DTSTART:20210101T000000
END:STANDARD
END:VTIMEZONE
BEGIN:VEVENT
DTSTART;TZID=America/New_York:20230420T140000
DTEND;TZID=America/New_York:20230420T160000
DTSTAMP:20260424T043418
CREATED:20230413T212643Z
LAST-MODIFIED:20230413T212643Z
UID:7454-1681999200-1682006400@qbubble.com
SUMMARY:現場珍珠奶茶班
DESCRIPTION:嘗試為您的珍珠奶茶事業找到突破點嗎？此課程非常適合您。 \n本週現場珍珠奶茶班將傳授一些經典好喝的各種珍奶飲料:  經典珍珠奶茶\, 阿薩姆奶茶\, 百香果綠茶\, 草莓冰沙\, 卡布奇諾咖啡冰沙、等等。 \n該課還將傳授您如何（正確地）釀製綠茶、煮出Q彈有嚼勁的珍珠粉圓，為您的商店創造混和飲料以及融合美味的冰沙。 \n沒錯！我們是一家專門提供各式各樣珍珠奶茶的批發公司，所以您會發現奶蓋珍珠奶茶、漸層變色甜菜粉、藍色糖漿以及更多您能想像的任何品項：) \n客戶還將有機會當場看到和品嚐Qbubble的更多獨家品項與最新產品！
URL:https://qbubble.com/event/%e7%8f%be%e5%a0%b4%e7%8f%8d%e7%8f%a0%e5%a5%b6%e8%8c%b6%e7%8f%ad-20/?lang=zh-hant
ORGANIZER;CN="QBubble":MAILTO:info@qbubble.com
END:VEVENT
BEGIN:VEVENT
DTSTART;TZID=America/New_York:20230413T140000
DTEND;TZID=America/New_York:20230413T160000
DTSTAMP:20260424T043418
CREATED:20230413T212543Z
LAST-MODIFIED:20230413T212543Z
UID:7452-1681394400-1681401600@qbubble.com
SUMMARY:網紅珍奶線上培訓班
DESCRIPTION:想升級您的菜單追上流行飲料趨勢嗎？此課程就對了! \n本週課程將傳授茶寶2023新品網紅珍奶飲料: 烤布雷黑糖珍珠髒髒茶\, 蛋糕布蕾奶茶\, 3層漸層果茶\, 琥珀泰式抹茶奶茶\, 紫薯髒髒茶\, 抹茶髒髒茶\, 清涼荔枝草莓飲料\, 等等。 \n沒錯！我們是一家專門提供各式各樣珍珠奶茶的批發公司，所以您會發現奶蓋珍珠奶茶、漸層變色甜菜粉、藍色糖漿以及更多您能想像的任何品項：)
URL:https://qbubble.com/event/%e7%b6%b2%e7%b4%85%e7%8f%8d%e5%a5%b6%e7%b7%9a%e4%b8%8a%e5%9f%b9%e8%a8%93%e7%8f%ad-22/?lang=zh-hant
ORGANIZER;CN="QBubble":MAILTO:info@qbubble.com
END:VEVENT
BEGIN:VEVENT
DTSTART;TZID=America/New_York:20230404T140000
DTEND;TZID=America/New_York:20230404T160000
DTSTAMP:20260424T043418
CREATED:20230330T144012Z
LAST-MODIFIED:20230330T144012Z
UID:7439-1680616800-1680624000@qbubble.com
SUMMARY:現場珍珠奶茶班
DESCRIPTION:想計劃發展您的珍奶事業嗎？此課程非常適合您。 \n本週現場珍珠奶茶班將傳授一些經典好喝的各種珍奶飲料:  經典珍珠奶茶\, 阿薩姆奶茶\, 百香果綠茶\, 草莓冰沙\, 卡布奇諾咖啡冰沙、等等。 \n該課還將傳授您如何（正確地）釀製綠茶、煮出Q彈有嚼勁的珍珠粉圓，為您的商店創造混和飲料以及融合美味的冰沙。 \n沒錯！我們是一家專門提供各式各樣珍珠奶茶的批發公司，所以您會發現奶蓋珍珠奶茶、漸層變色甜菜粉、藍色糖漿以及更多您能想像的任何品項：) \n客戶還將有機會當場看到和品嚐Qbubble的更多獨家品項與最新產品！
URL:https://qbubble.com/event/%e7%8f%be%e5%a0%b4%e7%8f%8d%e7%8f%a0%e5%a5%b6%e8%8c%b6%e7%8f%ad-19/?lang=zh-hant
ORGANIZER;CN="QBubble":MAILTO:info@qbubble.com
END:VEVENT
BEGIN:VEVENT
DTSTART;TZID=America/New_York:20230328T140000
DTEND;TZID=America/New_York:20230328T160000
DTSTAMP:20260424T043418
CREATED:20230330T143548Z
LAST-MODIFIED:20230330T143548Z
UID:7437-1680012000-1680019200@qbubble.com
SUMMARY:現場網紅珍奶班
DESCRIPTION:想升級您的菜單追上流行飲料趨勢嗎？此現場課程就對了! \n本週現場網紅珍奶課程將傳授茶寶2023新品網紅珍奶飲料: 烤布雷黑糖珍珠髒髒茶\, 蛋糕布蕾奶茶\, 3層漸層果茶\, 琥珀泰式抹茶奶茶\, 紫薯髒髒茶\, 抹茶髒髒茶\, 清涼荔枝草莓飲料\, 等等。 \n沒錯！我們是一家專門提供各式各樣珍珠奶茶的批發公司，所以您會發現奶蓋珍珠奶茶、漸層變色甜菜粉、藍色糖漿以及更多您能想像的任何品項：)
URL:https://qbubble.com/event/%e7%8f%be%e5%a0%b4%e7%b6%b2%e7%b4%85%e7%8f%8d%e5%a5%b6%e7%8f%ad/?lang=zh-hant
ORGANIZER;CN="QBubble":MAILTO:info@qbubble.com
END:VEVENT
BEGIN:VEVENT
DTSTART;TZID=America/New_York:20230322T140000
DTEND;TZID=America/New_York:20230322T160000
DTSTAMP:20260424T043418
CREATED:20230330T143438Z
LAST-MODIFIED:20230330T143438Z
UID:7435-1679493600-1679500800@qbubble.com
SUMMARY:現場珍珠奶茶班
DESCRIPTION:嘗試為您的珍珠奶茶事業找到突破點嗎？此課程非常適合您。 \n本週現場珍珠奶茶班將傳授一些經典好喝的各種珍奶飲料:  經典珍珠奶茶\, 阿薩姆奶茶\, 百香果綠茶\, 草莓冰沙\, 卡布奇諾咖啡冰沙、等等。 \n該課還將傳授您如何（正確地）釀製綠茶、煮出Q彈有嚼勁的珍珠粉圓，為您的商店創造混和飲料以及融合美味的冰沙。 \n沒錯！我們是一家專門提供各式各樣珍珠奶茶的批發公司，所以您會發現奶蓋珍珠奶茶、漸層變色甜菜粉、藍色糖漿以及更多您能想像的任何品項：) \n客戶還將有機會當場看到和品嚐Qbubble的更多獨家品項與最新產品！
URL:https://qbubble.com/event/%e7%8f%be%e5%a0%b4%e7%8f%8d%e7%8f%a0%e5%a5%b6%e8%8c%b6%e7%8f%ad-18/?lang=zh-hant
ORGANIZER;CN="QBubble":MAILTO:info@qbubble.com
END:VEVENT
BEGIN:VEVENT
DTSTART;TZID=America/New_York:20230315T140000
DTEND;TZID=America/New_York:20230315T160000
DTSTAMP:20260424T043418
CREATED:20230330T143309Z
LAST-MODIFIED:20230330T143309Z
UID:7433-1678888800-1678896000@qbubble.com
SUMMARY:線上珍珠奶茶培訓班
DESCRIPTION:想計劃發展您的珍奶事業嗎？此課程非常適合您。 \n本週課程將傳授一些經典好喝的各種珍奶飲料:  經典珍珠奶茶\, 阿薩姆奶茶\, 百香果綠茶\, 草莓冰沙\, 卡布奇諾咖啡冰沙、等等。 \n該課還將傳授您如何（正確地）釀製綠茶、煮出Q彈有嚼勁的珍珠粉圓，為您的商店創造混和飲料以及融合美味的冰沙。 \n沒錯！我們是一家專門提供各式各樣珍珠奶茶的批發公司，所以您會發現奶蓋珍珠奶茶、漸層變色甜菜粉、藍色糖漿以及更多您能想像的任何品項：) \n客戶還將有機會看到Qbubble的更多獨家品項與最新產品！
URL:https://qbubble.com/event/%e7%b7%9a%e4%b8%8a%e7%8f%8d%e7%8f%a0%e5%a5%b6%e8%8c%b6%e5%9f%b9%e8%a8%93%e7%8f%ad-51/?lang=zh-hant
ORGANIZER;CN="QBubble":MAILTO:info@qbubble.com
END:VEVENT
BEGIN:VEVENT
DTSTART;TZID=America/New_York:20230309T140000
DTEND;TZID=America/New_York:20230309T160000
DTSTAMP:20260424T043418
CREATED:20230302T152315Z
LAST-MODIFIED:20230302T152315Z
UID:7395-1678370400-1678377600@qbubble.com
SUMMARY:線上珍珠奶茶培訓班
DESCRIPTION:想計劃發展您的珍奶事業嗎？此課程非常適合您。 \n本週課程將傳授一些經典好喝的各種珍奶飲料:  經典珍珠奶茶\, 阿薩姆奶茶\, 百香果綠茶\, 草莓冰沙\, 卡布奇諾咖啡冰沙、等等。 \n該課還將傳授您如何（正確地）釀製綠茶、煮出Q彈有嚼勁的珍珠粉圓，為您的商店創造混和飲料以及融合美味的冰沙。 \n沒錯！我們是一家專門提供各式各樣珍珠奶茶的批發公司，所以您會發現奶蓋珍珠奶茶、漸層變色甜菜粉、藍色糖漿以及更多您能想像的任何品項：) \n客戶還將有機會看到Qbubble的更多獨家品項與最新產品！
URL:https://qbubble.com/event/%e7%b7%9a%e4%b8%8a%e7%8f%8d%e7%8f%a0%e5%a5%b6%e8%8c%b6%e5%9f%b9%e8%a8%93%e7%8f%ad-50/?lang=zh-hant
ORGANIZER;CN="QBubble":MAILTO:info@qbubble.com
END:VEVENT
BEGIN:VEVENT
DTSTART;TZID=America/New_York:20230308T140000
DTEND;TZID=America/New_York:20230308T160000
DTSTAMP:20260424T043418
CREATED:20230302T152427Z
LAST-MODIFIED:20230302T152427Z
UID:7397-1678284000-1678291200@qbubble.com
SUMMARY:現場珍珠奶茶班
DESCRIPTION:嘗試為您的珍珠奶茶事業找到突破點嗎？此課程非常適合您。 \n本週現場珍珠奶茶班將傳授一些經典好喝的各種珍奶飲料:  經典珍珠奶茶\, 阿薩姆奶茶\, 百香果綠茶\, 草莓冰沙\, 卡布奇諾咖啡冰沙、等等。 \n該課還將傳授您如何（正確地）釀製綠茶、煮出Q彈有嚼勁的珍珠粉圓，為您的商店創造混和飲料以及融合美味的冰沙。 \n沒錯！我們是一家專門提供各式各樣珍珠奶茶的批發公司，所以您會發現奶蓋珍珠奶茶、漸層變色甜菜粉、藍色糖漿以及更多您能想像的任何品項：) \n客戶還將有機會當場看到和品嚐Qbubble的更多獨家品項與最新產品！
URL:https://qbubble.com/event/%e7%8f%be%e5%a0%b4%e7%8f%8d%e7%8f%a0%e5%a5%b6%e8%8c%b6%e7%8f%ad-17/?lang=zh-hant
ORGANIZER;CN="QBubble":MAILTO:info@qbubble.com
END:VEVENT
BEGIN:VEVENT
DTSTART;TZID=America/New_York:20230221T140000
DTEND;TZID=America/New_York:20230221T160000
DTSTAMP:20260424T043418
CREATED:20230209T153837Z
LAST-MODIFIED:20230209T153837Z
UID:7377-1676988000-1676995200@qbubble.com
SUMMARY:現場珍珠奶茶班
DESCRIPTION:想計劃發展您的珍奶事業嗎？此課程非常適合您。 \n本週現場珍珠奶茶班將傳授一些經典好喝的各種珍奶飲料:  經典珍珠奶茶\, 阿薩姆奶茶\, 百香果綠茶\, 草莓冰沙\, 卡布奇諾咖啡冰沙、等等。 \n該課還將傳授您如何（正確地）釀製綠茶、煮出Q彈有嚼勁的珍珠粉圓，為您的商店創造混和飲料以及融合美味的冰沙。 \n沒錯！我們是一家專門提供各式各樣珍珠奶茶的批發公司，所以您會發現奶蓋珍珠奶茶、漸層變色甜菜粉、藍色糖漿以及更多您能想像的任何品項：) \n客戶還將有機會當場看到和品嚐Qbubble的更多獨家品項與最新產品！ \n請來電718-358-5868諮詢和報名
URL:https://qbubble.com/event/%e7%8f%be%e5%a0%b4%e7%8f%8d%e7%8f%a0%e5%a5%b6%e8%8c%b6%e7%8f%ad-16/?lang=zh-hant
ORGANIZER;CN="QBubble":MAILTO:info@qbubble.com
END:VEVENT
BEGIN:VEVENT
DTSTART;VALUE=DATE:20230123
DTEND;VALUE=DATE:20230124
DTSTAMP:20260424T043418
CREATED:20230113T212617Z
LAST-MODIFIED:20230113T212617Z
UID:7372-1674432000-1674518399@qbubble.com
SUMMARY:春節送貨更改
DESCRIPTION:我們將於1/23/23（星期一）休息以慶祝農曆新年！紐約市的送貨時間將改為 1/24/23（星期二）。\n\n請儘早備貨下單。祝大家春節快樂，兔年再見啦！
URL:https://qbubble.com/event/%e6%98%a5%e7%af%80%e9%80%81%e8%b2%a8%e6%9b%b4%e6%94%b9/?lang=zh-hant
ORGANIZER;CN="QBubble":MAILTO:info@qbubble.com
END:VEVENT
BEGIN:VEVENT
DTSTART;TZID=America/New_York:20230117T140000
DTEND;TZID=America/New_York:20230117T160000
DTSTAMP:20260424T043418
CREATED:20230111T155613Z
LAST-MODIFIED:20230111T155613Z
UID:7368-1673964000-1673971200@qbubble.com
SUMMARY:線上珍珠奶茶培訓班
DESCRIPTION:想計劃發展您的珍奶事業嗎？此課程非常適合您。 \n本週課程將傳授一些經典好喝的各種珍奶飲料:  經典珍珠奶茶\, 阿薩姆奶茶\, 百香果綠茶\, 草莓冰沙\, 卡布奇諾咖啡冰沙、等等。 \n該課還將傳授您如何（正確地）釀製綠茶、煮出Q彈有嚼勁的珍珠粉圓，為您的商店創造混和飲料以及融合美味的冰沙。 \n沒錯！我們是一家專門提供各式各樣珍珠奶茶的批發公司，所以您會發現奶蓋珍珠奶茶、漸層變色甜菜粉、藍色糖漿以及更多您能想像的任何品項：) \n客戶還將有機會看到Qbubble的更多獨家品項與最新產品！
URL:https://qbubble.com/event/%e7%b7%9a%e4%b8%8a%e7%8f%8d%e7%8f%a0%e5%a5%b6%e8%8c%b6%e5%9f%b9%e8%a8%93%e7%8f%ad-49/?lang=zh-hant
ORGANIZER;CN="QBubble":MAILTO:info@qbubble.com
END:VEVENT
BEGIN:VEVENT
DTSTART;TZID=America/New_York:20230113T140000
DTEND;TZID=America/New_York:20230113T160000
DTSTAMP:20260424T043418
CREATED:20230104T193507Z
LAST-MODIFIED:20230104T193507Z
UID:7358-1673618400-1673625600@qbubble.com
SUMMARY:春節網紅飲料班
DESCRIPTION:您需要一些菜單創意來促進冬季銷售嗎？這堂課將是您的最佳選擇！\n\n我們現正開設一月專屬特色飲料網課\, 本課程將展示五種春節主題網紅飲料!您可以將它們加入節日特別菜單中。該課程的座位有限，所以...快快報名吧！\n\n立即聯繫我們查詢報名吧！
URL:https://qbubble.com/event/%e6%98%a5%e7%af%80%e7%b6%b2%e7%b4%85%e9%a3%b2%e6%96%99%e7%8f%ad/?lang=zh-hant
ORGANIZER;CN="QBubble":MAILTO:info@qbubble.com
END:VEVENT
BEGIN:VEVENT
DTSTART;VALUE=DATE:20230102
DTEND;VALUE=DATE:20230103
DTSTAMP:20260424T043418
CREATED:20221219T223634Z
LAST-MODIFIED:20221219T224306Z
UID:7325-1672617600-1672703999@qbubble.com
SUMMARY:元旦送貨更改
DESCRIPTION:我們將於2023年1月2號休息一天。NJ/PA送貨會改成12月29號（星期四），而紐約市 送貨會改成1月3號 （星期二）。\n請儘早安排備貨下單！
URL:https://qbubble.com/event/%e7%8f%be%e5%a0%b4%e7%8f%8d%e7%8f%a0%e5%a5%b6%e8%8c%b6%e7%8f%ad-15/?lang=zh-hant
ORGANIZER;CN="QBubble":MAILTO:info@qbubble.com
END:VEVENT
BEGIN:VEVENT
DTSTART;VALUE=DATE:20221226
DTEND;VALUE=DATE:20221227
DTSTAMP:20260424T043418
CREATED:20221219T223940Z
LAST-MODIFIED:20221219T223940Z
UID:7329-1672012800-1672099199@qbubble.com
SUMMARY:聖誕節送貨更改
DESCRIPTION:我們將於12月26號休息一天。紐約市送貨會改成12月27號 （星期二）。\n請儘早安排備貨下單！
URL:https://qbubble.com/event/%e8%81%96%e8%aa%95%e7%af%80%e9%80%81%e8%b2%a8%e6%9b%b4%e6%94%b9/?lang=zh-hant
ORGANIZER;CN="QBubble":MAILTO:info@qbubble.com
END:VEVENT
BEGIN:VEVENT
DTSTART;TZID=America/New_York:20221220T140000
DTEND;TZID=America/New_York:20221220T160000
DTSTAMP:20260424T043418
CREATED:20221219T223743Z
LAST-MODIFIED:20221219T223743Z
UID:7327-1671544800-1671552000@qbubble.com
SUMMARY:線上珍珠奶茶培訓班
DESCRIPTION:嘗試為您的珍珠奶茶事業找到突破點嗎？此課程非常適合您。 \n本週課程將傳授一些經典好喝的各種珍奶飲料:  經典珍珠奶茶\, 阿薩姆奶茶\, 百香果綠茶\, 草莓冰沙\, 卡布奇諾咖啡冰沙、等等。 \n該課還將傳授您如何（正確地）釀製綠茶、煮出Q彈有嚼勁的珍珠粉圓，為您的商店創造混和飲料以及融合美味的冰沙。 \n沒錯！我們是一家專門提供各式各樣珍珠奶茶的批發公司，所以您會發現奶蓋珍珠奶茶、漸層變色甜菜粉、藍色糖漿以及更多您能想像的任何品項：) \n客戶還將有機會看到Qbubble的更多獨家品項與最新產品！
URL:https://qbubble.com/event/%e7%b7%9a%e4%b8%8a%e7%8f%8d%e7%8f%a0%e5%a5%b6%e8%8c%b6%e5%9f%b9%e8%a8%93%e7%8f%ad-48/?lang=zh-hant
ORGANIZER;CN="QBubble":MAILTO:info@qbubble.com
END:VEVENT
BEGIN:VEVENT
DTSTART;TZID=America/New_York:20221206T140000
DTEND;TZID=America/New_York:20221206T160000
DTSTAMP:20260424T043419
CREATED:20221130T155753Z
LAST-MODIFIED:20221130T155753Z
UID:7311-1670335200-1670342400@qbubble.com
SUMMARY:線上珍珠奶茶培訓班
DESCRIPTION:想計劃發展您的珍奶事業嗎？此課程非常適合您。 \n本週課程將傳授一些經典好喝的各種珍奶飲料:  經典珍珠奶茶\, 阿薩姆奶茶\, 百香果綠茶\, 草莓冰沙\, 卡布奇諾咖啡冰沙、等等。 \n該課還將傳授您如何（正確地）釀製綠茶、煮出Q彈有嚼勁的珍珠粉圓，為您的商店創造混和飲料以及融合美味的冰沙。 \n沒錯！我們是一家專門提供各式各樣珍珠奶茶的批發公司，所以您會發現奶蓋珍珠奶茶、漸層變色甜菜粉、藍色糖漿以及更多您能想像的任何品項：) \n客戶還將有機會看到Qbubble的更多獨家品項與最新產品！
URL:https://qbubble.com/event/%e7%b7%9a%e4%b8%8a%e7%8f%8d%e7%8f%a0%e5%a5%b6%e8%8c%b6%e5%9f%b9%e8%a8%93%e7%8f%ad-46/?lang=zh-hant
ORGANIZER;CN="QBubble":MAILTO:info@qbubble.com
END:VEVENT
BEGIN:VEVENT
DTSTART;VALUE=DATE:20221124
DTEND;VALUE=DATE:20221125
DTSTAMP:20260424T043419
CREATED:20221117T160507Z
LAST-MODIFIED:20221117T160507Z
UID:7300-1669248000-1669334399@qbubble.com
SUMMARY:感恩節送貨更改
DESCRIPTION:我們將於感恩節 11/24/2022 休息一天! 紐約上州送貨將改為 11/22 星期二。\n請儘早下單，以備因行程擁堵而無法安排送貨！如有不便，敬請見諒。
URL:https://qbubble.com/event/%e6%84%9f%e6%81%a9%e7%af%80%e9%80%81%e8%b2%a8%e6%9b%b4%e6%94%b9/?lang=zh-hant
ORGANIZER;CN="QBubble":MAILTO:info@qbubble.com
END:VEVENT
BEGIN:VEVENT
DTSTART;TZID=America/New_York:20221122T140000
DTEND;TZID=America/New_York:20221122T160000
DTSTAMP:20260424T043419
CREATED:20221130T160012Z
LAST-MODIFIED:20221130T160012Z
UID:7313-1669125600-1669132800@qbubble.com
SUMMARY:線上珍珠奶茶培訓班
DESCRIPTION:嘗試為您的珍珠奶茶事業找到突破點嗎？此課程非常適合您。 \n本週課程將傳授一些經典好喝的各種珍奶飲料:  經典珍珠奶茶\, 阿薩姆奶茶\, 百香果綠茶\, 草莓冰沙\, 卡布奇諾咖啡冰沙、等等。 \n該課還將傳授您如何（正確地）釀製綠茶、煮出Q彈有嚼勁的珍珠粉圓，為您的商店創造混和飲料以及融合美味的冰沙。 \n沒錯！我們是一家專門提供各式各樣珍珠奶茶的批發公司，所以您會發現奶蓋珍珠奶茶、漸層變色甜菜粉、藍色糖漿以及更多您能想像的任何品項：) \n客戶還將有機會看到Qbubble的更多獨家品項與最新產品！
URL:https://qbubble.com/event/%e7%b7%9a%e4%b8%8a%e7%8f%8d%e7%8f%a0%e5%a5%b6%e8%8c%b6%e5%9f%b9%e8%a8%93%e7%8f%ad-47/?lang=zh-hant
ORGANIZER;CN="QBubble":MAILTO:info@qbubble.com
END:VEVENT
BEGIN:VEVENT
DTSTART;TZID=America/New_York:20221117T140000
DTEND;TZID=America/New_York:20221117T160000
DTSTAMP:20260424T043419
CREATED:20221117T155721Z
LAST-MODIFIED:20221117T155932Z
UID:7294-1668693600-1668700800@qbubble.com
SUMMARY:現場珍珠奶茶班
DESCRIPTION:嘗試為您的珍珠奶茶事業找到突破點嗎？此課程非常適合您。 \n本週現場珍珠奶茶班將傳授一些經典好喝的各種珍奶飲料:  經典珍珠奶茶\, 阿薩姆奶茶\, 百香果綠茶\, 草莓冰沙\, 卡布奇諾咖啡冰沙、等等。 \n該課還將傳授您如何（正確地）釀製綠茶、煮出Q彈有嚼勁的珍珠粉圓，為您的商店創造混和飲料以及融合美味的冰沙。 \n沒錯！我們是一家專門提供各式各樣珍珠奶茶的批發公司，所以您會發現奶蓋珍珠奶茶、漸層變色甜菜粉、藍色糖漿以及更多您能想像的任何品項：) \n客戶還將有機會當場看到和品嚐Qbubble的更多獨家品項與最新產品！
URL:https://qbubble.com/event/%e7%b7%9a%e4%b8%8a%e7%8f%8d%e7%8f%a0%e5%a5%b6%e8%8c%b6%e5%9f%b9%e8%a8%93%e7%8f%ad-44/?lang=zh-hant
ORGANIZER;CN="QBubble":MAILTO:info@qbubble.com
END:VEVENT
BEGIN:VEVENT
DTSTART;TZID=America/New_York:20221109T140000
DTEND;TZID=America/New_York:20221109T160000
DTSTAMP:20260424T043419
CREATED:20221117T160050Z
LAST-MODIFIED:20221117T160050Z
UID:7298-1668002400-1668009600@qbubble.com
SUMMARY:線上珍珠奶茶培訓班
DESCRIPTION:想計劃發展您的珍奶事業嗎？此課程非常適合您。 \n本週課程將傳授一些經典好喝的各種珍奶飲料:  經典珍珠奶茶\, 阿薩姆奶茶\, 百香果綠茶\, 草莓冰沙\, 卡布奇諾咖啡冰沙、等等。 \n該課還將傳授您如何（正確地）釀製綠茶、煮出Q彈有嚼勁的珍珠粉圓，為您的商店創造混和飲料以及融合美味的冰沙。 \n沒錯！我們是一家專門提供各式各樣珍珠奶茶的批發公司，所以您會發現奶蓋珍珠奶茶、漸層變色甜菜粉、藍色糖漿以及更多您能想像的任何品項：) \n客戶還將有機會看到Qbubble的更多獨家品項與最新產品！
URL:https://qbubble.com/event/%e7%b7%9a%e4%b8%8a%e7%8f%8d%e7%8f%a0%e5%a5%b6%e8%8c%b6%e5%9f%b9%e8%a8%93%e7%8f%ad-45/?lang=zh-hant
ORGANIZER;CN="QBubble":MAILTO:info@qbubble.com
END:VEVENT
BEGIN:VEVENT
DTSTART;TZID=UTC:20221103T140000
DTEND;TZID=UTC:20221103T160000
DTSTAMP:20260424T043419
CREATED:20221101T191814Z
LAST-MODIFIED:20221101T191814Z
UID:7286-1667484000-1667491200@qbubble.com
SUMMARY:現場珍珠奶茶班
DESCRIPTION:嘗試為您的珍珠奶茶事業找到突破點嗎？此課程非常適合您。 \n本週現場珍珠奶茶班將傳授一些經典好喝的各種珍奶飲料:  經典珍珠奶茶\, 阿薩姆奶茶\, 百香果綠茶\, 草莓冰沙\, 卡布奇諾咖啡冰沙、等等。 \n該課還將傳授您如何（正確地）釀製綠茶、煮出Q彈有嚼勁的珍珠粉圓，為您的商店創造混和飲料以及融合美味的冰沙。 \n沒錯！我們是一家專門提供各式各樣珍珠奶茶的批發公司，所以您會發現奶蓋珍珠奶茶、漸層變色甜菜粉、藍色糖漿以及更多您能想像的任何品項：) \n客戶還將有機會當場看到和品嚐Qbubble的更多獨家品項與最新產品！ \n請來電718-358-5868諮詢和報名
URL:https://qbubble.com/event/%e7%8f%be%e5%a0%b4%e7%8f%8d%e7%8f%a0%e5%a5%b6%e8%8c%b6%e7%8f%ad-14/?lang=zh-hant
ORGANIZER;CN="QBubble":MAILTO:info@qbubble.com
END:VEVENT
BEGIN:VEVENT
DTSTART;TZID=UTC:20221101T140000
DTEND;TZID=UTC:20221101T160000
DTSTAMP:20260424T043419
CREATED:20221101T191655Z
LAST-MODIFIED:20221101T191655Z
UID:7284-1667311200-1667318400@qbubble.com
SUMMARY:線上珍珠奶茶培訓班
DESCRIPTION:想計劃發展您的珍奶事業嗎？此課程非常適合您。 \n本週課程將傳授一些經典好喝的各種珍奶飲料:  經典珍珠奶茶\, 阿薩姆奶茶\, 百香果綠茶\, 草莓冰沙\, 卡布奇諾咖啡冰沙、等等。 \n該課還將傳授您如何（正確地）釀製綠茶、煮出Q彈有嚼勁的珍珠粉圓，為您的商店創造混和飲料以及融合美味的冰沙。 \n沒錯！我們是一家專門提供各式各樣珍珠奶茶的批發公司，所以您會發現奶蓋珍珠奶茶、漸層變色甜菜粉、藍色糖漿以及更多您能想像的任何品項：) \n客戶還將有機會看到Qbubble的更多獨家品項與最新產品！
URL:https://qbubble.com/event/%e7%b7%9a%e4%b8%8a%e7%8f%8d%e7%8f%a0%e5%a5%b6%e8%8c%b6%e5%9f%b9%e8%a8%93%e7%8f%ad-43/?lang=zh-hant
ORGANIZER;CN="QBubble":MAILTO:info@qbubble.com
END:VEVENT
BEGIN:VEVENT
DTSTART;TZID=UTC:20221018T140000
DTEND;TZID=UTC:20221018T160000
DTSTAMP:20260424T043419
CREATED:20221014T201144Z
LAST-MODIFIED:20221014T201144Z
UID:7276-1666101600-1666108800@qbubble.com
SUMMARY:網紅珍奶線上培訓班
DESCRIPTION:想升級您的菜單追上流行飲料趨勢嗎？此課程就對了! \n本週課程將傳授茶寶2022新品網紅珍奶飲料: 烤布雷黑糖珍珠髒髒茶\, 蛋糕布蕾奶茶\, 3層漸層果茶\, 琥珀泰式抹茶奶茶\, 紫薯髒髒茶\, 抹茶髒髒茶\, 清涼荔枝草莓飲料\, 等等。 \n沒錯！我們是一家專門提供各式各樣珍珠奶茶的批發公司，所以您會發現奶蓋珍珠奶茶、漸層變色甜菜粉、藍色糖漿以及更多您能想像的任何品項：)
URL:https://qbubble.com/event/%e7%b6%b2%e7%b4%85%e7%8f%8d%e5%a5%b6%e7%b7%9a%e4%b8%8a%e5%9f%b9%e8%a8%93%e7%8f%ad-21/?lang=zh-hant
ORGANIZER;CN="QBubble":MAILTO:info@qbubble.com
END:VEVENT
BEGIN:VEVENT
DTSTART;TZID=UTC:20221011T140000
DTEND;TZID=UTC:20221011T160000
DTSTAMP:20260424T043419
CREATED:20221014T201028Z
LAST-MODIFIED:20221014T201028Z
UID:7274-1665496800-1665504000@qbubble.com
SUMMARY:線上珍珠奶茶培訓班
DESCRIPTION:想計劃發展您的珍奶事業嗎？此課程非常適合您。 \n本週課程將傳授一些經典好喝的各種珍奶飲料:  經典珍珠奶茶\, 阿薩姆奶茶\, 百香果綠茶\, 草莓冰沙\, 卡布奇諾咖啡冰沙、等等。 \n該課還將傳授您如何（正確地）釀製綠茶、煮出Q彈有嚼勁的珍珠粉圓，為您的商店創造混和飲料以及融合美味的冰沙。 \n沒錯！我們是一家專門提供各式各樣珍珠奶茶的批發公司，所以您會發現奶蓋珍珠奶茶、漸層變色甜菜粉、藍色糖漿以及更多您能想像的任何品項：) \n客戶還將有機會看到Qbubble的更多獨家品項與最新產品！
URL:https://qbubble.com/event/%e7%b7%9a%e4%b8%8a%e7%8f%8d%e7%8f%a0%e5%a5%b6%e8%8c%b6%e5%9f%b9%e8%a8%93%e7%8f%ad-42/?lang=zh-hant
ORGANIZER;CN="QBubble":MAILTO:info@qbubble.com
END:VEVENT
BEGIN:VEVENT
DTSTART;TZID=UTC:20221004T140000
DTEND;TZID=UTC:20221004T160000
DTSTAMP:20260424T043419
CREATED:20220927T162622Z
LAST-MODIFIED:20220927T162622Z
UID:7254-1664892000-1664899200@qbubble.com
SUMMARY:現場珍珠奶茶班
DESCRIPTION:想計劃發展您的珍奶事業嗎？此課程非常適合您。 \n本週現場珍珠奶茶班將傳授一些經典好喝的各種珍奶飲料:  經典珍珠奶茶\, 阿薩姆奶茶\, 百香果綠茶\, 草莓冰沙\, 卡布奇諾咖啡冰沙、等等。 \n該課還將傳授您如何（正確地）釀製綠茶、煮出Q彈有嚼勁的珍珠粉圓，為您的商店創造混和飲料以及融合美味的冰沙。 \n沒錯！我們是一家專門提供各式各樣珍珠奶茶的批發公司，所以您會發現奶蓋珍珠奶茶、漸層變色甜菜粉、藍色糖漿以及更多您能想像的任何品項：) \n客戶還將有機會當場看到和品嚐Qbubble的更多獨家品項與最新產品！
URL:https://qbubble.com/event/%e7%8f%be%e5%a0%b4%e7%8f%8d%e7%8f%a0%e5%a5%b6%e8%8c%b6%e7%8f%ad-13/?lang=zh-hant
ORGANIZER;CN="QBubble":MAILTO:info@qbubble.com
END:VEVENT
BEGIN:VEVENT
DTSTART;TZID=UTC:20220929T140000
DTEND;TZID=UTC:20220929T160000
DTSTAMP:20260424T043419
CREATED:20220927T162453Z
LAST-MODIFIED:20220927T162453Z
UID:7252-1664460000-1664467200@qbubble.com
SUMMARY:線上珍珠奶茶培訓班
DESCRIPTION:嘗試為您的珍珠奶茶事業找到突破點嗎？此課程非常適合您。 \n本週課程將傳授一些經典好喝的各種珍奶飲料:  經典珍珠奶茶\, 阿薩姆奶茶\, 百香果綠茶\, 草莓冰沙\, 卡布奇諾咖啡冰沙、等等。 \n該課還將傳授您如何（正確地）釀製綠茶、煮出Q彈有嚼勁的珍珠粉圓，為您的商店創造混和飲料以及融合美味的冰沙。 \n沒錯！我們是一家專門提供各式各樣珍珠奶茶的批發公司，所以您會發現奶蓋珍珠奶茶、漸層變色甜菜粉、藍色糖漿以及更多您能想像的任何品項：) \n客戶還將有機會看到Qbubble的更多獨家品項與最新產品！
URL:https://qbubble.com/event/%e7%b7%9a%e4%b8%8a%e7%8f%8d%e7%8f%a0%e5%a5%b6%e8%8c%b6%e5%9f%b9%e8%a8%93%e7%8f%ad-41/?lang=zh-hant
ORGANIZER;CN="QBubble":MAILTO:info@qbubble.com
END:VEVENT
BEGIN:VEVENT
DTSTART;TZID=UTC:20220922T140000
DTEND;TZID=UTC:20220922T160000
DTSTAMP:20260424T043419
CREATED:20220927T162324Z
LAST-MODIFIED:20220927T162324Z
UID:7250-1663855200-1663862400@qbubble.com
SUMMARY:現場珍珠奶茶班
DESCRIPTION:想計劃發展您的珍奶事業嗎？此課程非常適合您。 \n本週現場珍珠奶茶班將傳授一些經典好喝的各種珍奶飲料:  經典珍珠奶茶\, 阿薩姆奶茶\, 百香果綠茶\, 草莓冰沙\, 卡布奇諾咖啡冰沙、等等。 \n該課還將傳授您如何（正確地）釀製綠茶、煮出Q彈有嚼勁的珍珠粉圓，為您的商店創造混和飲料以及融合美味的冰沙。 \n沒錯！我們是一家專門提供各式各樣珍珠奶茶的批發公司，所以您會發現奶蓋珍珠奶茶、漸層變色甜菜粉、藍色糖漿以及更多您能想像的任何品項：) \n客戶還將有機會當場看到和品嚐Qbubble的更多獨家品項與最新產品！
URL:https://qbubble.com/event/%e7%8f%be%e5%a0%b4%e7%8f%8d%e7%8f%a0%e5%a5%b6%e8%8c%b6%e7%8f%ad-12/?lang=zh-hant
ORGANIZER;CN="QBubble":MAILTO:info@qbubble.com
END:VEVENT
BEGIN:VEVENT
DTSTART;TZID=UTC:20220913T140000
DTEND;TZID=UTC:20220913T160000
DTSTAMP:20260424T043419
CREATED:20220920T153736Z
LAST-MODIFIED:20220920T153736Z
UID:7234-1663077600-1663084800@qbubble.com
SUMMARY:線上珍珠奶茶培訓班
DESCRIPTION:想計劃發展您的珍奶事業嗎？此課程非常適合您。 \n本週課程將傳授一些經典好喝的各種珍奶飲料:  經典珍珠奶茶\, 阿薩姆奶茶\, 百香果綠茶\, 草莓冰沙\, 卡布奇諾咖啡冰沙、等等。 \n該課還將傳授您如何（正確地）釀製綠茶、煮出Q彈有嚼勁的珍珠粉圓，為您的商店創造混和飲料以及融合美味的冰沙。 \n沒錯！我們是一家專門提供各式各樣珍珠奶茶的批發公司，所以您會發現奶蓋珍珠奶茶、漸層變色甜菜粉、藍色糖漿以及更多您能想像的任何品項：) \n客戶還將有機會看到Qbubble的更多獨家品項與最新產品！
URL:https://qbubble.com/event/%e7%b7%9a%e4%b8%8a%e7%8f%8d%e7%8f%a0%e5%a5%b6%e8%8c%b6%e5%9f%b9%e8%a8%93%e7%8f%ad-40/?lang=zh-hant
ORGANIZER;CN="QBubble":MAILTO:info@qbubble.com
END:VEVENT
BEGIN:VEVENT
DTSTART;TZID=UTC:20220907T140000
DTEND;TZID=UTC:20220907T160000
DTSTAMP:20260424T043419
CREATED:20220907T194400Z
LAST-MODIFIED:20220907T194400Z
UID:7210-1662559200-1662566400@qbubble.com
SUMMARY:現場珍珠奶茶班
DESCRIPTION:嘗試為您的珍珠奶茶事業找到突破點嗎？此課程非常適合您。 \n本週現場珍珠奶茶班將傳授一些經典好喝的各種珍奶飲料:  經典珍珠奶茶\, 阿薩姆奶茶\, 百香果綠茶\, 草莓冰沙\, 卡布奇諾咖啡冰沙、等等。 \n該課還將傳授您如何（正確地）釀製綠茶、煮出Q彈有嚼勁的珍珠粉圓，為您的商店創造混和飲料以及融合美味的冰沙。 \n沒錯！我們是一家專門提供各式各樣珍珠奶茶的批發公司，所以您會發現奶蓋珍珠奶茶、漸層變色甜菜粉、藍色糖漿以及更多您能想像的任何品項：) \n客戶還將有機會當場看到和品嚐Qbubble的更多獨家品項與最新產品！
URL:https://qbubble.com/event/%e7%8f%be%e5%a0%b4%e7%8f%8d%e7%8f%a0%e5%a5%b6%e8%8c%b6%e7%8f%ad-11/?lang=zh-hant
ORGANIZER;CN="QBubble":MAILTO:info@qbubble.com
END:VEVENT
BEGIN:VEVENT
DTSTART;VALUE=DATE:20220905
DTEND;VALUE=DATE:20220906
DTSTAMP:20260424T043419
CREATED:20220824T153207Z
LAST-MODIFIED:20220824T153207Z
UID:7199-1662336000-1662422399@qbubble.com
SUMMARY:勞動節送貨更改
DESCRIPTION:我們將於勞動節 9/5/2022 休息一天! 新澤西州/賓州送貨將改為 8/30 星期二\, 紐約市送貨將改為 9/6 星期二。 \n請儘早下單，以備因行程擁堵而無法安排送貨！如有不便，敬請見諒。
URL:https://qbubble.com/event/%e5%8b%9e%e5%8b%95%e7%af%80%e9%80%81%e8%b2%a8%e6%9b%b4%e6%94%b9/?lang=zh-hant
ORGANIZER;CN="QBubble":MAILTO:info@qbubble.com
END:VEVENT
END:VCALENDAR