BEGIN:VCALENDAR
VERSION:2.0
PRODID:-//茶宝 Qbubble - ECPv6.15.20//NONSGML v1.0//EN
CALSCALE:GREGORIAN
METHOD:PUBLISH
X-ORIGINAL-URL:https://qbubble.com
X-WR-CALDESC:Events for 茶宝 Qbubble
REFRESH-INTERVAL;VALUE=DURATION:PT1H
X-Robots-Tag:noindex
X-PUBLISHED-TTL:PT1H
BEGIN:VTIMEZONE
TZID:America/New_York
BEGIN:DAYLIGHT
TZOFFSETFROM:-0500
TZOFFSETTO:-0400
TZNAME:EDT
DTSTART:20240310T070000
END:DAYLIGHT
BEGIN:STANDARD
TZOFFSETFROM:-0400
TZOFFSETTO:-0500
TZNAME:EST
DTSTART:20241103T060000
END:STANDARD
BEGIN:DAYLIGHT
TZOFFSETFROM:-0500
TZOFFSETTO:-0400
TZNAME:EDT
DTSTART:20250309T070000
END:DAYLIGHT
BEGIN:STANDARD
TZOFFSETFROM:-0400
TZOFFSETTO:-0500
TZNAME:EST
DTSTART:20251102T060000
END:STANDARD
BEGIN:DAYLIGHT
TZOFFSETFROM:-0500
TZOFFSETTO:-0400
TZNAME:EDT
DTSTART:20260308T070000
END:DAYLIGHT
BEGIN:STANDARD
TZOFFSETFROM:-0400
TZOFFSETTO:-0500
TZNAME:EST
DTSTART:20261101T060000
END:STANDARD
BEGIN:DAYLIGHT
TZOFFSETFROM:-0500
TZOFFSETTO:-0400
TZNAME:EDT
DTSTART:20270314T070000
END:DAYLIGHT
BEGIN:STANDARD
TZOFFSETFROM:-0400
TZOFFSETTO:-0500
TZNAME:EST
DTSTART:20271107T060000
END:STANDARD
END:VTIMEZONE
BEGIN:VEVENT
DTSTART;TZID=America/New_York:20251231T160000
DTEND;TZID=America/New_York:20260101T180000
DTSTAMP:20260423T070104
CREATED:20251215T185726Z
LAST-MODIFIED:20251215T185726Z
UID:8556-1767196800-1767290400@qbubble.com
SUMMARY:New Year Delivery Change
DESCRIPTION:We will close early at 4pm on New Years Eve (01/31) and close for New Years (1/1). \n12/29 (Mon) will be NYC & NJ Delivery and 12/30 (Tues) will be CT/MA delivery.
URL:https://qbubble.com/event/new-year-delivery-change/
ORGANIZER;CN="QBubble":MAILTO:info@qbubble.com
END:VEVENT
BEGIN:VEVENT
DTSTART;TZID=America/New_York:20260108T140000
DTEND;TZID=America/New_York:20260108T160000
DTSTAMP:20260423T070104
CREATED:20260107T160312Z
LAST-MODIFIED:20260107T160312Z
UID:8567-1767880800-1767888000@qbubble.com
SUMMARY:In-Person Bubble Tea Class
DESCRIPTION:Looking to find a break through point for your business? This class is for you! \nOur in-person bubble tea class will demo some classic and delicious bubble tea drinks this week! Classic Boba Milk Tea\, Assam Milk Tea\, Passionfruit Green Tea\, Cappuccino Slush\, Strawberry Smoothie and many more! \nThe class will also teach how to (properly) brew black and green tea\, to cook the tender tapioca\, to create drinks for your store and how to blend delicious smoothies. \nYes! We are a wholesale company that specializes bubble tea varieties\, so you will find milk foam bubble tea\, color changing beet powder\, blue syrup and more stuff than you could think of. \nCustomers will also have a chance to see and taste the varieties and latest products in Qbubble!
URL:https://qbubble.com/event/in-person-bubble-tea-class-54/
ORGANIZER;CN="QBubble":MAILTO:info@qbubble.com
END:VEVENT
BEGIN:VEVENT
DTSTART;TZID=America/New_York:20260115T140000
DTEND;TZID=America/New_York:20260115T160000
DTSTAMP:20260423T070104
CREATED:20260107T160431Z
LAST-MODIFIED:20260107T160431Z
UID:8569-1768485600-1768492800@qbubble.com
SUMMARY:Online Bubble Tea Zoom Class
DESCRIPTION:Looking to find a break through point for your business? This class is for you. \nOur Zoom online bubble tea class will demo some classic and delicious bubble tea drinks this week! Classic Boba Milk Tea\, Assam Milk Tea\, Passionfruit Green Tea\, Cappuccino Slush\, Strawberry Smoothie and many more! \nThe class will also teach how to (properly) brew black and green tea\, cook the tender tapioca\, create drinks for your store and how to blend delicious smoothies. \nYes! We are a wholesale company that specializes bubble tea varieties\, so you will find milk foam bubble tea\, color changing beet powder\, blue syrup and more stuff than you could think of. \nCustomers will also have a chance to see the varieties and latest products in Qbubble!
URL:https://qbubble.com/event/online-bubble-tea-zoom-class-93/
ORGANIZER;CN="QBubble":MAILTO:info@qbubble.com
END:VEVENT
BEGIN:VEVENT
DTSTART;TZID=America/New_York:20260212T140000
DTEND;TZID=America/New_York:20260212T160000
DTSTAMP:20260423T070104
CREATED:20260210T154420Z
LAST-MODIFIED:20260210T154420Z
UID:8591-1770904800-1770912000@qbubble.com
SUMMARY:Online Bubble Tea Zoom Class
DESCRIPTION:Looking to find a break through point for your business? This class is for you. \nOur Zoom online bubble tea class will demo some classic and delicious bubble tea drinks this week! Classic Boba Milk Tea\, Assam Milk Tea\, Passionfruit Green Tea\, Cappuccino Slush\, Strawberry Smoothie and many more! \nThe class will also teach how to (properly) brew black and green tea\, cook the tender tapioca\, create drinks for your store and how to blend delicious smoothies. \nYes! We are a wholesale company that specializes bubble tea varieties\, so you will find milk foam bubble tea\, color changing beet powder\, blue syrup and more stuff than you could think of. \nCustomers will also have a chance to see the varieties and latest products in Qbubble!
URL:https://qbubble.com/event/online-bubble-tea-zoom-class-94/
ORGANIZER;CN="QBubble":MAILTO:info@qbubble.com
END:VEVENT
BEGIN:VEVENT
DTSTART;TZID=America/New_York:20260216T160000
DTEND;TZID=America/New_York:20260217T180000
DTSTAMP:20260423T070104
CREATED:20260210T153230Z
LAST-MODIFIED:20260210T153316Z
UID:8583-1771257600-1771351200@qbubble.com
SUMMARY:Chinese New Year Delivery Change
DESCRIPTION:Office hours and delivery arrangements will be changed for Chinese New Year: \n2/12 (Thurs) – NJ/PA delivery day \n2/16 (Mon) – Chinese New Year Eve – We will close early at 4PM. \n2/17 (Tues) – Chinese New Year Day – We will be closed – No Delivery on this day
URL:https://qbubble.com/event/chinese-new-year-delivery-change-3/
ORGANIZER;CN="QBubble":MAILTO:info@qbubble.com
END:VEVENT
BEGIN:VEVENT
DTSTART;TZID=America/New_York:20260312T140000
DTEND;TZID=America/New_York:20260312T160000
DTSTAMP:20260423T070104
CREATED:20260305T182229Z
LAST-MODIFIED:20260305T182229Z
UID:8607-1773324000-1773331200@qbubble.com
SUMMARY:Online Bubble Tea Zoom Class
DESCRIPTION:Looking to find a break through point for your business? This class is for you. \nOur Zoom online bubble tea class will demo some classic and delicious bubble tea drinks this week! Classic Boba Milk Tea\, Assam Milk Tea\, Passionfruit Green Tea\, Cappuccino Slush\, Strawberry Smoothie and many more! \nThe class will also teach how to (properly) brew black and green tea\, cook the tender tapioca\, create drinks for your store and how to blend delicious smoothies. \nYes! We are a wholesale company that specializes bubble tea varieties\, so you will find milk foam bubble tea\, color changing beet powder\, blue syrup and more stuff than you could think of. \nCustomers will also have a chance to see the varieties and latest products in Qbubble!
URL:https://qbubble.com/event/online-bubble-tea-zoom-class-95/
ORGANIZER;CN="QBubble":MAILTO:info@qbubble.com
END:VEVENT
BEGIN:VEVENT
DTSTART;TZID=America/New_York:20260319T140000
DTEND;TZID=America/New_York:20260319T160000
DTSTAMP:20260423T070104
CREATED:20260305T182342Z
LAST-MODIFIED:20260305T182342Z
UID:8609-1773928800-1773936000@qbubble.com
SUMMARY:In-Person Bubble Tea Class
DESCRIPTION:Looking to find a break through point for your business? This class is for you! \nOur in-person bubble tea class will demo some classic and delicious bubble tea drinks this week! Classic Boba Milk Tea\, Assam Milk Tea\, Passionfruit Green Tea\, Cappuccino Slush\, Strawberry Smoothie and many more! \nThe class will also teach how to (properly) brew black and green tea\, to cook the tender tapioca\, to create drinks for your store and how to blend delicious smoothies. \nYes! We are a wholesale company that specializes bubble tea varieties\, so you will find milk foam bubble tea\, color changing beet powder\, blue syrup and more stuff than you could think of. \nCustomers will also have a chance to see and taste the varieties and latest products in Qbubble! \nCall us at 718-358-5868 to inquire registration details!
URL:https://qbubble.com/event/in-person-bubble-tea-class-55/
ORGANIZER;CN="QBubble":MAILTO:info@qbubble.com
END:VEVENT
BEGIN:VEVENT
DTSTART;TZID=America/New_York:20260402T140000
DTEND;TZID=America/New_York:20260402T160000
DTSTAMP:20260423T070104
CREATED:20260330T160440Z
LAST-MODIFIED:20260330T160440Z
UID:8634-1775138400-1775145600@qbubble.com
SUMMARY:In-Person Bubble Tea Class
DESCRIPTION:Looking to find a break through point for your business? This class is for you! \nOur in-person bubble tea class will demo some classic and delicious bubble tea drinks this week! Classic Boba Milk Tea\, Assam Milk Tea\, Passionfruit Green Tea\, Cappuccino Slush\, Strawberry Smoothie and many more! \nThe class will also teach how to (properly) brew black and green tea\, to cook the tender tapioca\, to create drinks for your store and how to blend delicious smoothies. \nYes! We are a wholesale company that specializes bubble tea varieties\, so you will find milk foam bubble tea\, color changing beet powder\, blue syrup and more stuff than you could think of. \nCustomers will also have a chance to see and taste the varieties and latest products in Qbubble! \nCall us at 718-358-5868 to inquire registration details!
URL:https://qbubble.com/event/in-person-bubble-tea-class-56/
ORGANIZER;CN="QBubble":MAILTO:info@qbubble.com
END:VEVENT
BEGIN:VEVENT
DTSTART;TZID=America/New_York:20260409T140000
DTEND;TZID=America/New_York:20260409T160000
DTSTAMP:20260423T070104
CREATED:20260330T160553Z
LAST-MODIFIED:20260330T160553Z
UID:8636-1775743200-1775750400@qbubble.com
SUMMARY:Online Bubble Tea Zoom Class
DESCRIPTION:Looking to find a break through point for your business? This class is for you. \nOur Zoom online bubble tea class will demo some classic and delicious bubble tea drinks this week! Classic Boba Milk Tea\, Assam Milk Tea\, Passionfruit Green Tea\, Cappuccino Slush\, Strawberry Smoothie and many more! \nThe class will also teach how to (properly) brew black and green tea\, cook the tender tapioca\, create drinks for your store and how to blend delicious smoothies. \nYes! We are a wholesale company that specializes bubble tea varieties\, so you will find milk foam bubble tea\, color changing beet powder\, blue syrup and more stuff than you could think of. \nCustomers will also have a chance to see the varieties and latest products in Qbubble!
URL:https://qbubble.com/event/online-bubble-tea-zoom-class-96/
ORGANIZER;CN="QBubble":MAILTO:info@qbubble.com
END:VEVENT
END:VCALENDAR