BEGIN:VCALENDAR
VERSION:2.0
PRODID:-//茶宝 QBubble Troika J C Inc. - ECPv6.15.20//NONSGML v1.0//EN
CALSCALE:GREGORIAN
METHOD:PUBLISH
X-WR-CALNAME:茶宝 QBubble Troika J C Inc.
X-ORIGINAL-URL:https://qbubble.com/?lang=zh-hant
X-WR-CALDESC:Events for 茶宝 QBubble Troika J C Inc.
REFRESH-INTERVAL;VALUE=DURATION:PT1H
X-Robots-Tag:noindex
X-PUBLISHED-TTL:PT1H
BEGIN:VTIMEZONE
TZID:America/New_York
BEGIN:DAYLIGHT
TZOFFSETFROM:-0500
TZOFFSETTO:-0400
TZNAME:EDT
DTSTART:20250309T070000
END:DAYLIGHT
BEGIN:STANDARD
TZOFFSETFROM:-0400
TZOFFSETTO:-0500
TZNAME:EST
DTSTART:20251102T060000
END:STANDARD
BEGIN:DAYLIGHT
TZOFFSETFROM:-0500
TZOFFSETTO:-0400
TZNAME:EDT
DTSTART:20260308T070000
END:DAYLIGHT
BEGIN:STANDARD
TZOFFSETFROM:-0400
TZOFFSETTO:-0500
TZNAME:EST
DTSTART:20261101T060000
END:STANDARD
BEGIN:DAYLIGHT
TZOFFSETFROM:-0500
TZOFFSETTO:-0400
TZNAME:EDT
DTSTART:20270314T070000
END:DAYLIGHT
BEGIN:STANDARD
TZOFFSETFROM:-0400
TZOFFSETTO:-0500
TZNAME:EST
DTSTART:20271107T060000
END:STANDARD
END:VTIMEZONE
BEGIN:VEVENT
DTSTART;TZID=America/New_York:20260216T160000
DTEND;TZID=America/New_York:20260217T180000
DTSTAMP:20260423T065935
CREATED:20260210T153911Z
LAST-MODIFIED:20260210T153911Z
UID:8586-1771257600-1771351200@qbubble.com
SUMMARY:春節送貨更改
DESCRIPTION:因應春節假日，我們的營業時間和送貨安排將有更改： \n2/12/26 （周四） – NJ/PA 費城送貨 \n2/16/26 （周一） – 年三十 – 提早下午4點下班 \n2/17/26 （周二） – 年初一 – 休息一天 * 沒有送貨服務 \n請提早訂單以確保送貨安排!
URL:https://qbubble.com/event/%e6%98%a5%e7%af%80%e9%80%81%e8%b2%a8%e6%9b%b4%e6%94%b9-3/?lang=zh-hant
ORGANIZER;CN="QBubble":MAILTO:info@qbubble.com
END:VEVENT
END:VCALENDAR