BEGIN:VCALENDAR
VERSION:2.0
PRODID:-//茶宝 Qbubble - ECPv6.15.20//NONSGML v1.0//EN
CALSCALE:GREGORIAN
METHOD:PUBLISH
X-WR-CALNAME:茶宝 Qbubble
X-ORIGINAL-URL:https://qbubble.com
X-WR-CALDESC:Events for 茶宝 Qbubble
REFRESH-INTERVAL;VALUE=DURATION:PT1H
X-Robots-Tag:noindex
X-PUBLISHED-TTL:PT1H
BEGIN:VTIMEZONE
TZID:America/New_York
BEGIN:DAYLIGHT
TZOFFSETFROM:-0500
TZOFFSETTO:-0400
TZNAME:EDT
DTSTART:20240310T070000
END:DAYLIGHT
BEGIN:STANDARD
TZOFFSETFROM:-0400
TZOFFSETTO:-0500
TZNAME:EST
DTSTART:20241103T060000
END:STANDARD
BEGIN:DAYLIGHT
TZOFFSETFROM:-0500
TZOFFSETTO:-0400
TZNAME:EDT
DTSTART:20250309T070000
END:DAYLIGHT
BEGIN:STANDARD
TZOFFSETFROM:-0400
TZOFFSETTO:-0500
TZNAME:EST
DTSTART:20251102T060000
END:STANDARD
BEGIN:DAYLIGHT
TZOFFSETFROM:-0500
TZOFFSETTO:-0400
TZNAME:EDT
DTSTART:20260308T070000
END:DAYLIGHT
BEGIN:STANDARD
TZOFFSETFROM:-0400
TZOFFSETTO:-0500
TZNAME:EST
DTSTART:20261101T060000
END:STANDARD
END:VTIMEZONE
BEGIN:VEVENT
DTSTART;TZID=America/New_York:20251014T140000
DTEND;TZID=America/New_York:20251014T160000
DTSTAMP:20260423T192144
CREATED:20251007T142951Z
LAST-MODIFIED:20251007T142951Z
UID:8487-1760450400-1760457600@qbubble.com
SUMMARY:Specialty Online Bubble Tea Class
DESCRIPTION:Thinking of upgrading your menu to go with the trend? Perfect online class for you! \nThis week’s online class will be demonstrating some of the trendy bubble tea drinks such as Brown Sugar Boba Milk Tea\, Crème Brulee Milk Tea\, Jasmine Thai Milk Tea\, easily made Sparkling drink series such as Passionfruit Sparkling\, Grapefruit Sparkling Tea\, and many more! \nYes! We are a wholesale company that specialize bubble tea varieties\, so you will find milk foam bubble tea\, color changing beet powder\, blue syrup and more stuff than you could think of. You will get to see our newest products and recipes at the class!
URL:https://qbubble.com/event/specialty-online-bubble-tea-class-13/
ORGANIZER;CN="QBubble":MAILTO:info@qbubble.com
END:VEVENT
END:VCALENDAR